BEGIN:VCALENDAR
VERSION:2.0
PRODID:-//Luxford Theatre Trips - ECPv6.15.20//NONSGML v1.0//EN
CALSCALE:GREGORIAN
METHOD:PUBLISH
X-WR-CALNAME:Luxford Theatre Trips
X-ORIGINAL-URL:https://luxfordtheatretrips.co.uk
X-WR-CALDESC:Events for Luxford Theatre Trips
REFRESH-INTERVAL;VALUE=DURATION:PT1H
X-Robots-Tag:noindex
X-PUBLISHED-TTL:PT1H
BEGIN:VTIMEZONE
TZID:Europe/London
BEGIN:DAYLIGHT
TZOFFSETFROM:+0000
TZOFFSETTO:+0100
TZNAME:BST
DTSTART:20240331T010000
END:DAYLIGHT
BEGIN:STANDARD
TZOFFSETFROM:+0100
TZOFFSETTO:+0000
TZNAME:GMT
DTSTART:20241027T010000
END:STANDARD
BEGIN:DAYLIGHT
TZOFFSETFROM:+0000
TZOFFSETTO:+0100
TZNAME:BST
DTSTART:20250330T010000
END:DAYLIGHT
BEGIN:STANDARD
TZOFFSETFROM:+0100
TZOFFSETTO:+0000
TZNAME:GMT
DTSTART:20251026T010000
END:STANDARD
BEGIN:DAYLIGHT
TZOFFSETFROM:+0000
TZOFFSETTO:+0100
TZNAME:BST
DTSTART:20260329T010000
END:DAYLIGHT
BEGIN:STANDARD
TZOFFSETFROM:+0100
TZOFFSETTO:+0000
TZNAME:GMT
DTSTART:20261025T010000
END:STANDARD
END:VTIMEZONE
BEGIN:VEVENT
DTSTART;TZID=Europe/London:20251122T113000
DTEND;TZID=Europe/London:20251122T180000
DTSTAMP:20260420T221252
CREATED:20250716T144025Z
LAST-MODIFIED:20251117T112924Z
UID:114428-1763811000-1763834400@luxfordtheatretrips.co.uk
SUMMARY:Bicester shopping day
DESCRIPTION:Bicester Village sits in the heart of the Oxfordshire countryside and\, is home to more than 150 boutiques of world renowned fashion and lifestyle brands – all offering remarkable savings on the original retail price. Discover designer shopping and an array of exquisite eateries serving up seasonal fare and international cuisine in a unique open-air setting.  \nIf you haven’t started that Christmas shopping\, here is the place to start.  \nKath Kidston\, Jack Wills\, Fat Face\, Jessops\, Allsaints\, Fendi\, Charlotte Tilbury\, UGG\, Manolo Blahnik\, Mulberry\, Smythson\, Gucci\, Max Mara\, Jimmy Choo\, Michael Kors\, Burberry\, Dior\, Prada\, Versace\, Valentino\, Orlebar Brown\, Balenciaga\, Anya Hindmarch\, Vivienne Westwood\, Links of London and Lulu Guinness are some of the outlets you will find there. \nWe aim to arrive around 11.30am and leave at 6pm \nWitham – Bus stop Outside Paddy Power Newland Street Witham CM8 1AH – 0830hrs\nGreat Notley\, Entrance to White Courts Estate\, Windermere Drive\, CM77 7UB – 0850hrs\nDunmow\, Opposite The Flitch House\, High Street\, CM6 1AE – 0910hrs\nTakeley\, Opposite The Four Ashes\, Dunmow Road\, CM22 6SB – 0915hrs
URL:https://luxfordtheatretrips.co.uk/event/bicester-shopping-day/
LOCATION:Bicester Shopping Village\, Pingle Drive\, Bicester\, OX26 6WD\, United Kingdom
CATEGORIES:Day Trip,Great Notley Route,Witham Pick-up
ATTACH;FMTTYPE=image/jpeg:https://luxfordtheatretrips.co.uk/wp-content/uploads/2025/07/bicester-website.jpg
ORGANIZER;CN="Luxford Theatre Trips":MAILTO:info@luxfordtheatretrips.co.uk
END:VEVENT
BEGIN:VEVENT
DTSTART;TZID=Europe/London:20251123T113000
DTEND;TZID=Europe/London:20251123T183000
DTSTAMP:20260420T221252
CREATED:20250628T172659Z
LAST-MODIFIED:20251107T121909Z
UID:114181-1763897400-1763922600@luxfordtheatretrips.co.uk
SUMMARY:Christmas shopping in London
DESCRIPTION:Enjoy some time in the West End of London as the festive season starts.\nWe aim to arrive in time for lunch and the time is free for you to do as you wish\, drop off is within easy walking distance of Leicester Square\, Piccadilly Circus\, Fortnum and Mason\, Oxford Street\, Regent Street and Covent Garden. \nWe will leave Leicester Square at 6.30pm. \nCoach pick up:\nWitham – Bus stop opposite Paddy Power Newland Street Witham CM8 1AH – 0900hrs\nGreat Notley\, Entrance to White Courts Estate\, Windermere Drive\, CM77 7UB – 0925hrs\nDunmow\, Opposite The Flitch House\, High Street\, CM6 1AE – 0945hrs\nTakeley\, Opposite The Four Ashes\, Dunmow Road\, CM22 6SB – 0955hrs
URL:https://luxfordtheatretrips.co.uk/event/christmas-shopping-in-london/
LOCATION:Piccadilly circus\, W1J 9LL\, United Kingdom
CATEGORIES:Christmas Trip,Great Notley Route,Witham Pick-up
ATTACH;FMTTYPE=image/jpeg:https://luxfordtheatretrips.co.uk/wp-content/uploads/2025/06/Christmas-shopping.jpg
ORGANIZER;CN="Luxford Theatre Trips":MAILTO:info@luxfordtheatretrips.co.uk
END:VEVENT
BEGIN:VEVENT
DTSTART;TZID=Europe/London:20251123T143000
DTEND;TZID=Europe/London:20251123T170000
DTSTAMP:20260420T221252
CREATED:20250911T184949Z
LAST-MODIFIED:20251122T201747Z
UID:115580-1763908200-1763917200@luxfordtheatretrips.co.uk
SUMMARY:Back to the Future - matinee
DESCRIPTION:Welcome to Hill Valley! When Marty McFly finds himself transported back to 1955 in a time machine built by the eccentric scientist Doc Brown\, he accidentally changes the course of history. Now he’s in a race against time to fix the present\, escape the past and send himself… back to the future. \nSet your destination time\, London and get ready for the West End’s “whacking great hit of spectacle\, entertainment and nostalgia” (Mail on Sunday). \nBook your tickets yesterday! \nCoach pick up\nWitham – Bus stop opposite Paddy Power Newland Street Witham CM8 1AH – 0900hrs\nGreat Notley\, Entrance to White Courts Estate\, Windermere Drive\, CM77 7UB – 0925hrs\nDunmow\, Opposite The Flitch House\, High Street\, CM6 1AE – 0945hrs\nTakeley\, Opposite The Four Ashes\, Dunmow Road\, CM22 6SB – 0955hrs
URL:https://luxfordtheatretrips.co.uk/event/back-to-the-future-matinee-2/
LOCATION:Adelphi Theatre\, Strand\, London\, WC2R 0NS\, United Kingdom
CATEGORIES:Great Notley Route,Musical,Witham Pick-up
ATTACH;FMTTYPE=image/png:https://luxfordtheatretrips.co.uk/wp-content/uploads/2025/07/Back-to-the-future.png
ORGANIZER;CN="Luxford Theatre Trips":MAILTO:info@luxfordtheatretrips.co.uk
END:VEVENT
BEGIN:VEVENT
DTSTART;TZID=Europe/London:20251123T153000
DTEND;TZID=Europe/London:20251123T170000
DTSTAMP:20260420T221252
CREATED:20250911T181421Z
LAST-MODIFIED:20250911T181421Z
UID:115573-1763911800-1763917200@luxfordtheatretrips.co.uk
SUMMARY:Choir of Man - matinee
DESCRIPTION:Welcome to THE CHOIR OF MAN\, the best pub in the world… Come ready to drink in the excitement! \nBrimming with hits from artists such as Queen\, Luther Vandross\, Sia\, Paul Simon\, Adele\, Guns & Roses\, Avicii and Katy Perry to name but a few\, this is a pub like no other! A wildly talented group of incredible instrumentalists\, world-class wordsmiths\, and sensational singers; this cast of nine (extra)ordinary guys serve it all… live! \nAn uplifting celebration of community and friendship where everyone is welcome. It’s 90 minutes of feel-good\, foot-stomping entertainment unlike anything else in the West End. \nProduced by Immersive Everywhere\, Nic Doodson\, Andrew Kay\, Wendy & Andy Barnes and AK Theatricals. \nThis performance contains alcohol consumption\, flashing lights and use of haze.\nWe hope to arrive around 1130am allowing for time to get lunch and drinks.\nThe show will finish at 5pm and the coach will leave at 6.30pm so\, time to see the Christmas lights and have one for the road! \nCoach pick up \nWitham – Bus stop opposite Paddy Power Newland Street Witham CM8 1AH – 0900hrs\nGreat Notley\, Entrance to White Courts Estate\, Windermere Drive\, CM77 7UB – 0925hrs\nDunmow\, Opposite The Flitch House\, High Street\, CM6 1AE – 0945hrs\nTakeley\, Opposite The Four Ashes\, Dunmow Road\, CM22 6SB – 0955hrs
URL:https://luxfordtheatretrips.co.uk/event/choir-of-man-matinee/
LOCATION:Arts Theatre\, 6-7 Great Newport Street\, London\, WC2B 7JB\, United Kingdom
CATEGORIES:Great Notley Route,Musical,Witham Pick-up
ATTACH;FMTTYPE=image/png:https://luxfordtheatretrips.co.uk/wp-content/uploads/2025/08/COM.png
ORGANIZER;CN="Luxford Theatre Trips":MAILTO:info@luxfordtheatretrips.co.uk
END:VEVENT
BEGIN:VEVENT
DTSTART;TZID=Europe/London:20251123T160000
DTEND;TZID=Europe/London:20251123T180000
DTSTAMP:20260420T221252
CREATED:20250420T160010Z
LAST-MODIFIED:20251104T204707Z
UID:112985-1763913600-1763920800@luxfordtheatretrips.co.uk
SUMMARY:Magic Mike Live
DESCRIPTION:Conceived and directed by Channing Tatum\, MAGIC MIKE LIVE is an unforgettably fun night of sizzling\, 360-degree entertainment based on the hit movies. It’s hot. It’s hilarious. It’s the great time you’ve been waiting for! \nIf you’re looking for the ultimate girls’ night out or an electrifying date night\, look no further than MAGIC MIKE LIVE. If you’re NOT into letting your hair down\, laughing out loud and really hot guys\, then it’s probably not for you. It’s time to FREE YOUR MAGIC! \nWe have great seats on the main floor. \nStrictly over 18s only – ID will be checked on the door if you are lucky enough to look under 25. \nWe hope to arrive around 1130am allowing for time to get lunch and drinks. \nCoach pick up \nWitham – Bus stop outside Paddy Power Newland Street Witham CM8 1AH – 0900hrs\nGreat Notley\, Entrance to White Courts Estate\, Windermere Drive\, CM77 7UB – 0925hrs\nDunmow\, Opposite The Flitch House\, High Street\, CM6 1AE – 0945hrs\nTakeley\, Opposite The Four Ashes\, Dunmow Road\, CM22 6SB – 0955hrs
URL:https://luxfordtheatretrips.co.uk/event/magic-mike-live-3/
LOCATION:The Hippodrome Casino\, Cranbourne Street\, London\, WC2H 7JH\, United Kingdom
CATEGORIES:Great Notley Route,Musical,Witham Pick-up
ATTACH;FMTTYPE=image/png:https://luxfordtheatretrips.co.uk/wp-content/uploads/2023/07/Magic-Mike-for-website.png
ORGANIZER;CN="Luxford Theatre Trips":MAILTO:info@luxfordtheatretrips.co.uk
END:VEVENT
BEGIN:VEVENT
DTSTART;TZID=Europe/London:20251125T193000
DTEND;TZID=Europe/London:20251125T213000
DTSTAMP:20260420T221252
CREATED:20241221T115953Z
LAST-MODIFIED:20251124T212209Z
UID:110524-1764099000-1764106200@luxfordtheatretrips.co.uk
SUMMARY:Fawlty Towers at Cliffs Pavilion
DESCRIPTION:Nearly 50 years since it first hit our TV screens\, the ‘greatest British sitcom of all time’ (Radio Times) is now a brand-new stage play\, adapted by comedy legend John Cleese and directed by Caroline Jay Ranger. \nIf you missed it in The West End or like us you want to see it again\, now is your chance as this incredible show goes on tour and we have allocated seating in the rear raised stalls\, when it calls at The Cliffs Pavilion. \nTraffic permitting\, we hope to arrive around 6pm allowing time for dinner in one of the nearby restaurants. (booking advisable on a free cancellation basis). \nThis 18-strong cast take on the iconic characters at Torquay’s most chaotic hotel – Fawlty Towers! \nFeaturing your favourite scenes from the sitcom’s unforgettable twelve episodes\, this really is the stage comedy event of the year! \nPlease note: This is a bespoke route and will not call at all of our usual stops. \nTiptree\, The Centre Bus stop outside St Lukes Church Church Rd\, CO5 0SU – 1600hrs\nFeering\, Feering Hill Bus stop CO5 9NL – 1610hrs\nCoggeshall\, Nursery Bus stop\, West Street Coggeshall\, CO6 1NT – 1620hrs\nBradwell Village\, Waduds bus stop\, Coggeshall Road\, CM77 8ED – 1630hrs\nBraintree\, Marks Farm Tesco bus stop\, Coggeshall Road\, Braintree CM77 8AA – 1645hrs\nGreat Notley\, Entrance to White Courts Estate\, Windermere Drive\, CM77 7UB – 1655hrs\nGreat Leighs\, Outside The Castle\, Main Road\, CM3 1NE – 1700hrs
URL:https://luxfordtheatretrips.co.uk/event/fawlty-towers-at-cliffs-pavilion/
LOCATION:Cliffs Pavilion\, Station Road\, Southend on Sea\, SS0 7RA\, United Kingdom
CATEGORIES:Great Notley Route,Play,Tiptree Route
ATTACH;FMTTYPE=image/png:https://luxfordtheatretrips.co.uk/wp-content/uploads/2024/02/Fawlty-website.png
ORGANIZER;CN="Luxford Theatre Trips":MAILTO:info@luxfordtheatretrips.co.uk
END:VEVENT
BEGIN:VEVENT
DTSTART;TZID=Europe/London:20251126T080000
DTEND;TZID=Europe/London:20251126T170000
DTSTAMP:20260420T221252
CREATED:20251126T163247Z
LAST-MODIFIED:20251126T163247Z
UID:117166-1764144000-1764176400@luxfordtheatretrips.co.uk
SUMMARY:The Devil Wears Prada - Matinee
DESCRIPTION:The Devil Wears Prada is a new musical based on the blockbuster film and bestselling novel and features an original score by music legend Elton John\, lyrics by Shaina Taub\, a book by Kate Wetherhead\, and direction and choreography by three-time Tony Award winner Jerry Mitchell (Kinky Boots\, Legally Blonde\, Pretty Woman\, Hairspray). \nFresh out of college\, aspiring journalist Andy scores a job at the prestigious Runway magazine working for fashion’s most powerful and terrifying icon — editor-in-chief Miranda Priestly. Sacrificing her personal life to meet Miranda’s impossible demands\, Andy finds herself seduced by the glamorous world she once despised. \nHow far will she go to succeed… and will it be worth selling her soul to get what she’s always wanted? \nHilariously fun and fabulously stylish\, The Devil Wears Prada tells an inspiring story about discovering what kind of person you truly want to be. \nChoose your outfit carefully\, and get ready for a new musical that’s hautter than hell! \nTiptree – Outside St Lukes Church\, Church Road Tiptree CO5 0HF – 0930hrs\nFeering – Feering Hill bus stop\, Nr John Raven Court CO5 9PX – 0940hrs\nKelvedon – Bus stop opposite the post office\, High Street Kelvedon CO5 9AG – 0945hrs\nWitham – Bus stop opposite Paddy Power Newland Street Witham CM8 1AH – 1000hrs
URL:https://luxfordtheatretrips.co.uk/event/the-devil-wears-prada-matinee/
LOCATION:Dominion Theatre\, 268-269 Tottenham Court Road\, London\, W1T 7AQ\, United Kingdom
CATEGORIES:Musical,Tiptree Route,Witham Pick-up
ATTACH;FMTTYPE=image/jpeg:https://luxfordtheatretrips.co.uk/wp-content/uploads/2024/10/devil-wears-prada.jpg
ORGANIZER;CN="Luxford Theatre Trips":MAILTO:info@luxfordtheatretrips.co.uk
END:VEVENT
BEGIN:VEVENT
DTSTART;TZID=Europe/London:20251126T080000
DTEND;TZID=Europe/London:20251126T170000
DTSTAMP:20260420T221252
CREATED:20251126T164631Z
LAST-MODIFIED:20251126T164631Z
UID:117169-1764144000-1764176400@luxfordtheatretrips.co.uk
SUMMARY:The Devil Wears Prada
DESCRIPTION:The Devil Wears Prada is a new musical based on the blockbuster film and bestselling novel and features an original score by music legend Elton John\, lyrics by Shaina Taub\, a book by Kate Wetherhead\, and direction and choreography by three-time Tony Award winner Jerry Mitchell (Kinky Boots\, Legally Blonde\, Pretty Woman\, Hairspray). \nFresh out of college\, aspiring journalist Andy scores a job at the prestigious Runway magazine working for fashion’s most powerful and terrifying icon — editor-in-chief Miranda Priestly. Sacrificing her personal life to meet Miranda’s impossible demands\, Andy finds herself seduced by the glamorous world she once despised. \nHow far will she go to succeed… and will it be worth selling her soul to get what she’s always wanted? \nHilariously fun and fabulously stylish\, The Devil Wears Prada tells an inspiring story about discovering what kind of person you truly want to be. \nChoose your outfit carefully\, and get ready for a new musical that’s hautter than hell! \nWitham – Bus stop Collingwood Road\, CM8 2EE – 1440hrs\nGreat Notley\, Entrance to White Courts Estate\, Windermere Drive\, CM77 7UB – 1500hrs\nDunmow\, Outside Dunmow Club\, High Street\, CM6 1AE – 1520hrs\nTakeley\, Opposite The Four Ashes\, Dunmow Road\, CM22 6SB – 1530hrs
URL:https://luxfordtheatretrips.co.uk/event/the-devil-wears-prada/
CATEGORIES:Great Notley Route,Musical,Witham Pick-up
ATTACH;FMTTYPE=image/jpeg:https://luxfordtheatretrips.co.uk/wp-content/uploads/2024/10/devil-wears-prada.jpg
END:VEVENT
END:VCALENDAR