BEGIN:VCALENDAR
VERSION:2.0
PRODID:-//Luxford Theatre Trips - ECPv6.15.20//NONSGML v1.0//EN
CALSCALE:GREGORIAN
METHOD:PUBLISH
X-ORIGINAL-URL:https://luxfordtheatretrips.co.uk
X-WR-CALDESC:Events for Luxford Theatre Trips
REFRESH-INTERVAL;VALUE=DURATION:PT1H
X-Robots-Tag:noindex
X-PUBLISHED-TTL:PT1H
BEGIN:VTIMEZONE
TZID:Europe/London
BEGIN:DAYLIGHT
TZOFFSETFROM:+0000
TZOFFSETTO:+0100
TZNAME:BST
DTSTART:20240331T010000
END:DAYLIGHT
BEGIN:STANDARD
TZOFFSETFROM:+0100
TZOFFSETTO:+0000
TZNAME:GMT
DTSTART:20241027T010000
END:STANDARD
BEGIN:DAYLIGHT
TZOFFSETFROM:+0000
TZOFFSETTO:+0100
TZNAME:BST
DTSTART:20250330T010000
END:DAYLIGHT
BEGIN:STANDARD
TZOFFSETFROM:+0100
TZOFFSETTO:+0000
TZNAME:GMT
DTSTART:20251026T010000
END:STANDARD
BEGIN:DAYLIGHT
TZOFFSETFROM:+0000
TZOFFSETTO:+0100
TZNAME:BST
DTSTART:20260329T010000
END:DAYLIGHT
BEGIN:STANDARD
TZOFFSETFROM:+0100
TZOFFSETTO:+0000
TZNAME:GMT
DTSTART:20261025T010000
END:STANDARD
END:VTIMEZONE
BEGIN:VEVENT
DTSTART;TZID=Europe/London:20250918T113000
DTEND;TZID=Europe/London:20250918T173000
DTSTAMP:20260420T184306
CREATED:20250916T141021Z
LAST-MODIFIED:20250916T142857Z
UID:115712-1758195000-1758216600@luxfordtheatretrips.co.uk
SUMMARY:Free time in London
DESCRIPTION:Enjoy a day in London to do as you please. \nWe aim to arrive in London around 11am – First dropping at The Tower of London then The Strand for Covent Garden\, Liecester Square\, Oxford Street etc. \nThe coach will then leave The Strand at 5.45pm and Tower of London 6.15pm. \nPlease be aware\, this ticket does not include entry to any attractions. \nTiptree – Outside St Lukes Church\, Church Road Tiptree CO5 0HF – 0800hrs\nWitham – Bus stop opposite Paddy Power Newland Street Witham CM8 1AH – 0830hrs\nGreat Notley\, Entrance to White Courts Estate\, Windermere Drive\, CM77 7UB – 0850hrs\nDunmow\, Opposite The Flitch House\, High Street\, CM6 1AE – 0910hrs\nTakeley\, Opposite The Four Ashes\, Dunmow Road\, CM22 6SB – 0920hrs
URL:https://luxfordtheatretrips.co.uk/event/free-time-in-london-2/
LOCATION:The Strand\, Strand\, London\, WC2R 0QS\, United Kingdom
CATEGORIES:Coach only,Great Notley Route,Tiptree Route,Witham Pick-up
ATTACH;FMTTYPE=image/jpeg:https://luxfordtheatretrips.co.uk/wp-content/uploads/2025/09/London-freetime.jpg
ORGANIZER;CN="Luxford Theatre Trips":MAILTO:info@luxfordtheatretrips.co.uk
END:VEVENT
BEGIN:VEVENT
DTSTART;TZID=Europe/London:20250918T120000
DTEND;TZID=Europe/London:20250918T180000
DTSTAMP:20260420T184306
CREATED:20250515T105643Z
LAST-MODIFIED:20250813T101049Z
UID:113400-1758196800-1758218400@luxfordtheatretrips.co.uk
SUMMARY:Tower of London Poppies
DESCRIPTION:See a new special commemorative display of ceramic poppies installed INSIDE the Tower of London to mark the 80th anniversary of the end of the Second World War. \nThe display of nearly 30\,000 of the original poppies\, made for the 2014 installation\, ‘Blood Swept Lands and Seas of Red’\, returns to the Tower\, marking the sacrifices made by so many during the Second World War.  \nThe specially commissioned installation resembles a ‘wound’ at the heart of the Tower\, which was itself bombed during the Blitz. Poppies pour across the lawn overlooked by the ancient White Tower\, where the blood-red flowers form a crater\, with ripples flowing outwards.  \nOn display within the Tower’s walls\, the installation creates striking images\, reminding us of loss through war\, and of the long-lasting impact of conflict. It creates a shared space for visitors to remember and reflect on the collective sacrifice of so many in this important anniversary year. \nThe poppies are on loan from Imperial War Museums and were designed and made by the artist\, Paul Cummins. The new display has been created by the designer\, Tom Piper. \nOur price includes executive class coach travel and entry to the tower. \nTiptree – Outside St Lukes Church\, Church Road Tiptree CO5 0HF – 0800hrs\nFeering – Feering Hill bus stop\, Nr John Raven Court CO5 9PX – 0810hrs\nKelvedon – Bus stop opposite the post office\, High Street Kelvedon CO5 9AG –  0815hrs\nWitham – Bus stop outside Paddy Power Newland Street Witham CM8 1AH – 0830hrs\nGreat Notley\, Entrance to White Courts Estate\, Windermere Drive\, CM77 7UB – 0850hrs\nDunmow\, outside Dunmow club\, High Street\, CM6 1AE – 0910hrs\nTakeley\, Opposite The Four Ashes\, Dunmow Road\, CM22 6SB – 0920hrs
URL:https://luxfordtheatretrips.co.uk/event/tower-of-london-poppies/
LOCATION:Tower of London\, EC3N 4AB\, United Kingdom
CATEGORIES:Day Trip,Great Notley Route,Tiptree Route,Witham Pick-up
ATTACH;FMTTYPE=image/jpeg:https://luxfordtheatretrips.co.uk/wp-content/uploads/2025/05/poppies-website.jpg
ORGANIZER;CN="Luxford Theatre Trips":MAILTO:info@luxfordtheatretrips.co.uk
END:VEVENT
BEGIN:VEVENT
DTSTART;TZID=Europe/London:20250918T143000
DTEND;TZID=Europe/London:20250918T170000
DTSTAMP:20260420T184306
CREATED:20250718T211813Z
LAST-MODIFIED:20250718T211813Z
UID:114512-1758205800-1758214800@luxfordtheatretrips.co.uk
SUMMARY:Back to The Future - Matinee
DESCRIPTION:Welcome to Hill Valley! When Marty McFly finds himself transported back to 1955 in a time machine built by the eccentric scientist Doc Brown\, he accidentally changes the course of history. Now he’s in a race against time to fix the present\, escape the past and send himself… back to the future. \nSet your destination time\, London and get ready for the West End’s “whacking great hit of spectacle\, entertainment and nostalgia” (Mail on Sunday). \nBook your tickets yesterday! \nWitham – Bus stop outside Paddy Power Newland Street Witham CM8 1AH – 0830hrs\nGreat Notley\, Entrance to White Courts Estate\, Windermere Drive\, CM77 7UB – 0850hrs\nDunmow\, outside Dunmow club\, High Street\, CM6 1AE – 0910hrs\nTakeley\, Opposite The Four Ashes\, Dunmow Road\, CM22 6SB – 0920hrs
URL:https://luxfordtheatretrips.co.uk/event/back-to-the-future-matinee/
LOCATION:Adelphi Theatre\, Strand\, London\, WC2R 0NS\, United Kingdom
CATEGORIES:Great Notley Route,Musical,Witham Pick-up
ATTACH;FMTTYPE=image/png:https://luxfordtheatretrips.co.uk/wp-content/uploads/2025/07/Back-to-the-future.png
ORGANIZER;CN="Luxford Theatre Trips":MAILTO:info@luxfordtheatretrips.co.uk
END:VEVENT
BEGIN:VEVENT
DTSTART;TZID=Europe/London:20250918T160000
DTEND;TZID=Europe/London:20250918T173000
DTSTAMP:20260420T184306
CREATED:20250718T210643Z
LAST-MODIFIED:20250813T101242Z
UID:114501-1758211200-1758216600@luxfordtheatretrips.co.uk
SUMMARY:SIX - Shopping time and matinee
DESCRIPTION:The crowning glory of the West End\, Broadway and beyond\, history is about to get over-throne in the\nhomegrown hit musical sensation\, SIX\, live at the Vaudeville Theatre. \nCreated by Toby Marlow and Lucy Moss\, prepare to lose your head and experience the Tudor Wives’ lives\nas they turn back the clock and take to the stage to reclaim their crowns and retell their stories of love\, loss\nand the infamous ex they all have in common. \nJoin Aragon\, Boleyn\, Seymour\, Cleves\, Howard and Parr\, backed by their fierce on-stage band\,\nthe Ladies in Waiting\, and Get Down to a royal retelling of the sassiest story in British Her-story. \nWe will aim to arrive around 11am to give you free time before the 4pm show and leaving at 6pm \nTiptree – Outside St Lukes Church\, Church Road Tiptree CO5 0HF – 0800hrs\nFeering – Feering Hill bus stop\, Nr John Raven Court CO5 9PX – 0810hrs\nKelvedon – Bus stop opposite the post office\, High Street Kelvedon CO5 9AG –  0815hrs\nWitham – Bus stop outside Paddy Power Newland Street Witham CM8 1AH – 0830hrs\nGreat Notley\, Entrance to White Courts Estate\, Windermere Drive\, CM77 7UB – 0850hrs\nDunmow\, outside Dunmow club\, High Street\, CM6 1AE – 0910hrs\nTakeley\, Opposite The Four Ashes\, Dunmow Road\, CM22 6SB – 0920hrs
URL:https://luxfordtheatretrips.co.uk/event/six-shopping-time-and-matinee/
LOCATION:Vaudeville Theatre\, 404 Strand\, London\, WC2R 0NH
CATEGORIES:Great Notley Route,Musical,Tiptree Route,Witham Pick-up
ATTACH;FMTTYPE=image/png:https://luxfordtheatretrips.co.uk/wp-content/uploads/2023/04/SIX-for-website.png
ORGANIZER;CN="Luxford Theatre Trips":MAILTO:info@luxfordtheatretrips.co.uk
END:VEVENT
BEGIN:VEVENT
DTSTART;TZID=Europe/London:20250921T110000
DTEND;TZID=Europe/London:20250921T170000
DTSTAMP:20260420T184306
CREATED:20250309T151427Z
LAST-MODIFIED:20250916T092438Z
UID:112384-1758452400-1758474000@luxfordtheatretrips.co.uk
SUMMARY:Chatham Dockyards - A Salute to the 1940s
DESCRIPTION:Salute to the ’40s\nA CREATIVE VINTAGE FESTIVAL FOR ALL THE FAMILY\nGet ready for the most spectacular vintage festival of the year. This iconic weekend is brimming with nostalgia\, laughter\, and a whole lot of fun for the entire family. Experience dazzling entertainment that will transport you back to the vibrant 1940s\, and marvel at classic cars and military vehicles that showcase the era’s remarkable history. \nPrepare to be captivated by time-travelling performances\, and explore our bustling vintage market filled with unique treasures. Families can look forward to a variety of activities designed for all ages\, including thrilling circus acts\, an enchanting bubble wizard\, and captivating storytelling sessions. Don’t miss the immersive Air Raid Shelter experience that offers a glimpse into wartime life. \nMeet passionate reenactors and engage with fascinating wartime displays that bring history to life. To top it all off\, indulge in delicious food and drink options that reflect the flavours of the time. Join us for a weekend of unforgettable memories at The Historic Dockyard Chatham. \nCoach pick up: \nWitham – Outside Lian\, The George Bus stop\, Newland Street CM8 2AQ – 0900hrs\nGreat Notley\, Entrance to White Courts Estate\, Windermere Drive\, CM77 7UB – 0925hrs\nDunmow\, Opposite The Flitch House\, High Street\, CM6 1AE – 0945hrs\nTakeley\, Opposite The Four Ashes\, Dunmow Road\, CM22 6SB – 0955hrs
URL:https://luxfordtheatretrips.co.uk/event/chatham-dockyards-a-salute-to-the-1940s/
LOCATION:Chatham Historic Dockyard\, Main Gate Road\, Chatham\, ME4 4TZ\, United Kingdom
CATEGORIES:Day Trip,Great Notley Route,Tiptree Route,Witham Pick-up
ATTACH;FMTTYPE=image/png:https://luxfordtheatretrips.co.uk/wp-content/uploads/2025/03/Chatham-dockyards.png
ORGANIZER;CN="Luxford Theatre Trips":MAILTO:info@luxfordtheatretrips.co.uk
END:VEVENT
BEGIN:VEVENT
DTSTART;TZID=Europe/London:20250921T110000
DTEND;TZID=Europe/London:20250921T170000
DTSTAMP:20260420T184306
CREATED:20250309T153629Z
LAST-MODIFIED:20250802T172333Z
UID:112391-1758452400-1758474000@luxfordtheatretrips.co.uk
SUMMARY:Chatham Dockyards Salute to the 1940s - Tiptree route
DESCRIPTION:Salute to the ’40s\nA CREATIVE VINTAGE FESTIVAL FOR ALL THE FAMILY\nGet ready for the most spectacular vintage festival of the year. This iconic weekend is brimming with nostalgia\, laughter\, and a whole lot of fun for the entire family. Experience dazzling entertainment that will transport you back to the vibrant 1940s\, and marvel at classic cars and military vehicles that showcase the era’s remarkable history. \nPrepare to be captivated by time-travelling performances\, and explore our bustling vintage market filled with unique treasures. Families can look forward to a variety of activities designed for all ages\, including thrilling circus acts\, an enchanting bubble wizard\, and captivating storytelling sessions. Don’t miss the immersive Air Raid Shelter experience that offers a glimpse into wartime life. \nMeet passionate reenactors and engage with fascinating wartime displays that bring history to life. To top it all off\, indulge in delicious food and drink options that reflect the flavours of the time. Join us for a weekend of unforgettable memories at The Historic Dockyard Chatham. \nCoach pick up: \nTiptree – Outside St Lukes Church\, Church Road Tiptree CO5 0HF – 0845hrs\nKelvedon – Bus stop opposite the post office\, High Street Kelvedon CO5 9AG –  0855hrs\nWitham – Outside Lian\, The George Bus stop\, Newland Street CM8 2AQ – 0900hrs\nGreat Notley\, Entrance to White Courts Estate\, Windermere Drive\, CM77 7UB – 0925hrs\nDunmow\, Opposite The Flitch House\, High Street\, CM6 1AE – 0945hrs\nTakeley\, Opposite The Four Ashes\, Dunmow Road\, CM22 6SB – 0955hrs
URL:https://luxfordtheatretrips.co.uk/event/chatham-dockyards-salute-to-the-1940s-tiptree-route/
LOCATION:Chatham Historic Dockyard\, Main Gate Road\, Chatham\, ME4 4TZ\, United Kingdom
CATEGORIES:Day Trip,Tiptree Route,Witham Pick-up
ATTACH;FMTTYPE=image/png:https://luxfordtheatretrips.co.uk/wp-content/uploads/2025/03/Chatham-dockyards.png
ORGANIZER;CN="Luxford Theatre Trips":MAILTO:info@luxfordtheatretrips.co.uk
END:VEVENT
END:VCALENDAR