BEGIN:VCALENDAR
VERSION:2.0
PRODID:-//Luxford Theatre Trips - ECPv6.15.20//NONSGML v1.0//EN
CALSCALE:GREGORIAN
METHOD:PUBLISH
X-ORIGINAL-URL:https://luxfordtheatretrips.co.uk
X-WR-CALDESC:Events for Luxford Theatre Trips
REFRESH-INTERVAL;VALUE=DURATION:PT1H
X-Robots-Tag:noindex
X-PUBLISHED-TTL:PT1H
BEGIN:VTIMEZONE
TZID:Europe/London
BEGIN:DAYLIGHT
TZOFFSETFROM:+0000
TZOFFSETTO:+0100
TZNAME:BST
DTSTART:20240331T010000
END:DAYLIGHT
BEGIN:STANDARD
TZOFFSETFROM:+0100
TZOFFSETTO:+0000
TZNAME:GMT
DTSTART:20241027T010000
END:STANDARD
BEGIN:DAYLIGHT
TZOFFSETFROM:+0000
TZOFFSETTO:+0100
TZNAME:BST
DTSTART:20250330T010000
END:DAYLIGHT
BEGIN:STANDARD
TZOFFSETFROM:+0100
TZOFFSETTO:+0000
TZNAME:GMT
DTSTART:20251026T010000
END:STANDARD
BEGIN:DAYLIGHT
TZOFFSETFROM:+0000
TZOFFSETTO:+0100
TZNAME:BST
DTSTART:20260329T010000
END:DAYLIGHT
BEGIN:STANDARD
TZOFFSETFROM:+0100
TZOFFSETTO:+0000
TZNAME:GMT
DTSTART:20261025T010000
END:STANDARD
END:VTIMEZONE
BEGIN:VEVENT
DTSTART;TZID=Europe/London:20250417T190000
DTEND;TZID=Europe/London:20250417T220000
DTSTAMP:20260420T234202
CREATED:20250120T190413Z
LAST-MODIFIED:20260129T133048Z
UID:111179-1744916400-1744927200@luxfordtheatretrips.co.uk
SUMMARY:beetlejuice
DESCRIPTION:Matilda The Musical is the multi-award winning musical from the Royal Shakespeare Company\, inspired by the beloved book by the incomparable Roald Dahl. \nWith book by Dennis Kelly and original songs by Tim Minchin\, Matilda The Musical is the story of an extraordinary little girl who\, armed with a vivid imagination and a sharp mind\, dares to take a stand and change her own destiny. \nWinner of over 100 international awards\, including 24 for Best Musical\, Matilda has been delighting audiences in London’s West End for over a decade. \nCoach pick up \nWitham – Bus stop outside Paddy Power Newland Street Witham CM8 1AH – 1440hrs\nGreat Notley\, Entrance to White Courts Estate\, Windermere Drive\, CM77 7UB – 1500hrs\nDunmow\, Outside Mens Club\, High Street\, CM6 1AE – 1520hrs\nTakeley\, Opposite The Four Ashes\, Dunmow Road\, CM22 6SB – 1530hrs
URL:https://luxfordtheatretrips.co.uk/event/matilda-4/
LOCATION:Cambridge Theatre\, Earlham Street\, London\, WC2H 9HU\, United Kingdom
CATEGORIES:Great Notley Route,Musical,Witham Pick-up
ATTACH;FMTTYPE=image/png:https://luxfordtheatretrips.co.uk/wp-content/uploads/2023/04/Matilda-for-website.png
ORGANIZER;CN="Luxford Theatre Trips":MAILTO:info@luxfordtheatretrips.co.uk
END:VEVENT
BEGIN:VEVENT
DTSTART;TZID=Europe/London:20250417T190000
DTEND;TZID=Europe/London:20250417T220000
DTSTAMP:20260420T234202
CREATED:20250412T151232Z
LAST-MODIFIED:20250412T151232Z
UID:112682-1744916400-1744927200@luxfordtheatretrips.co.uk
SUMMARY:Matilda - Ticket only
DESCRIPTION:Matilda The Musical is the multi-award winning musical from the Royal Shakespeare Company\, inspired by the beloved book by the incomparable Roald Dahl. \nWith book by Dennis Kelly and original songs by Tim Minchin\, Matilda The Musical is the story of an extraordinary little girl who\, armed with a vivid imagination and a sharp mind\, dares to take a stand and change her own destiny. \nWinner of over 100 international awards\, including 24 for Best Musical\, Matilda has been delighting audiences in London’s West End for over a decade. \nStalls row K \nPlease note there is no transport included with this ticket.
URL:https://luxfordtheatretrips.co.uk/event/matilda-ticket-only-2/
LOCATION:Cambridge Theatre\, Earlham Street\, London\, WC2H 9HU\, United Kingdom
CATEGORIES:Tickets Only
ATTACH;FMTTYPE=image/png:https://luxfordtheatretrips.co.uk/wp-content/uploads/2023/04/Matilda-for-website.png
ORGANIZER;CN="Luxford Theatre Trips":MAILTO:info@luxfordtheatretrips.co.uk
END:VEVENT
BEGIN:VEVENT
DTSTART;TZID=Europe/London:20250417T193000
DTEND;TZID=Europe/London:20250417T210000
DTSTAMP:20260420T234202
CREATED:20250114T205711Z
LAST-MODIFIED:20250114T205711Z
UID:110996-1744918200-1744923600@luxfordtheatretrips.co.uk
SUMMARY:The Choir of Man
DESCRIPTION:Welcome to THE CHOIR OF MAN\, the best pub in the world… Come ready to drink in the excitement! \nBrimming with hits from artists such as Queen\, Luther Vandross\, Sia\, Paul Simon\, Adele\, Guns & Roses\, Avicii and Katy Perry to name but a few\, this is a pub like no other! A wildly talented group of incredible instrumentalists\, world-class wordsmiths\, and sensational singers; this cast of nine (extra)ordinary guys serve it all… live! \nAn uplifting celebration of community and friendship where everyone is welcome. It’s 90 minutes of feel-good\, foot-stomping entertainment unlike anything else in the West End. \nProduced by Immersive Everywhere\, Nic Doodson\, Andrew Kay\, Wendy & Andy Barnes and AK Theatricals. \nThis performance contains alcohol consumption\, flashing lights and use of haze. \nCoach pick up \nWitham – Bus stop outside Paddy Power Newland Street Witham CM8 1AH – 1440hrs\nGreat Notley\, Entrance to White Courts Estate\, Windermere Drive\, CM77 7UB – 1500hrs\nDunmow\, Outside Mens Club\, High Street\, CM6 1AE – 1520hrs\nTakeley\, Opposite The Four Ashes\, Dunmow Road\, CM22 6SB – 1530hrs \nPlease note: your show will finish around 9pm so there is likely going to be enough time for a drink afterwards as other shows on this trip will finish at 10pm.
URL:https://luxfordtheatretrips.co.uk/event/the-choir-of-man-2/
LOCATION:Arts Theatre\, 6-7 Great Newport Street\, London\, WC2B 7JB\, United Kingdom
CATEGORIES:Great Notley Route,Musical,Witham Pick-up
ATTACH;FMTTYPE=image/png:https://luxfordtheatretrips.co.uk/wp-content/uploads/2023/07/Choir-of-man-website.png
ORGANIZER;CN="Luxford Theatre Trips":MAILTO:info@luxfordtheatretrips.co.uk
END:VEVENT
BEGIN:VEVENT
DTSTART;TZID=Europe/London:20250417T193000
DTEND;TZID=Europe/London:20250417T210000
DTSTAMP:20260420T234202
CREATED:20250412T161558Z
LAST-MODIFIED:20250412T161558Z
UID:112685-1744918200-1744923600@luxfordtheatretrips.co.uk
SUMMARY:Choir of Man - Ticket Only
DESCRIPTION:Stalls row B
URL:https://luxfordtheatretrips.co.uk/event/choir-of-man-ticket-only-2/
LOCATION:Arts Theatre\, 6-7 Great Newport Street\, London\, WC2B 7JB\, United Kingdom
CATEGORIES:Musical,Tickets Only
ATTACH;FMTTYPE=image/png:https://luxfordtheatretrips.co.uk/wp-content/uploads/2023/07/Choir-of-man-website.png
ORGANIZER;CN="Luxford Theatre Trips":MAILTO:info@luxfordtheatretrips.co.uk
END:VEVENT
BEGIN:VEVENT
DTSTART;TZID=Europe/London:20250417T193000
DTEND;TZID=Europe/London:20250417T220000
DTSTAMP:20260420T234202
CREATED:20241212T164406Z
LAST-MODIFIED:20250510T153315Z
UID:110281-1744918200-1744927200@luxfordtheatretrips.co.uk
SUMMARY:cabaret
DESCRIPTION:THE GREATEST PARTY ON LONDON’S BIGGEST STAGE\nGet ready to roar because the Tony Award®-winning new musical THE GREAT GATSBY is coming to London\, and will be the party of the century. Fresh from its sell-out success on Broadway\, this “shimmering\, sparkling spectacle” (Variety) “explodes with life and energy” (Entertainment Weekly).\nProduced by Chunsoo Shin\, acclaimed Korean musical producer\, 5-time winner of Korea’s most prestigious theatrical award and OD Company president\, THE GREAT GATSBY is based on the classic American novel by F. Scott Fitzgerald. Set in the Jazz Age on Long Island\, New York\, this is “one wildly entertaining night at the theatre\, and musical theatre at its finest” (Theatrely). \nDirected by Marc Bruni (Beautiful: The Carole King Musical)\, this story of extravagance and longing features choreography by Dominique Kelley (So You Think You Can Dance)\, a book by Kait Kerrigan (The Mad Ones) and a jazz and pop-influenced original score by Jason Howland (Little Women) and Nathan Tysen (Paradise Square). \nMeet mysterious millionaire\, Jay Gatsby. He entertains the rich and famous with riotous parties at his Long Island mansion yet never joins in. Gatsby longs instead to reunite with his former flame Daisy Buchanan\, but Daisy comes from another lifetime\, long before the money… \nCoach pick up\nWitham – Bus stop outside Paddy Power Newland Street Witham CM8 1AH – 1440hrs\nGreat Notley\, Entrance to White Courts Estate\, Windermere Drive\, CM77 7UB – 1500hrs\nDunmow\, Outside Mens Club\, High Street\, CM6 1AE – 1520hrs\nTakeley\, Opposite The Four Ashes\, Dunmow Road\, CM22 6SB – 1530hrs
URL:https://luxfordtheatretrips.co.uk/event/the-great-gatsby/
LOCATION:London Coliseum\, St Martins Lane\, London\, WC2N 4ES\, United Kingdom
CATEGORIES:Great Notley Route,Musical,Witham Pick-up
ORGANIZER;CN="Luxford Theatre Trips":MAILTO:info@luxfordtheatretrips.co.uk
END:VEVENT
BEGIN:VEVENT
DTSTART;TZID=Europe/London:20250423T190000
DTEND;TZID=Europe/London:20250423T220000
DTSTAMP:20260420T234202
CREATED:20241121T111546Z
LAST-MODIFIED:20241121T112717Z
UID:110085-1745434800-1745445600@luxfordtheatretrips.co.uk
SUMMARY:TINA
DESCRIPTION:“It’s really important to me to have the chance to share my full story. This musical is not about my stardom. It is about the journey I took to get there. Each night I want audiences to take away from the theatre that you can turn poison into medicine.”\nTINA TURNER \nFrom humble beginnings in Nutbush\, Tennessee\, to her transformation into the global Queen of Rock ‘n’ Roll\, Tina Turner didn’t just break the rules\, she rewrote them. This new stage musical reveals the untold story of a woman who dared to defy the bounds of her age\, gender and race. \nOne of the world’s best-selling artists of all time\, Tina Turner has won 12 Grammy Awards and her live shows have been seen by millions\, with more concert tickets sold than any other solo performer in music history. \nFeaturing her much loved songs\, TINA – The Tina Turner Musical is written by Olivier Award-winning playwright Katori Hall and directed by the internationally acclaimed Phyllida Lloyd. \nCoach pick up\nBroomfield\, The Angel bus stop OPPOSITE The Angel Main Road CM1 7AH – 1440hrs\nGreat Leighs\, Opposite The Castle\, Main Road\, CM3 1NE – 1450hrs\nGreat Notley\, Entrance to White Courts Estate\, Windermere Drive\, CM77 7UB – 1500hrs\nDunmow\, Opposite The Flitch House\, High Street\, CM6 1AE – 1520hrs\nTakeley\, Opposite The Four Ashes\, Dunmow Road\, CM22 6SB – 1530hrs
URL:https://luxfordtheatretrips.co.uk/event/tina/
LOCATION:Aldwych Theatre\, 49 Aldwych London\, London\, WC2B 4DF\, United Kingdom
CATEGORIES:Great Notley Route,Musical
ATTACH;FMTTYPE=image/png:https://luxfordtheatretrips.co.uk/wp-content/uploads/2023/07/Tina-for-website.png
ORGANIZER;CN="Luxford Theatre Trips":MAILTO:info@luxfordtheatretrips.co.uk
END:VEVENT
BEGIN:VEVENT
DTSTART;TZID=Europe/London:20250423T190000
DTEND;TZID=Europe/London:20250423T220000
DTSTAMP:20260420T234202
CREATED:20250302T202126Z
LAST-MODIFIED:20250302T202126Z
UID:112232-1745434800-1745445600@luxfordtheatretrips.co.uk
SUMMARY:TINA  - Ticket Only
DESCRIPTION:“It’s really important to me to have the chance to share my full story. This musical is not about my stardom. It is about the journey I took to get there. Each night I want audiences to take away from the theatre that you can turn poison into medicine.”\nTINA TURNER \nFrom humble beginnings in Nutbush\, Tennessee\, to her transformation into the global Queen of Rock ‘n’ Roll\, Tina Turner didn’t just break the rules\, she rewrote them. This new stage musical reveals the untold story of a woman who dared to defy the bounds of her age\, gender and race. \nOne of the world’s best-selling artists of all time\, Tina Turner has won 12 Grammy Awards and her live shows have been seen by millions\, with more concert tickets sold than any other solo performer in music history. \nFeaturing her much loved songs\, TINA – The Tina Turner Musical is written by Olivier Award-winning playwright Katori Hall and directed by the internationally acclaimed Phyllida Lloyd. \nPlease note; There is no coach with this ticket \nSeats available are Stalls K20-25\nFV £95
URL:https://luxfordtheatretrips.co.uk/event/tina-ticket-only/
LOCATION:Aldwych Theatre\, 49 Aldwych London\, London\, WC2B 4DF\, United Kingdom
CATEGORIES:Musical,Tickets Only
ATTACH;FMTTYPE=image/png:https://luxfordtheatretrips.co.uk/wp-content/uploads/2023/07/Tina-for-website.png
ORGANIZER;CN="Luxford Theatre Trips":MAILTO:info@luxfordtheatretrips.co.uk
END:VEVENT
BEGIN:VEVENT
DTSTART;TZID=Europe/London:20250423T193000
DTEND;TZID=Europe/London:20250423T220000
DTSTAMP:20260420T234202
CREATED:20241106T202002Z
LAST-MODIFIED:20241106T202002Z
UID:109841-1745436600-1745445600@luxfordtheatretrips.co.uk
SUMMARY:Lion King
DESCRIPTION:Disney’s award-winning musical The Lion King explodes with glorious colours\, stunning effects and enchanting music. It follows the powerful story of Simba as he journeys from wide-eyed cub to his destined role as King of the Pridelands. \nIngenious puppetry\, stunning effects and the enchanting music by Elton John\, Tim Rice and Lebo M will transport you to the heart of the African Pridelands. \nNow in its 24th year at London’s Lyceum Theatre\, visionary director Julie Taymor’s acclaimed reimagining of Disney’s beloved film will redefine your expectation of theatre. \nPerformance Information \nThe Lion King Musical running time is 2 hours 30 minutes which includes one 15 minute interval. \nPlease note: Children under 3 years of age are not permitted to enter the Lyceum Theatre. The Lion King is recommended for ages 6 and up. All persons aged 16 or under must be accompanied by an adult and may not sit on their own within the auditorium. All persons entering the theatre\, regardless of age\, must have a ticket. \nBroomfield\, The Angel bus stop OPPOSITE The Angel Main Road CM1 7AH – 1440hrs\nGreat Leighs\, Opposite The Castle\, Main Road\, CM3 1NE – 1450hrs\nGreat Notley\, Entrance to White Courts Estate\, Windermere Drive\, CM77 7UB – 1500hrs\nDunmow\, Opposite The Flitch House\, High Street\, CM6 1AE – 1520hrs\nTakeley\, Opposite The Four Ashes\, Dunmow Road\, CM22 6SB – 1530hrs
URL:https://luxfordtheatretrips.co.uk/event/lion-king/
LOCATION:Lyceum Theatre\, 21 Wellington Street\, London\, WC2E 7RQ\, United Kingdom
CATEGORIES:Great Notley Route,Musical
ATTACH;FMTTYPE=image/png:https://luxfordtheatretrips.co.uk/wp-content/uploads/2023/07/Lion-King-website.png
ORGANIZER;CN="Luxford Theatre Trips":MAILTO:info@luxfordtheatretrips.co.uk
END:VEVENT
BEGIN:VEVENT
DTSTART;TZID=Europe/London:20250423T193000
DTEND;TZID=Europe/London:20250423T220000
DTSTAMP:20260420T234202
CREATED:20250209T172643Z
LAST-MODIFIED:20250209T173723Z
UID:111609-1745436600-1745445600@luxfordtheatretrips.co.uk
SUMMARY:Lion King -Ticket only
DESCRIPTION:Disney’s award-winning musical The Lion King explodes with glorious colours\, stunning effects and enchanting music. It follows the powerful story of Simba as he journeys from wide-eyed cub to his destined role as King of the Pridelands. \nIngenious puppetry\, stunning effects and the enchanting music by Elton John\, Tim Rice and Lebo M will transport you to the heart of the African Pridelands. \nNow in its 24th year at London’s Lyceum Theatre\, visionary director Julie Taymor’s acclaimed reimagining of Disney’s beloved film will redefine your expectation of theatre. \nThere is no coach with this ticket. \nStalls D12-13 and H12-14 If you want 4 or more together\, I may be able to swap around the rest of the party to accommodate. Please ask. \nPerformance Information \nThe Lion King Musical running time is 2 hours 30 minutes which includes one 15 minute interval. \nPlease note: Children under 3 years of age are not permitted to enter the Lyceum Theatre. The Lion King is recommended for ages 6 and up. All persons aged 16 or under must be accompanied by an adult and may not sit on their own within the auditorium. All persons entering the theatre\, regardless of age\, must have a ticket.
URL:https://luxfordtheatretrips.co.uk/event/lion-king-ticket-only-3/
LOCATION:Lyceum Theatre\, 21 Wellington Street\, London\, WC2E 7RQ\, United Kingdom
CATEGORIES:Tickets Only
ATTACH;FMTTYPE=image/png:https://luxfordtheatretrips.co.uk/wp-content/uploads/2023/07/Lion-King-website.png
ORGANIZER;CN="Luxford Theatre Trips":MAILTO:info@luxfordtheatretrips.co.uk
END:VEVENT
BEGIN:VEVENT
DTSTART;TZID=Europe/London:20250423T193000
DTEND;TZID=Europe/London:20250423T220000
DTSTAMP:20260420T234202
CREATED:20250308T173407Z
LAST-MODIFIED:20250308T173407Z
UID:112365-1745436600-1745445600@luxfordtheatretrips.co.uk
SUMMARY:The Play That Goes Wrong
DESCRIPTION:THE LONGEST RUNNING COMEDY IN THE WEST END \nStill disrupting the West End in its 10th disastrous year\, the award-winning international smash-hit THE PLAY THAT GOES WRONG continues to tickle audiences at the Duchess Theatre. \nYou all know the classic whodunnit story\, there has been a murder at a country manor and an inspector is set on the case to find who the culprit is. However\, when this plot is given to the accident-prone thespians at The Cornley Drama Society\, everything that can go wrong… does! \nThe actors and crew battle against all odds to make it through to their final curtain call\, with hilarious consequences! Do you ever find out who murdered Charles Haversham? You’ll have to see for yourself! \nExperience total mayhem and enjoy the perfect slice of escapist comedy\, guaranteed to leave you aching with laughter. \nCoach pick up\nBroomfield\, The Angel bus stop OPPOSITE The Angel Main Road CM1 7AH – 1440hrs\nGreat Leighs\, Opposite The Castle\, Main Road\, CM3 1NE – 1450hrs\nGreat Notley\, Entrance to White Courts Estate\, Windermere Drive\, CM77 7UB – 1500hrs\nDunmow\, Opposite The Flitch House\, High Street\, CM6 1AE – 1520hrs\nTakeley\, Opposite The Four Ashes\, Dunmow Road\, CM22 6SB – 1530hrs
URL:https://luxfordtheatretrips.co.uk/event/the-play-that-goes-wrong-3/
LOCATION:Duchess Theatre\, Catherine Street\, London\, WC2B 5LA\, United Kingdom
CATEGORIES:Great Notley Route,Play
ORGANIZER;CN="Luxford Theatre Trips":MAILTO:info@luxfordtheatretrips.co.uk
END:VEVENT
BEGIN:VEVENT
DTSTART;TZID=Europe/London:20250423T200000
DTEND;TZID=Europe/London:20250423T213000
DTSTAMP:20260420T234202
CREATED:20241121T104446Z
LAST-MODIFIED:20241121T104446Z
UID:110082-1745438400-1745443800@luxfordtheatretrips.co.uk
SUMMARY:SIX
DESCRIPTION:Think you know the six Wives of Henry VIII? Think again… \nThe crowning glory of the West End\, Broadway and beyond\, history is about to get over-throne in the\nhomegrown hit musical sensation\, SIX\, live at the Vaudeville Theatre. \nCreated by Toby Marlow and Lucy Moss\, prepare to lose your head and experience the Tudor Wives’ lives\nas they turn back the clock and take to the stage to reclaim their crowns and retell their stories of love\, loss\nand the infamous ex they all have in common. \nJoin Aragon\, Boleyn\, Seymour\, Cleves\, Howard and Parr\, backed by their fierce on-stage band\,\nthe Ladies in Waiting\, and Get Down to a royal retelling of the sassiest story in British Her-story. \nPlease note your show will finish around 30 minutes before others attended by your coach so collection will be a bit delayed but will give you time to use the toilet or grab a coffee. \nCoach pick up;\nBroomfield\, The Angel bus stop OPPOSITE The Angel Main Road CM1 7AH – 1440hrs\nGreat Leighs\, Opposite The Castle\, Main Road\, CM3 1NE – 1450hrs\nGreat Notley\, Entrance to White Courts Estate\, Windermere Drive\, CM77 7UB – 1500hrs\nDunmow\, Opposite The Flitch House\, High Street\, CM6 1AE – 1520hrs\nTakeley\, Opposite The Four Ashes\, Dunmow Road\, CM22 6SB – 1530hrs
URL:https://luxfordtheatretrips.co.uk/event/six-3/
LOCATION:Vaudeville Theatre\, 404 Strand\, London\, WC2R 0NH
CATEGORIES:Great Notley Route,Musical
ATTACH;FMTTYPE=image/png:https://luxfordtheatretrips.co.uk/wp-content/uploads/2023/04/SIX-for-website.png
ORGANIZER;CN="Luxford Theatre Trips":MAILTO:info@luxfordtheatretrips.co.uk
END:VEVENT
END:VCALENDAR