BEGIN:VCALENDAR
VERSION:2.0
PRODID:-//Luxford Theatre Trips - ECPv6.15.20//NONSGML v1.0//EN
CALSCALE:GREGORIAN
METHOD:PUBLISH
X-ORIGINAL-URL:https://luxfordtheatretrips.co.uk
X-WR-CALDESC:Events for Luxford Theatre Trips
REFRESH-INTERVAL;VALUE=DURATION:PT1H
X-Robots-Tag:noindex
X-PUBLISHED-TTL:PT1H
BEGIN:VTIMEZONE
TZID:Europe/London
BEGIN:DAYLIGHT
TZOFFSETFROM:+0000
TZOFFSETTO:+0100
TZNAME:BST
DTSTART:20260329T010000
END:DAYLIGHT
BEGIN:STANDARD
TZOFFSETFROM:+0100
TZOFFSETTO:+0000
TZNAME:GMT
DTSTART:20261025T010000
END:STANDARD
BEGIN:DAYLIGHT
TZOFFSETFROM:+0000
TZOFFSETTO:+0100
TZNAME:BST
DTSTART:20270328T010000
END:DAYLIGHT
BEGIN:STANDARD
TZOFFSETFROM:+0100
TZOFFSETTO:+0000
TZNAME:GMT
DTSTART:20271031T010000
END:STANDARD
BEGIN:DAYLIGHT
TZOFFSETFROM:+0000
TZOFFSETTO:+0100
TZNAME:BST
DTSTART:20280326T010000
END:DAYLIGHT
BEGIN:STANDARD
TZOFFSETFROM:+0100
TZOFFSETTO:+0000
TZNAME:GMT
DTSTART:20281029T010000
END:STANDARD
END:VTIMEZONE
BEGIN:VEVENT
DTSTART;TZID=Europe/London:20270525T193000
DTEND;TZID=Europe/London:20270525T220000
DTSTAMP:20260420T163632
CREATED:20260320T151634Z
LAST-MODIFIED:20260320T151634Z
UID:119943-1811273400-1811282400@luxfordtheatretrips.co.uk
SUMMARY:Miss Saigon
DESCRIPTION:Cameron Mackintosh\, in association with Michael Harrison\, presents the spectacular new production of MISS SAIGON as Boublil and Schönberg’s legendary musical is reborn. The soaring score features hit songs including; “The Heat is On”\, “The Movie in My Mind”\, “Last Night of the World” and “The American Dream”. \nThis epic production opens in London on 13 May 2027 for a strictly limited season at the Prince Edward Theatre. \nIn the last days of the Vietnam War\, 17 year-old Kim is forced to work in a Saigon bar run by a notorious character known as The Engineer. There she meets and falls in love with an American GI named Chris but they are torn apart by the fall of Saigon. For 3 years Kim goes on an epic journey of survival to find her way back to Chris\, who has no idea he’s fathered a son. \nRows B to P of the stalls \nBroomfield\, The Angel bus stop OPPOSITE The Angel Main Road CM1 7AH – 1440hrs\nGreat Leighs\, Opposite The Castle\, Main Road\, CM3 1NE – 1450hrs\nGreat Notley\, Entrance to White Courts Estate\, Windermere Drive\, CM77 7UB – 1500hrs\nDunmow\, Opposite The Flitch House\, High Street\, CM6 1AE – 1520hrs\nTakeley\, Opposite The Four Ashes\, Dunmow Road\, CM22 6SB – 1530hrs
URL:https://luxfordtheatretrips.co.uk/event/miss-saigon/
LOCATION:Prince Edward Theatre\, Old Compton Street\, London\, W1D 4HS\, United Kingdom
CATEGORIES:Great Notley Route,Musical
ATTACH;FMTTYPE=image/jpeg:https://luxfordtheatretrips.co.uk/wp-content/uploads/2026/03/miss-saigon-website.jpg
ORGANIZER;CN="Luxford Theatre Trips":MAILTO:info@luxfordtheatretrips.co.uk
END:VEVENT
BEGIN:VEVENT
DTSTART;TZID=Europe/London:20270609T190000
DTEND;TZID=Europe/London:20270609T220000
DTSTAMP:20260420T163632
CREATED:20260324T195503Z
LAST-MODIFIED:20260324T195503Z
UID:120102-1812567600-1812578400@luxfordtheatretrips.co.uk
SUMMARY:Harry Potter - Tiptree route
DESCRIPTION:Following 9 ¾ incredible years in the West End\, 2026 marks an exciting new era for Harry Potter and the Cursed Child. We’re evolving the production to share its magic and wonder with more people than ever before. \nYou can now experience the magic of our reimagined one part show. \n19 years after Harry\, Ron\, and Hermione saved the wizarding world\, they’re back on a most extraordinary new adventure – this time\, joined by a brave new generation that has only just arrived at the legendary Hogwarts School of Witchcraft and Wizardry. Prepare for spectacular spells\, a mind-blowing race through time\, and an epic battle to stop mysterious forces\, all while the future hangs in the balance. \nThis one-of-a-kind theatrical experience is packed with “thrilling theatricality and pulse-pounding storytelling” (The Hollywood Reporter). It will leave you “audibly wowed\, cheering and gasping” (The Telegraph)\, as “visions of pure enchantment send shivers down your spine” (Rolling Stone). “It is out of this world\, it’s magic\, it’s a hit” (The Times). \nBased on an original new story by J.K. Rowling\, Jack Thorne and John Tiffany\, Harry Potter and the Cursed Child\, a new play by Jack Thorne received its world premiere in London’s West End at the Palace Theatre in summer 2016. \nHarry Potter and the Cursed child is recommended for ages 8+. All persons entering the theatre\, regardless of age\, must have a ticket\, and children under 5 are not permitted. Babes-in-arms are not admitted to the auditorium. Please note that patrons under the age of 15 must be accompanied by an adult. \nTiptree – Outside St Lukes Church\, Church Road Tiptree CO5 0HF – 1445hrs\nFeering – Feering Hill Bus stop\, Nr John Ravens Court\, CO5 9NL – 1455hrs\nKelvedon – Bus stop opposite the post office\, High Street Kelvedon CO5 9AG – 1500hrs\nWitham – Bus stop opposite Paddy Power Newland Street Witham CM8 1AH – 1515hrs
URL:https://luxfordtheatretrips.co.uk/event/harry-potter-tiptree-route/
LOCATION:Palace Theatre\, 113 Shaftesbury Avenue\, London\, W1D 5AY\, United Kingdom
CATEGORIES:Play,Tiptree Route,Witham Pick-up
ATTACH;FMTTYPE=image/png:https://luxfordtheatretrips.co.uk/wp-content/uploads/2026/03/Harry-Potter-one-part-website.png
ORGANIZER;CN="Luxford Theatre Trips":MAILTO:info@luxfordtheatretrips.co.uk
END:VEVENT
BEGIN:VEVENT
DTSTART;TZID=Europe/London:20270609T193000
DTEND;TZID=Europe/London:20270609T220000
DTSTAMP:20260420T163632
CREATED:20260320T152641Z
LAST-MODIFIED:20260320T152808Z
UID:119947-1812569400-1812578400@luxfordtheatretrips.co.uk
SUMMARY:Miss Saigon  - Tiptree route
DESCRIPTION:Cameron Mackintosh\, in association with Michael Harrison\, presents the spectacular new production of MISS SAIGON as Boublil and Schönberg’s legendary musical is reborn. The soaring score features hit songs including; “The Heat is On”\, “The Movie in My Mind”\, “Last Night of the World” and “The American Dream”. \nThis epic production opens in London on 13 May 2027 for a strictly limited season at the Prince Edward Theatre. \nIn the last days of the Vietnam War\, 17 year-old Kim is forced to work in a Saigon bar run by a notorious character known as The Engineer. There she meets and falls in love with an American GI named Chris but they are torn apart by the fall of Saigon. For 3 years Kim goes on an epic journey of survival to find her way back to Chris\, who has no idea he’s fathered a son. \nStalls B to O \nTiptree – Outside St Lukes Church\, Church Road Tiptree CO5 0HF – 1445hrs\nFeering – Feering Hill Bus stop\, Nr John Ravens Court\, CO5 9NL – 1455hrs\nKelvedon – Bus stop opposite the post office\, High Street Kelvedon CO5 9AG – 1500hrs\nWitham – Bus stop opposite Paddy Power Newland Street Witham CM8 1AH – 1515hrs
URL:https://luxfordtheatretrips.co.uk/event/miss-saigon-tiptree-route/
LOCATION:Prince Edward Theatre\, Old Compton Street\, London\, W1D 4HS\, United Kingdom
CATEGORIES:Musical,Tiptree Route,Witham Pick-up
ATTACH;FMTTYPE=image/jpeg:https://luxfordtheatretrips.co.uk/wp-content/uploads/2026/03/miss-saigon-website.jpg
ORGANIZER;CN="Luxford Theatre Trips":MAILTO:info@luxfordtheatretrips.co.uk
END:VEVENT
BEGIN:VEVENT
DTSTART;TZID=Europe/London:20271031T193000
DTEND;TZID=Europe/London:20271031T220000
DTSTAMP:20260420T163632
CREATED:20251208T185203Z
LAST-MODIFIED:20251209T200737Z
UID:117694-1825011000-1825020000@luxfordtheatretrips.co.uk
SUMMARY:Alan Carr - Have I Said Too Much Tour 2027 at The London Palladium
DESCRIPTION:Alan Carr is back on tour and his lips are unsealed! With a big mouth and a talent for oversharing\, Alan’s ready to dish some drama. Expect stories of dipping into the dating pool\, navigating showbiz green rooms and a sprinkling of tales from the Traitors turret. \nPlease note: these shows take place in 2027. \nStrictly over 14’s only \nTiptree – Outside St Lukes Church\, Church Road Tiptree CO5 0HF – 1410hrs\nFeering – Feering Hill bus stop\, Nr John Raven Court CO5 9PX – 1415hrs\nKelvedon – Bus stop opposite the post office\, High Street Kelvedon CO5 9AG – 1420hrs\nWitham – Bus stop Collingwood Road\, CM8 2EE – 1440hrs\nGreat Notley\, Entrance to White Courts Estate\, Windermere Drive\, CM77 7UB – 1500hrs\nDunmow\, Opposite Casa\, High Street\, CM6 1AE – 1520hrs\nTakeley\, Opposite The Four Ashes\, Dunmow Road\, CM22 6SB – 1530hrs \nThe route may change slightly nearer the time. We appreciate Tiptree and Kelvedon will incur slightly longer journey than usual but we could only secure enough tickets for one coach.
URL:https://luxfordtheatretrips.co.uk/event/alan-carr-have-i-said-too-much-tour-2027-at-the-london-palladium/
LOCATION:The London Palladium\, 8 Argyll Street\, London\, W1F 7TF\, United Kingdom
CATEGORIES:Great Notley Route,Tiptree Route,Witham Pick-up
ATTACH;FMTTYPE=image/jpeg:https://luxfordtheatretrips.co.uk/wp-content/uploads/2025/12/alan-carr-website.jpg
ORGANIZER;CN="Luxford Theatre Trips":MAILTO:info@luxfordtheatretrips.co.uk
END:VEVENT
END:VCALENDAR