BEGIN:VCALENDAR
VERSION:2.0
PRODID:-//Luxford Theatre Trips - ECPv6.15.20//NONSGML v1.0//EN
CALSCALE:GREGORIAN
METHOD:PUBLISH
X-WR-CALNAME:Luxford Theatre Trips
X-ORIGINAL-URL:https://luxfordtheatretrips.co.uk
X-WR-CALDESC:Events for Luxford Theatre Trips
REFRESH-INTERVAL;VALUE=DURATION:PT1H
X-Robots-Tag:noindex
X-PUBLISHED-TTL:PT1H
BEGIN:VTIMEZONE
TZID:Europe/London
BEGIN:DAYLIGHT
TZOFFSETFROM:+0000
TZOFFSETTO:+0100
TZNAME:BST
DTSTART:20220327T010000
END:DAYLIGHT
BEGIN:STANDARD
TZOFFSETFROM:+0100
TZOFFSETTO:+0000
TZNAME:GMT
DTSTART:20221030T010000
END:STANDARD
BEGIN:DAYLIGHT
TZOFFSETFROM:+0000
TZOFFSETTO:+0100
TZNAME:BST
DTSTART:20230326T010000
END:DAYLIGHT
BEGIN:STANDARD
TZOFFSETFROM:+0100
TZOFFSETTO:+0000
TZNAME:GMT
DTSTART:20231029T010000
END:STANDARD
BEGIN:DAYLIGHT
TZOFFSETFROM:+0000
TZOFFSETTO:+0100
TZNAME:BST
DTSTART:20240331T010000
END:DAYLIGHT
BEGIN:STANDARD
TZOFFSETFROM:+0100
TZOFFSETTO:+0000
TZNAME:GMT
DTSTART:20241027T010000
END:STANDARD
END:VTIMEZONE
BEGIN:VEVENT
DTSTART;TZID=Europe/London:20230921T213000
DTEND;TZID=Europe/London:20230921T230000
DTSTAMP:20260422T030828
CREATED:20230411T200744Z
LAST-MODIFIED:20240214T103426Z
UID:100660-1695331800-1695337200@luxfordtheatretrips.co.uk
SUMMARY:SIX
DESCRIPTION:Thursday 21st September\nThink you know the six Wives of Henry VIII? Think again… \nPrepare to lose your head and experience the Tudor Wives’ lives\nas they turn back the clock and take to the stage to reclaim their crowns and retell their stories of love\, loss\nand the infamous ex they all have in common. \nBroomfield\, The Angel bus stop OPPOSITE The Angel Main Road CM1 7AH – 1440hrs\nGreat Leighs\, Opposite The Castle\, Main Road\, CM3 1NE – 1450hrs\nGreat Notley\, Entrance to White Courts Estate\, Windermere Drive\, CM77 7UB – 1500hrs\nDunmow\, Opposite The Flitch House\, High Street\, CM6 1AE – 1520hrs
URL:https://luxfordtheatretrips.co.uk/event/six/
LOCATION:Vaudeville Theatre\, 404 Strand\, London\, WC2R 0NH
CATEGORIES:Great Notley Route,Musical
ATTACH;FMTTYPE=image/png:https://luxfordtheatretrips.co.uk/wp-content/uploads/2023/04/SIX-for-website.png
ORGANIZER;CN="Luxford Theatre Trips":MAILTO:info@luxfordtheatretrips.co.uk
END:VEVENT
BEGIN:VEVENT
DTSTART;TZID=Europe/London:20230921T203000
DTEND;TZID=Europe/London:20230921T230000
DTSTAMP:20260422T030828
CREATED:20230411T201549Z
LAST-MODIFIED:20230925T160543Z
UID:100664-1695328200-1695337200@luxfordtheatretrips.co.uk
SUMMARY:Jersey Boys
DESCRIPTION:They were just four guys from Jersey\, until they sang their very first note. They had a sound nobody had ever heard… and the radio just couldn’t get enough of. But while their harmonies were perfect on stage\, off stage it was a very different story — a story that has made them an international sensation all over again. \nCoach pick up details:-\nBroomfield\, The Angel bus stop OPPOSITE The Angel Main Road CM1 7AH – 1440hrs\nGreat Leighs\, Opposite The Castle\, Main Road\, CM3 1NE – 1450hrs\nGreat Notley\, Entrance to White Courts Estate\, Windermere Drive\, CM77 7UB – 1500hrs\nDunmow\, Opposite The Flitch House\, High Street\, CM6 1AE – 1520hrs
URL:https://luxfordtheatretrips.co.uk/event/jersey-boys/
LOCATION:Trafalgar Theatre\, 14 Whitehall\, London\, SW1A 2DY\, United Kingdom
CATEGORIES:Great Notley Route
ORGANIZER;CN="Luxford Theatre Trips":MAILTO:info@luxfordtheatretrips.co.uk
END:VEVENT
BEGIN:VEVENT
DTSTART;TZID=Europe/London:20230921T203000
DTEND;TZID=Europe/London:20230921T203000
DTSTAMP:20260422T030828
CREATED:20230509T193949Z
LAST-MODIFIED:20230925T160549Z
UID:100925-1695328200-1695328200@luxfordtheatretrips.co.uk
SUMMARY:Back to The Future
DESCRIPTION:When Marty McFly finds himself transported back to 1955 in a time machine built by the eccentric scientist Doc Brown\, he accidentally changes the course of history. Now he’s in a race against time to fix the present\, escape the past and send himself… back to the future. \nCoach pick up details:-\nBroomfield\, The Angel bus stop OPPOSITE The Angel Main Road CM1 7AH – 1440hrs\nGreat Leighs\, Opposite The Castle\, Main Road\, CM3 1NE – 1450hrs\nGreat Notley\, Entrance to White Courts Estate\, Windermere Drive\, CM77 7UB – 1500hrs\nDunmow\, Opposite The Flitch House\, High Street\, CM6 1AE – 1520hrs
URL:https://luxfordtheatretrips.co.uk/event/back-to-the-future/
CATEGORIES:Great Notley Route,Musical
END:VEVENT
BEGIN:VEVENT
DTSTART;TZID=Europe/London:20230913T203000
DTEND;TZID=Europe/London:20230913T223000
DTSTAMP:20260422T030828
CREATED:20230624T110403Z
LAST-MODIFIED:20230925T160555Z
UID:101321-1694637000-1694644200@luxfordtheatretrips.co.uk
SUMMARY:2:22 A Ghost Story
DESCRIPTION:This award-winning supernatural thriller continues its phenomenal West End run – now playing to packed houses at the Apollo Theatre\, Shaftesbury Ave\, starring Sophia Bush\, Ricky Champ\, Clifford Samuel and Jaime Winstone. \n2:22- A Ghost Story is written by award-winning writer Danny Robins\, creator of the hit BBC podcast The Battersea Poltergeist\, and is directed by Matthew Dunster. Brilliantly funny and intriguing; 2:22 A Ghost Story is an adrenaline-filled night where secrets emerge and ghosts may or may not appear. What do you believe? And do you dare discover the truth? \nJenny believes her new home is haunted\, but her husband Sam isn’t having any of it. They argue with their first dinner guests\, old friend Lauren and new partner Ben. Can the dead really walk again? Belief and scepticism clash\, but something feels strange and frightening\, and that something is getting closer. So they’re going to stay up until 2:22….and then they’ll know.
URL:https://luxfordtheatretrips.co.uk/event/222-a-ghost-story/
LOCATION:Apollo Theatre\, Shaftesbury Avenue\, London\, W1D 7EZ\, United Kingdom
CATEGORIES:Great Notley Route,Play
ORGANIZER;CN="Luxford Theatre Trips":MAILTO:info@luxfordtheatretrips.co.uk
END:VEVENT
BEGIN:VEVENT
DTSTART;TZID=Europe/London:20230913T153000
DTEND;TZID=Europe/London:20230913T223000
DTSTAMP:20260422T030828
CREATED:20230624T111401Z
LAST-MODIFIED:20230925T160607Z
UID:101327-1694619000-1694644200@luxfordtheatretrips.co.uk
SUMMARY:Moulin Rouge and 2:22 A Ghost Story double bill
DESCRIPTION:Why not see the Matinee of Moulin Rouge and the evening performance of 2:22 A Ghost Story in one day? \nMoulin Rouge! The Musical.- Baz Luhrmann’s revolutionary film comes to life onstage and is now playing in London’s West End. The Piccadilly Theatre has been transformed into a world of splendour and romance\, of eye-popping excess\, of glitz\, grandeur\, and glory! A world where Bohemians and aristocrats rub elbows and revel in electrifying enchantment.  \n2:22 A Ghost Story – Jenny believes her new home is haunted\, but her husband Sam isn’t having any of it. They argue with their first dinner guests\, old friend Lauren and new partner Ben. Can the dead really walk again? Belief and scepticism clash\, but something feels strange and frightening\, and that something is getting closer. So they’re going to stay up until 2:22….and then they’ll know.
URL:https://luxfordtheatretrips.co.uk/event/moulin-rouge-and-222-a-ghost-story-double-bill/
LOCATION:Piccadilly Theatre
CATEGORIES:Great Notley Route
ORGANIZER;CN="Luxford Theatre Trips":MAILTO:info@luxfordtheatretrips.co.uk
END:VEVENT
BEGIN:VEVENT
DTSTART;TZID=Europe/London:20230913T153000
DTEND;TZID=Europe/London:20230913T180000
DTSTAMP:20260422T030828
CREATED:20230410T092610Z
LAST-MODIFIED:20230925T160602Z
UID:100619-1694619000-1694628000@luxfordtheatretrips.co.uk
SUMMARY:Moulin Rouge - Full day in London
DESCRIPTION:Welcome to Moulin Rouge! The Musical. Baz Luhrmann’s revolutionary film comes to life onstage and is now playing in London’s West End. The Piccadilly Theatre has been transformed into a world of splendour and romance\, of eye-popping excess\, of glitz\, grandeur\, and glory! A world where Bohemians and aristocrats rub elbows and revel in electrifying enchantment. \nFollowing the matinee show enjoy 4 to 5 hours of free time to explore the sights of London and enjoy the vast array of restaurants and bars available. \nCoach pick up :-\nBroomfield\, The Angel Bus stop\, opposite The Angel Main Road\, CM1 7AH – 0910hrs\nGreat Leighs\, Opposite The Castle\, Main Road\, CM3 1NE – 0920hrs\nGreat Notley\, Entrance to White Courts Estate\, Windermere Drive\, CM77 7UB – 0925hrs\nDunmow\, Opposite The Flitch House\, Main Road\, CM6 1AE – 0945hrs \nThe coach will leave London at around 9.30pm.
URL:https://luxfordtheatretrips.co.uk/event/moulin-rouge-full-day-in-london/
LOCATION:Piccadilly Theatre
CATEGORIES:Great Notley Route
ATTACH;FMTTYPE=image/png:https://luxfordtheatretrips.co.uk/wp-content/uploads/2023/04/Moulin-Rouge-for-website.png
ORGANIZER;CN="Luxford Theatre Trips":MAILTO:info@luxfordtheatretrips.co.uk
END:VEVENT
BEGIN:VEVENT
DTSTART;TZID=Europe/London:20230913T150000
DTEND;TZID=Europe/London:20230913T230000
DTSTAMP:20260422T030828
CREATED:20230320T180048Z
LAST-MODIFIED:20230925T160612Z
UID:100460-1694617200-1694646000@luxfordtheatretrips.co.uk
SUMMARY:HARRY POTTER AND THE CURSED CHILD PARTS 1 & 2
DESCRIPTION:Harry Potter and the Cursed Child is a new play by Jack Thorne\, based on original ideas by Thorne\, J.K. Rowling\, and John Tiffany\, It is the eighth story in the Harry Potter series and the first official Harry Potter story to be presented on stage. \nThe critically acclaimed production is the most awarded new play in theatre history. Harry Potter and the Cursed Child has won 24 major theatre awards in the UK and is the most awarded play in the history of the Olivier Awards\, winning a record-breaking nine awards including Best New Play. \nThe production has also won 25 major US awards with six Tony Awards including Best Play and is now running at the Palace Theatre in London’s West End. \nCoach Pick Up Details:-\nBroomfield\, The Angel Bus stop\, opposite The Angel Main Road\, CM1 7AH – 0910hrs\nGreat Leighs\, Opposite The Castle\, Main Road\, CM3 1NE – 0920hrs\nGreat Notley\, Entrance to White Courts Estate\, Windermere Drive\, CM77 7UB – 0925hrs\nDunmow\, Opposite The Flitch House\, Main Road\, CM6 1AE – 0945hrs
URL:https://luxfordtheatretrips.co.uk/event/harry-potter-and-the-cursed-child-parts-1-2/
LOCATION:Palace Theatre\, 113 Shaftesbury Avenue\, London\, W1D 5AY\, United Kingdom
CATEGORIES:Great Notley Route
ATTACH;FMTTYPE=image/png:https://luxfordtheatretrips.co.uk/wp-content/uploads/2023/03/Harry-Potter-Web-site.png
ORGANIZER;CN="Luxford Theatre Trips":MAILTO:info@luxfordtheatretrips.co.uk
END:VEVENT
BEGIN:VEVENT
DTSTART;TZID=Europe/London:20230913T103000
DTEND;TZID=Europe/London:20230913T230000
DTSTAMP:20260422T030828
CREATED:20230824T123046Z
LAST-MODIFIED:20230925T160616Z
UID:102104-1694601000-1694646000@luxfordtheatretrips.co.uk
SUMMARY:Day out in The West End - Coach only
DESCRIPTION:Enjoy what The West End has to offer with some free time without having to worry about public transport.\nA luxury coach will collect you from Gt Notley at 0930 or Dunmow 0945.\nWe will aim to arrive in The heart of The West End around 1130\, traffic permitting.\nThen board the coach at 2145 ready for departure. \nAdults £25\, Children under 16 £10
URL:https://luxfordtheatretrips.co.uk/event/day-out-in-the-west-end-coach-only/
LOCATION:Palace Theatre\, 113 Shaftesbury Avenue\, London\, W1D 5AY\, United Kingdom
CATEGORIES:Coach only,Great Notley Route
ORGANIZER;CN="Luxford Theatre Trips":MAILTO:info@luxfordtheatretrips.co.uk
END:VEVENT
BEGIN:VEVENT
DTSTART;TZID=Europe/London:20230901T170000
DTEND;TZID=Europe/London:20230901T183000
DTSTAMP:20260422T030828
CREATED:20230402T153123Z
LAST-MODIFIED:20230925T160621Z
UID:100518-1693587600-1693593000@luxfordtheatretrips.co.uk
SUMMARY:Horrible Histories - Terrible Tudors
DESCRIPTION:Friday\, 1st September 2023\nWe all want to meet people from history. The trouble is everyone is dead! \nSo it’s time to prepare yourselves for Terrible Tudors live on stage! \nFrom the horrible Henries to the end of evil Elizabeth\, hear the legends (and the lies!) about the torturing Tudors. Find out the fate of Henry’s headless wives and his punch up with the Pope. Meet Bloody Mary and see Ed fall dead in his bed. Survive the Spanish Armada as they launch their attack! \nIt’s history with the nasty bits left in! \nCoach pick up details:-\nBroomfield\, The Angel Bus stop\, opposite The Angel Main Road\, CM1 7AH – 0910hrs\nGreat Leighs\, Opposite The Castle\, Main Road\, CM3 1NE – 0920hrs\nGreat Notley\, Entrance to White Courts Estate\, Windermere Drive\, CM77 7UB – 0925hrs\nDunmow\, Opposite The Flitch House\, Main Road\, CM6 1AE – 0945hrs
URL:https://luxfordtheatretrips.co.uk/event/horrible-histories-terrible-tudors/
LOCATION:Garrick Theatre\, 2 Charing Cross Road\, London\, WC2H 0HH\, United Kingdom
CATEGORIES:Great Notley Route
ORGANIZER;CN="Luxford Theatre Trips":MAILTO:info@luxfordtheatretrips.co.uk
END:VEVENT
BEGIN:VEVENT
DTSTART;TZID=Europe/London:20230901T153000
DTEND;TZID=Europe/London:20230901T180000
DTSTAMP:20260422T030828
CREATED:20230427T172030Z
LAST-MODIFIED:20230925T160628Z
UID:100746-1693582200-1693591200@luxfordtheatretrips.co.uk
SUMMARY:The Book of Mormon
DESCRIPTION:The smash-hit musical and winner of four Olivier Awards® including Best New Musical\, The Book of Mormon\, is still as popular as ever at the Prince of Wales Theatre. This hilariously funny musical is not for those that are easily offended. Contains explicit language and subjects of a sensitive nature. \nCoach pick up :-\nBroomfield\, The Angel Bus stop\, opposite The Angel Main Road\, CM1 7AH – 0910hrs\nGreat Leighs\, Opposite The Castle\, Main Road\, CM3 1NE – 0920hrs\nGreat Notley\, Entrance to White Courts Estate\, Windermere Drive\, CM77 7UB – 0925hrs\nDunmow\, Opposite The Flitch House\, High Street\, CM6 1AE – 0945hrs
URL:https://luxfordtheatretrips.co.uk/event/the-book-of-mormon/
LOCATION:Prince of Wales Theatre\, Coventry Street\, London\, W1D 6AS\, United Kingdom
CATEGORIES:Great Notley Route
ATTACH;FMTTYPE=image/png:https://luxfordtheatretrips.co.uk/wp-content/uploads/2023/04/Book-of-Mormon-for-website.png
END:VEVENT
BEGIN:VEVENT
DTSTART;TZID=Europe/London:20230901T110000
DTEND;TZID=Europe/London:20230901T183000
DTSTAMP:20260422T030828
CREATED:20230730T141029Z
LAST-MODIFIED:20230925T160635Z
UID:101849-1693566000-1693593000@luxfordtheatretrips.co.uk
SUMMARY:Coach Only - Free time in London
DESCRIPTION:We would like to offer the option of transport only on this trip. Perhaps you would like some free time in London without the hassle of trains and tubes especially with the threat of strikes looming. \nCoach pick up:\nBroomfield  0945\nGt Leighs 0955\nGt Notley 1000\nDunmow 1015 \nLeaving the West End around 17.30 \nA return journey will be priced at £25 per adult and £10 for under 16’s
URL:https://luxfordtheatretrips.co.uk/event/coach-only-free-time-in-london/
LOCATION:Garrick Theatre\, 2 Charing Cross Road\, London\, WC2H 0HH\, United Kingdom
CATEGORIES:Great Notley Route
ORGANIZER;CN="Luxford Theatre Trips":MAILTO:info@luxfordtheatretrips.co.uk
END:VEVENT
BEGIN:VEVENT
DTSTART;TZID=Europe/London:20230726T150000
DTEND;TZID=Europe/London:20230726T170000
DTSTAMP:20260422T030828
CREATED:20230411T203911Z
LAST-MODIFIED:20230925T160700Z
UID:100671-1690383600-1690390800@luxfordtheatretrips.co.uk
SUMMARY:Frozen
DESCRIPTION:Set the magic free with Disney’s spectacular FROZEN. The award-winning musical brings to life a world of sumptuous beauty\, humour and iconic music in a jaw-dropping production to melt hearts of all ages. \n\nWhen Queen Elsa’s hidden powers plunge the land of Arendelle into an eternal winter\, her sister Anna sets out to find her and save the kingdom before it’s too late. But as the storm rages on\, both sisters must learn that only an act of true love can thaw a frozen heart.
URL:https://luxfordtheatretrips.co.uk/event/frozen/
LOCATION:Theatre Royal Drury Lane\, Catherine Street\, London\, WC2B 5JF\, United Kingdom
CATEGORIES:Great Notley Route,Musical
END:VEVENT
BEGIN:VEVENT
DTSTART;TZID=Europe/London:20230720T203000
DTEND;TZID=Europe/London:20230720T230000
DTSTAMP:20260422T030828
CREATED:20230703T155901Z
LAST-MODIFIED:20230925T160712Z
UID:101494-1689885000-1689894000@luxfordtheatretrips.co.uk
SUMMARY:mrs doubtfire ticket only
DESCRIPTION:No Coach included
URL:https://luxfordtheatretrips.co.uk/event/mrs-doubtfire-ticket-only/
LOCATION:Shaftesbury Theatre\, 210 Shaftesbury Avenue\, London\, WC2H 8DP\, United Kingdom
CATEGORIES:Great Notley Route
ORGANIZER;CN="Luxford Theatre Trips":MAILTO:info@luxfordtheatretrips.co.uk
END:VEVENT
BEGIN:VEVENT
DTSTART;TZID=Europe/London:20230720T203000
DTEND;TZID=Europe/London:20230720T230000
DTSTAMP:20260422T030828
CREATED:20230509T204459Z
LAST-MODIFIED:20230925T160706Z
UID:100930-1689885000-1689894000@luxfordtheatretrips.co.uk
SUMMARY:Mrs Doubtfire
DESCRIPTION:Out-of-work actor Daniel will do anything for his kids. After losing custody in a messy divorce\, he creates the alter ego of Scottish nanny Euphegenia Doubtfire in a desperate attempt to stay in their lives. As his new character takes on a life of its own\, Mrs. Doubtfire teaches Daniel more than he bargained for about how to be a father.\nRecommended age 6+.\nChildren under the age of 3 years will not be permitted into the theatre. \nCoach pick up details:-\nBroomfield\, The Angel bus stop OPPOSITE The Angel Main Road CM1 7AH – 1500hrs\nGreat Leighs\, Opposite The Castle\, Main Road\, CM3 1NE – 1510hrs\nGreat Notley\, Entrance to White Courts Estate\, Windermere Drive\, CM77 7UB – 1515hrs\nDunmow\, Opposite The Flitch House\, Main Road\, CM6 1AE – 1530hrs
URL:https://luxfordtheatretrips.co.uk/event/mrs-doubtfire-2/
LOCATION:Shaftesbury Theatre\, 210 Shaftesbury Avenue\, London\, WC2H 8DP\, United Kingdom
CATEGORIES:Great Notley Route
ORGANIZER;CN="Luxford Theatre Trips":MAILTO:info@luxfordtheatretrips.co.uk
END:VEVENT
BEGIN:VEVENT
DTSTART;TZID=Europe/London:20230630T203000
DTEND;TZID=Europe/London:20230630T233000
DTSTAMP:20260422T030828
CREATED:20230317T105557Z
LAST-MODIFIED:20230925T160720Z
UID:100360-1688157000-1688167800@luxfordtheatretrips.co.uk
SUMMARY:The Wizard of Oz
DESCRIPTION:Join Dorothy and Toto on an unforgettable adventure as they are swept over the rainbow to the merry old land of Oz. \nCoach pick up details:-\nBroomfield\, Broomfield Hospital\, Stand 3\, Main Entrance\, Court Road\, CM1 7ET – 1455hrs\nGreat Leighs\, Opposite The Castle\, Main Road\, CM3 1NE – 1510hrs\nGreat Notley\, Entrance to White Courts Estate\, Windermere Drive\, CM77 7UB – 1515hrs\nDunmow\, Opposite The Flitch House\, Main Road\, CM6 1AE – 1535hrs
URL:https://luxfordtheatretrips.co.uk/event/the-wizard-of-oz/
LOCATION:The London Palladium\, 8 Argyll Street\, London\, W1F 7TF\, United Kingdom
CATEGORIES:Great Notley Route
ORGANIZER;CN="Luxford Theatre Trips":MAILTO:info@luxfordtheatretrips.co.uk
END:VEVENT
BEGIN:VEVENT
DTSTART;TZID=Europe/London:20230620T203000
DTEND;TZID=Europe/London:20230620T230000
DTSTAMP:20260422T030828
CREATED:20230430T113944Z
LAST-MODIFIED:20230925T160726Z
UID:100784-1687293000-1687302000@luxfordtheatretrips.co.uk
SUMMARY:Mrs Doubtfire
DESCRIPTION:Out-of-work actor Daniel will do anything for his kids. After losing custody in a messy divorce\, he creates the alter ego of Scottish nanny Euphegenia Doubtfire in a desperate attempt to stay in their lives. As his new character takes on a life of its own\, Mrs. Doubtfire teaches Daniel more than he bargained for about how to be a father.\nRecommended age 6+.\nChildren under the age of 3 years will not be permitted into the theatre.
URL:https://luxfordtheatretrips.co.uk/event/mrs-doubtfire/
LOCATION:Shaftesbury Theatre\, 210 Shaftesbury Avenue\, London\, WC2H 8DP\, United Kingdom
CATEGORIES:Great Notley Route
ORGANIZER;CN="Luxford Theatre Trips":MAILTO:info@luxfordtheatretrips.co.uk
END:VEVENT
BEGIN:VEVENT
DTSTART;TZID=Europe/London:20230612T203000
DTEND;TZID=Europe/London:20230612T230000
DTSTAMP:20260422T030828
CREATED:20230430T120620Z
LAST-MODIFIED:20230925T160736Z
UID:100788-1686601800-1686610800@luxfordtheatretrips.co.uk
SUMMARY:We Will Rock You
DESCRIPTION:Starring writer and director Ben Elton* as the Rebel Leader\, for the first time\, alongside West End legends Brenda Edwardsⴕ (Chicago\, Sister Act\, Hairspray) as Killer Queen and Lee Mead (Wicked\, Joseph and the Amazing Technicolor Dreamcoat) as Khashoggi with further casting to be announced. \nFeaturing 24 of Queen’s best-loved hits\, including We Are The Champions\, Bohemian Rhapsody\, Don’t Stop Me Now and Radio Ga Ga\, We Will Rock You is guaranteed to blow your mind.
URL:https://luxfordtheatretrips.co.uk/event/we-will-rock-you/
LOCATION:London Coliseum\, St Martins Lane\, London\, WC2N 4ES\, United Kingdom
CATEGORIES:Great Notley Route
ORGANIZER;CN="Luxford Theatre Trips":MAILTO:info@luxfordtheatretrips.co.uk
END:VEVENT
BEGIN:VEVENT
DTSTART;TZID=Europe/London:20230612T203000
DTEND;TZID=Europe/London:20230612T230000
DTSTAMP:20260422T030828
CREATED:20230429T152532Z
LAST-MODIFIED:20230925T160739Z
UID:100771-1686601800-1686610800@luxfordtheatretrips.co.uk
SUMMARY:Les Miserables
DESCRIPTION:Cameron Mackintosh’s acclaimed fully-staged new production of Boublil and Schönberg’s Les Misérables is now playing at London’s Sondheim Theatre. \nThis brilliant new staging has taken the world by storm and has been hailed “Les Mis for the 21st Century” (Huffington Post)\, “a reborn dream of a production” (Daily Telegraph) and “perfect theatre in a perfect theatre” (Sunday Telegraph). \nThe magnificent score of Les Misérables includes the songs; “I Dreamed a Dream”\, “On My Own”\, “Bring Him Home”\, “One Day More”\, “Master Of The House” and many more. Seen by over 130 million people worldwide in 53 countries and in 22 languages\, Les Misérables is undisputedly one of the world’s most popular musicals.
URL:https://luxfordtheatretrips.co.uk/event/les-miserables/
LOCATION:Sondheim Theatre\, 51 Shaftesbury Avenue\, London\, W1D 6BA\, United Kingdom
CATEGORIES:Great Notley Route
ORGANIZER;CN="Luxford Theatre Trips":MAILTO:info@luxfordtheatretrips.co.uk
END:VEVENT
END:VCALENDAR