BEGIN:VCALENDAR
VERSION:2.0
PRODID:-//Luxford Theatre Trips - ECPv6.15.20//NONSGML v1.0//EN
CALSCALE:GREGORIAN
METHOD:PUBLISH
X-WR-CALNAME:Luxford Theatre Trips
X-ORIGINAL-URL:https://luxfordtheatretrips.co.uk
X-WR-CALDESC:Events for Luxford Theatre Trips
REFRESH-INTERVAL;VALUE=DURATION:PT1H
X-Robots-Tag:noindex
X-PUBLISHED-TTL:PT1H
BEGIN:VTIMEZONE
TZID:Europe/London
BEGIN:DAYLIGHT
TZOFFSETFROM:+0000
TZOFFSETTO:+0100
TZNAME:BST
DTSTART:20220327T010000
END:DAYLIGHT
BEGIN:STANDARD
TZOFFSETFROM:+0100
TZOFFSETTO:+0000
TZNAME:GMT
DTSTART:20221030T010000
END:STANDARD
BEGIN:DAYLIGHT
TZOFFSETFROM:+0000
TZOFFSETTO:+0100
TZNAME:BST
DTSTART:20230326T010000
END:DAYLIGHT
BEGIN:STANDARD
TZOFFSETFROM:+0100
TZOFFSETTO:+0000
TZNAME:GMT
DTSTART:20231029T010000
END:STANDARD
BEGIN:DAYLIGHT
TZOFFSETFROM:+0000
TZOFFSETTO:+0100
TZNAME:BST
DTSTART:20240331T010000
END:DAYLIGHT
BEGIN:STANDARD
TZOFFSETFROM:+0100
TZOFFSETTO:+0000
TZNAME:GMT
DTSTART:20241027T010000
END:STANDARD
END:VTIMEZONE
BEGIN:VEVENT
DTSTART;TZID=Europe/London:20230620T203000
DTEND;TZID=Europe/London:20230620T230000
DTSTAMP:20260422T023145
CREATED:20230430T113944Z
LAST-MODIFIED:20230925T160726Z
UID:100784-1687293000-1687302000@luxfordtheatretrips.co.uk
SUMMARY:Mrs Doubtfire
DESCRIPTION:Out-of-work actor Daniel will do anything for his kids. After losing custody in a messy divorce\, he creates the alter ego of Scottish nanny Euphegenia Doubtfire in a desperate attempt to stay in their lives. As his new character takes on a life of its own\, Mrs. Doubtfire teaches Daniel more than he bargained for about how to be a father.\nRecommended age 6+.\nChildren under the age of 3 years will not be permitted into the theatre.
URL:https://luxfordtheatretrips.co.uk/event/mrs-doubtfire/
LOCATION:Shaftesbury Theatre\, 210 Shaftesbury Avenue\, London\, WC2H 8DP\, United Kingdom
CATEGORIES:Great Notley Route
ORGANIZER;CN="Luxford Theatre Trips":MAILTO:info@luxfordtheatretrips.co.uk
END:VEVENT
BEGIN:VEVENT
DTSTART;TZID=Europe/London:20230612T203000
DTEND;TZID=Europe/London:20230612T230000
DTSTAMP:20260422T023145
CREATED:20230430T120620Z
LAST-MODIFIED:20230925T160736Z
UID:100788-1686601800-1686610800@luxfordtheatretrips.co.uk
SUMMARY:We Will Rock You
DESCRIPTION:Starring writer and director Ben Elton* as the Rebel Leader\, for the first time\, alongside West End legends Brenda Edwardsⴕ (Chicago\, Sister Act\, Hairspray) as Killer Queen and Lee Mead (Wicked\, Joseph and the Amazing Technicolor Dreamcoat) as Khashoggi with further casting to be announced. \nFeaturing 24 of Queen’s best-loved hits\, including We Are The Champions\, Bohemian Rhapsody\, Don’t Stop Me Now and Radio Ga Ga\, We Will Rock You is guaranteed to blow your mind.
URL:https://luxfordtheatretrips.co.uk/event/we-will-rock-you/
LOCATION:London Coliseum\, St Martins Lane\, London\, WC2N 4ES\, United Kingdom
CATEGORIES:Great Notley Route
ORGANIZER;CN="Luxford Theatre Trips":MAILTO:info@luxfordtheatretrips.co.uk
END:VEVENT
BEGIN:VEVENT
DTSTART;TZID=Europe/London:20230612T203000
DTEND;TZID=Europe/London:20230612T230000
DTSTAMP:20260422T023145
CREATED:20230429T152532Z
LAST-MODIFIED:20230925T160739Z
UID:100771-1686601800-1686610800@luxfordtheatretrips.co.uk
SUMMARY:Les Miserables
DESCRIPTION:Cameron Mackintosh’s acclaimed fully-staged new production of Boublil and Schönberg’s Les Misérables is now playing at London’s Sondheim Theatre. \nThis brilliant new staging has taken the world by storm and has been hailed “Les Mis for the 21st Century” (Huffington Post)\, “a reborn dream of a production” (Daily Telegraph) and “perfect theatre in a perfect theatre” (Sunday Telegraph). \nThe magnificent score of Les Misérables includes the songs; “I Dreamed a Dream”\, “On My Own”\, “Bring Him Home”\, “One Day More”\, “Master Of The House” and many more. Seen by over 130 million people worldwide in 53 countries and in 22 languages\, Les Misérables is undisputedly one of the world’s most popular musicals.
URL:https://luxfordtheatretrips.co.uk/event/les-miserables/
LOCATION:Sondheim Theatre\, 51 Shaftesbury Avenue\, London\, W1D 6BA\, United Kingdom
CATEGORIES:Great Notley Route
ORGANIZER;CN="Luxford Theatre Trips":MAILTO:info@luxfordtheatretrips.co.uk
END:VEVENT
END:VCALENDAR