BEGIN:VCALENDAR
VERSION:2.0
PRODID:-//Luxford Theatre Trips - ECPv6.15.20//NONSGML v1.0//EN
CALSCALE:GREGORIAN
METHOD:PUBLISH
X-WR-CALNAME:Luxford Theatre Trips
X-ORIGINAL-URL:https://luxfordtheatretrips.co.uk
X-WR-CALDESC:Events for Luxford Theatre Trips
REFRESH-INTERVAL;VALUE=DURATION:PT1H
X-Robots-Tag:noindex
X-PUBLISHED-TTL:PT1H
BEGIN:VTIMEZONE
TZID:Europe/London
BEGIN:DAYLIGHT
TZOFFSETFROM:+0000
TZOFFSETTO:+0100
TZNAME:BST
DTSTART:20260329T010000
END:DAYLIGHT
BEGIN:STANDARD
TZOFFSETFROM:+0100
TZOFFSETTO:+0000
TZNAME:GMT
DTSTART:20261025T010000
END:STANDARD
BEGIN:DAYLIGHT
TZOFFSETFROM:+0000
TZOFFSETTO:+0100
TZNAME:BST
DTSTART:20270328T010000
END:DAYLIGHT
BEGIN:STANDARD
TZOFFSETFROM:+0100
TZOFFSETTO:+0000
TZNAME:GMT
DTSTART:20271031T010000
END:STANDARD
BEGIN:DAYLIGHT
TZOFFSETFROM:+0000
TZOFFSETTO:+0100
TZNAME:BST
DTSTART:20280326T010000
END:DAYLIGHT
BEGIN:STANDARD
TZOFFSETFROM:+0100
TZOFFSETTO:+0000
TZNAME:GMT
DTSTART:20281029T010000
END:STANDARD
END:VTIMEZONE
BEGIN:VEVENT
DTSTART;TZID=Europe/London:20270115T150000
DTEND;TZID=Europe/London:20270118T100000
DTSTAMP:20260419T212524
CREATED:20260320T183117Z
LAST-MODIFIED:20260408T222245Z
UID:119970-1800025200-1800266400@luxfordtheatretrips.co.uk
SUMMARY:Potters Five Lakes - Adult Only 3 Night\, All Inclusive Weekend Break.
DESCRIPTION:Price is per room – Nestled in 333 acres\, our five-star Fully Inclusive Resort has recently topped an independent Which? survey for the Best UK Holiday Parks & Resorts. \nOn all of our adult only breaks you’ll enjoy daytime entertainment and West End-quality shows\, reconnect with friends as you enjoy your favourite drinks\, tickle your taste buds with delicious food\, and relax with countless activities and facilities. There’s something for everyone\, and it’s all included. \nThis break does NOT include transport. You would be required to make your own way. \nCheck in from 3pm Friday and check out by 10am Monday \nOur price INCLUDES Potters Cancellation Protection Cover where\, in the event of sickness\, compulsory quarantine\, injury\, death or redundancy\, all monies paid except the Cancellation Protection premium will be refunded. In all cases\, supporting documentary evidence will be required. \nYou can arrive on site from 12pm on the day of check in. A 2 course lunch is bookable up to 1 week before. Just select number of lunch tickets required.
URL:https://luxfordtheatretrips.co.uk/event/potters-five-lakes-adult-only-3-night-all-inclusive-weekend-break/
LOCATION:Potters Five Lakes\, Colchester Road\, Tolleshunt Knights\, Essex\, CM9 8HX
CATEGORIES:Great Notley Route,Tickets Only,Tiptree Route,Witham Pick-up
ATTACH;FMTTYPE=image/png:https://luxfordtheatretrips.co.uk/wp-content/uploads/2025/10/Potters-Five-Lakes-All-Inclusive-Resort.png
ORGANIZER;CN="Luxford Theatre Trips":MAILTO:info@luxfordtheatretrips.co.uk
END:VEVENT
END:VCALENDAR