BEGIN:VCALENDAR
VERSION:2.0
PRODID:-//Luxford Theatre Trips - ECPv6.15.20//NONSGML v1.0//EN
CALSCALE:GREGORIAN
METHOD:PUBLISH
X-WR-CALNAME:Luxford Theatre Trips
X-ORIGINAL-URL:https://luxfordtheatretrips.co.uk
X-WR-CALDESC:Events for Luxford Theatre Trips
REFRESH-INTERVAL;VALUE=DURATION:PT1H
X-Robots-Tag:noindex
X-PUBLISHED-TTL:PT1H
BEGIN:VTIMEZONE
TZID:Europe/London
BEGIN:DAYLIGHT
TZOFFSETFROM:+0000
TZOFFSETTO:+0100
TZNAME:BST
DTSTART:20250330T010000
END:DAYLIGHT
BEGIN:STANDARD
TZOFFSETFROM:+0100
TZOFFSETTO:+0000
TZNAME:GMT
DTSTART:20251026T010000
END:STANDARD
BEGIN:DAYLIGHT
TZOFFSETFROM:+0000
TZOFFSETTO:+0100
TZNAME:BST
DTSTART:20260329T010000
END:DAYLIGHT
BEGIN:STANDARD
TZOFFSETFROM:+0100
TZOFFSETTO:+0000
TZNAME:GMT
DTSTART:20261025T010000
END:STANDARD
BEGIN:DAYLIGHT
TZOFFSETFROM:+0000
TZOFFSETTO:+0100
TZNAME:BST
DTSTART:20270328T010000
END:DAYLIGHT
BEGIN:STANDARD
TZOFFSETFROM:+0100
TZOFFSETTO:+0000
TZNAME:GMT
DTSTART:20271031T010000
END:STANDARD
END:VTIMEZONE
BEGIN:VEVENT
DTSTART;TZID=Europe/London:20260116T150000
DTEND;TZID=Europe/London:20260119T100000
DTSTAMP:20260419T213437
CREATED:20251007T163951Z
LAST-MODIFIED:20251030T171245Z
UID:116091-1768575600-1768816800@luxfordtheatretrips.co.uk
SUMMARY:Potters Adult Only All Inclusive Weekend - Five Lakes
DESCRIPTION:Price is per room – Nestled in 333 acres\, our five-star Fully Inclusive Resort has recently topped an independent Which? survey for the Best UK Holiday Parks & Resorts. \nOn all of our adult only breaks you’ll enjoy daytime entertainment and West End-quality shows\, reconnect with friends as you enjoy your favourite drinks\, tickle your taste buds with delicious food\, and relax with countless activities and facilities. There’s something for everyone\, and it’s all included. \nThis break does not include transport. You would be required to make your own way. \nCheck in from 3pm Friday and check out by 10am Monday \nOur price now INCLUDES Potters Cancellation Protection Cover where\, in the event of sickness\, compulsory quarantine\, injury\, death or redundancy\, all monies paid except the Cancellation Protection premium will be refunded. In all cases\, supporting documentary evidence will be required.  \nYou can arrive on site from 12pm on the day of check in. A 2 course lunch is bookable up to 1 week before. Just select number of lunch tickets required.
URL:https://luxfordtheatretrips.co.uk/event/potters-adult-only-all-inclusive-weekend-five-lakes/
LOCATION:Potters Five Lakes\, Colchester Road\, Tolleshunt Knights\, Essex\, CM9 8HX
CATEGORIES:Tickets Only
ATTACH;FMTTYPE=image/png:https://luxfordtheatretrips.co.uk/wp-content/uploads/2025/10/Potters-Five-Lakes-All-Inclusive-Resort.png
ORGANIZER;CN="Luxford Theatre Trips":MAILTO:info@luxfordtheatretrips.co.uk
END:VEVENT
BEGIN:VEVENT
DTSTART;TZID=Europe/London:20260130T150000
DTEND;TZID=Europe/London:20260202T100000
DTSTAMP:20260419T213437
CREATED:20251017T151216Z
LAST-MODIFIED:20251107T181053Z
UID:116399-1769785200-1770026400@luxfordtheatretrips.co.uk
SUMMARY:Potters HOPTON  - All inclusive Adult only weekend
DESCRIPTION:Price is per room. This break does NOT include transport. You would be required to make your own way. \nCheck in from 3pm Friday and check out by 10am Monday \nOur price now INCLUDES Potters Cancellation Protection Cover where\, in the event of sickness\, compulsory quarantine\, injury\, death or redundancy\, all monies paid except the Cancellation Protection premium will be refunded. In all cases\, supporting documentary evidence will be required.  \nSave up to £240 on the brochure price \nPotters Resorts Hopton-on-Sea\nFully Inclusive Short Breaks on the Norfolk Coast\nNestled on the Norfolk-Suffolk border\, our award-winning Fully Inclusive Resort has set the bar in the UK holiday industry for over 100 years. With a five-star rating for more than 20 years\, we’ve recently topped an independent Which? survey for the Best UK Holiday Parks & Resorts. Our breaks are Adult Only\, except during school holidays when the resort welcomes all generations. \nOn every Potters break you’ll enjoy daytime entertainment and West End-quality shows\, reconnect with friends as you enjoy your favourite drinks\, tickle your taste buds with delicious food\, relax with countless activities and facilities and even play bowls at the home of the World Indoor Bowls Championships. There’s something for everyone\, and it’s all included. \nFor full details of Potters Resorts please visit their website https://www.pottersresorts.com/hopton-on-sea/short-breaks/weekend/30th-january-2026-3-night-weekend \nYou can arrive on site from 12pm on the day of check in. A 2 course lunch is bookable up to 1 week before. Just select number of lunch tickets required.
URL:https://luxfordtheatretrips.co.uk/event/potters-hopton-all-inclusive-adult-only-weekend/
LOCATION:Potters Hopton\, Coast Rd\,\, Great Yarmouth\, NR31 9BX\, United Kingdom
CATEGORIES:Great Notley Route,Tickets Only,Tiptree Route
ATTACH;FMTTYPE=image/jpeg:https://luxfordtheatretrips.co.uk/wp-content/uploads/2025/10/Potters-Hopton.jpg
ORGANIZER;CN="Luxford Theatre Trips":MAILTO:info@luxfordtheatretrips.co.uk
END:VEVENT
END:VCALENDAR