BEGIN:VCALENDAR
VERSION:2.0
PRODID:-//Luxford Theatre Trips - ECPv6.15.20//NONSGML v1.0//EN
CALSCALE:GREGORIAN
METHOD:PUBLISH
X-WR-CALNAME:Luxford Theatre Trips
X-ORIGINAL-URL:https://luxfordtheatretrips.co.uk
X-WR-CALDESC:Events for Luxford Theatre Trips
REFRESH-INTERVAL;VALUE=DURATION:PT1H
X-Robots-Tag:noindex
X-PUBLISHED-TTL:PT1H
BEGIN:VTIMEZONE
TZID:Europe/London
BEGIN:DAYLIGHT
TZOFFSETFROM:+0000
TZOFFSETTO:+0100
TZNAME:BST
DTSTART:20240331T010000
END:DAYLIGHT
BEGIN:STANDARD
TZOFFSETFROM:+0100
TZOFFSETTO:+0000
TZNAME:GMT
DTSTART:20241027T010000
END:STANDARD
BEGIN:DAYLIGHT
TZOFFSETFROM:+0000
TZOFFSETTO:+0100
TZNAME:BST
DTSTART:20250330T010000
END:DAYLIGHT
BEGIN:STANDARD
TZOFFSETFROM:+0100
TZOFFSETTO:+0000
TZNAME:GMT
DTSTART:20251026T010000
END:STANDARD
BEGIN:DAYLIGHT
TZOFFSETFROM:+0000
TZOFFSETTO:+0100
TZNAME:BST
DTSTART:20260329T010000
END:DAYLIGHT
BEGIN:STANDARD
TZOFFSETFROM:+0100
TZOFFSETTO:+0000
TZNAME:GMT
DTSTART:20261025T010000
END:STANDARD
END:VTIMEZONE
BEGIN:VEVENT
DTSTART;TZID=Europe/London:20250720T153000
DTEND;TZID=Europe/London:20250720T180000
DTSTAMP:20260420T070804
CREATED:20250720T142323Z
LAST-MODIFIED:20250720T142323Z
UID:114545-1753025400-1753034400@luxfordtheatretrips.co.uk
SUMMARY:Cirque Du Soleil - Ticket only
DESCRIPTION:Love in the Insect World\nIn OVO\, an awkward\, quirky insect discovers a magnificent ladybug in a bustling neighbourhood\, and they instantly fall in love. Their enchanting romance unfolds amidst a vibrant ecosystem\, revealing a world filled with energy and life. \nHere\, insects work\, eat\, flutter\, and play in a riot of motion\, showcasing the beauty and biodiversity of their hidden universe.
URL:https://luxfordtheatretrips.co.uk/event/cirque-du-soleil-ticket-only/
LOCATION:Royal Albert Hall
CATEGORIES:Tickets Only
ATTACH;FMTTYPE=image/jpeg:https://luxfordtheatretrips.co.uk/wp-content/uploads/2025/07/Cirque.jpg
ORGANIZER;CN="Luxford Theatre Trips":MAILTO:info@luxfordtheatretrips.co.uk
END:VEVENT
BEGIN:VEVENT
DTSTART;TZID=Europe/London:20250731T143000
DTEND;TZID=Europe/London:20250731T170000
DTSTAMP:20260420T070804
CREATED:20250309T191840Z
LAST-MODIFIED:20250412T162952Z
UID:112407-1753972200-1753981200@luxfordtheatretrips.co.uk
SUMMARY:Moulin Rouge Matinee - Ticket only
DESCRIPTION:Welcome to Moulin Rouge! The Musical. Baz Luhrmann’s revolutionary film comes to life onstage and is now playing in London’s West End. The Piccadilly Theatre has been transformed into a world of splendour and romance\, of eye-popping excess\, of glitz\, grandeur\, and glory! A world where Bohemians and aristocrats rub elbows and revel in electrifying enchantment.  \nThere is no transport included with this ticket \nSeats are in the royal circle
URL:https://luxfordtheatretrips.co.uk/event/moulin-rouge-matinee-ticket-only/
LOCATION:Piccadilly Theatre
CATEGORIES:Tickets Only
ATTACH;FMTTYPE=image/png:https://luxfordtheatretrips.co.uk/wp-content/uploads/2023/04/Moulin-Rouge-for-website.png
ORGANIZER;CN="Luxford Theatre Trips":MAILTO:info@luxfordtheatretrips.co.uk
END:VEVENT
BEGIN:VEVENT
DTSTART;TZID=Europe/London:20250731T143000
DTEND;TZID=Europe/London:20250731T170000
DTSTAMP:20260420T070804
CREATED:20250701T155245Z
LAST-MODIFIED:20250701T155357Z
UID:114259-1753972200-1753981200@luxfordtheatretrips.co.uk
SUMMARY:Evita matinee - ticket only
DESCRIPTION:THE TRUTH IS I NEVER LEFT YOU \nTIM RICE and ANDREW LLOYD WEBBER‘s legendary EVITA returns to the West End\, reimagined by the visionary award-winning director JAMIE LLOYD. \nFeaturing an iconic score including Don’t Cry For Me Argentina\, Oh What A Circus\, Another Suitcase in Another Hall\, and the Oscar-winning You Must Love Me\, EVITA is produced by Michael Harrison for Lloyd Webber Harrison Musicals and The Jamie Lloyd Company. \nFuelled by ambition and passion\, Eva Perón rose from poverty to become the most powerful woman in Latin America. A symbol of hope to many Argentines\, her star shone brightly as she captured the nation’s heart and divided its soul. \nOur allocated seats are mid stalls. \nEVITA arrives at The London Palladium for 12 weeks only\nRow F Royal circle \nFV £104.50
URL:https://luxfordtheatretrips.co.uk/event/evita-matinee-ticket-only/
LOCATION:The London Palladium\, 8 Argyll Street\, London\, W1F 7TF\, United Kingdom
CATEGORIES:Musical,Tickets Only
ATTACH;FMTTYPE=image/jpeg:https://luxfordtheatretrips.co.uk/wp-content/uploads/2025/01/Unknown-3.jpeg
ORGANIZER;CN="Luxford Theatre Trips":MAILTO:info@luxfordtheatretrips.co.uk
END:VEVENT
END:VCALENDAR