BEGIN:VCALENDAR
VERSION:2.0
PRODID:-//Luxford Theatre Trips - ECPv6.15.20//NONSGML v1.0//EN
CALSCALE:GREGORIAN
METHOD:PUBLISH
X-ORIGINAL-URL:https://luxfordtheatretrips.co.uk
X-WR-CALDESC:Events for Luxford Theatre Trips
REFRESH-INTERVAL;VALUE=DURATION:PT1H
X-Robots-Tag:noindex
X-PUBLISHED-TTL:PT1H
BEGIN:VTIMEZONE
TZID:Europe/London
BEGIN:DAYLIGHT
TZOFFSETFROM:+0000
TZOFFSETTO:+0100
TZNAME:BST
DTSTART:20250330T010000
END:DAYLIGHT
BEGIN:STANDARD
TZOFFSETFROM:+0100
TZOFFSETTO:+0000
TZNAME:GMT
DTSTART:20251026T010000
END:STANDARD
BEGIN:DAYLIGHT
TZOFFSETFROM:+0000
TZOFFSETTO:+0100
TZNAME:BST
DTSTART:20260329T010000
END:DAYLIGHT
BEGIN:STANDARD
TZOFFSETFROM:+0100
TZOFFSETTO:+0000
TZNAME:GMT
DTSTART:20261025T010000
END:STANDARD
BEGIN:DAYLIGHT
TZOFFSETFROM:+0000
TZOFFSETTO:+0100
TZNAME:BST
DTSTART:20270328T010000
END:DAYLIGHT
BEGIN:STANDARD
TZOFFSETFROM:+0100
TZOFFSETTO:+0000
TZNAME:GMT
DTSTART:20271031T010000
END:STANDARD
END:VTIMEZONE
BEGIN:VEVENT
DTSTART;TZID=Europe/London:20260604T113000
DTEND;TZID=Europe/London:20260604T173000
DTSTAMP:20260423T100439
CREATED:20260324T163345Z
LAST-MODIFIED:20260324T163800Z
UID:120093-1780572600-1780594200@luxfordtheatretrips.co.uk
SUMMARY:Free time in London
DESCRIPTION:Spend a day in London to do as you please. \nWe aim to arrive in the West End\, just a few minutes walk from Covent Garden and Leicester Square\, around 11.30am and leave at 5.15pm \nWitham – Outside Lian\, The George Bus stop\, Newland Street CM8 2AQ – 0900hrs\nGreat Notley\, Entrance to White Courts Estate\, Windermere Drive\, CM77 7UB – 0925hrs\nDunmow\, Opposite The Flitch House\, High Street\, CM6 1AE – 0945hrs\nTakeley\, Opposite The Four Ashes\, Dunmow Road\, CM22 6SB – 0955hrs
URL:https://luxfordtheatretrips.co.uk/event/free-time-in-london-3/
LOCATION:London Coliseum\, St Martins Lane\, London\, WC2N 4ES\, United Kingdom
CATEGORIES:Coach only,Great Notley Route,Witham Pick-up
ATTACH;FMTTYPE=image/jpeg:https://luxfordtheatretrips.co.uk/wp-content/uploads/2025/09/London-freetime.jpg
ORGANIZER;CN="Luxford Theatre Trips":MAILTO:info@luxfordtheatretrips.co.uk
END:VEVENT
END:VCALENDAR