BEGIN:VCALENDAR
VERSION:2.0
PRODID:-//Luxford Theatre Trips - ECPv6.15.20//NONSGML v1.0//EN
CALSCALE:GREGORIAN
METHOD:PUBLISH
X-WR-CALNAME:Luxford Theatre Trips
X-ORIGINAL-URL:https://luxfordtheatretrips.co.uk
X-WR-CALDESC:Events for Luxford Theatre Trips
REFRESH-INTERVAL;VALUE=DURATION:PT1H
X-Robots-Tag:noindex
X-PUBLISHED-TTL:PT1H
BEGIN:VTIMEZONE
TZID:Europe/London
BEGIN:DAYLIGHT
TZOFFSETFROM:+0000
TZOFFSETTO:+0100
TZNAME:BST
DTSTART:20250330T010000
END:DAYLIGHT
BEGIN:STANDARD
TZOFFSETFROM:+0100
TZOFFSETTO:+0000
TZNAME:GMT
DTSTART:20251026T010000
END:STANDARD
BEGIN:DAYLIGHT
TZOFFSETFROM:+0000
TZOFFSETTO:+0100
TZNAME:BST
DTSTART:20260329T010000
END:DAYLIGHT
BEGIN:STANDARD
TZOFFSETFROM:+0100
TZOFFSETTO:+0000
TZNAME:GMT
DTSTART:20261025T010000
END:STANDARD
BEGIN:DAYLIGHT
TZOFFSETFROM:+0000
TZOFFSETTO:+0100
TZNAME:BST
DTSTART:20270328T010000
END:DAYLIGHT
BEGIN:STANDARD
TZOFFSETFROM:+0100
TZOFFSETTO:+0000
TZNAME:GMT
DTSTART:20271031T010000
END:STANDARD
END:VTIMEZONE
BEGIN:VEVENT
DTSTART;TZID=Europe/London:20261201T113000
DTEND;TZID=Europe/London:20261201T180000
DTSTAMP:20260422T163641
CREATED:20260420T145305Z
LAST-MODIFIED:20260420T155907Z
UID:120800-1796124600-1796148000@luxfordtheatretrips.co.uk
SUMMARY:Christmas Shopping in London - Tiptree route
DESCRIPTION:Join us for a day out in Londons West End for a spot of Christmas shopping\, see the famous London lights\, eat drink and soak up the festive atmosphere. \nWe aim to arrive late morning and leave at 6pm \n  \nPlease note that this ticket does not include and shows or attractions \nTiptree – Outside St Lukes Church\, Church Road Tiptree CO5 0HF – 0930hrs\nFeering – Feering Hill bus stop\, Nr John Raven Court CO5 9PX – 0940hrs\nKelvedon – Bus stop opposite the post office\, High Street Kelvedon CO5 9AG – 0945hrs\nWitham – Bus stop opposite Paddy Power Newland Street Witham CM8 1AH – 1000hrs
URL:https://luxfordtheatretrips.co.uk/event/chrismas-shopping-in-london-tiptree-route/
LOCATION:The Strand\, Strand\, London\, WC2R 0QS\, United Kingdom
CATEGORIES:Christmas Trip,Tiptree Route,Witham Pick-up
ATTACH;FMTTYPE=image/jpeg:https://luxfordtheatretrips.co.uk/wp-content/uploads/2025/06/Christmas-shopping.jpg
ORGANIZER;CN="Luxford Theatre Trips":MAILTO:info@luxfordtheatretrips.co.uk
END:VEVENT
BEGIN:VEVENT
DTSTART;TZID=Europe/London:20261204T113000
DTEND;TZID=Europe/London:20261204T180000
DTSTAMP:20260422T163641
CREATED:20260420T144542Z
LAST-MODIFIED:20260420T144807Z
UID:120792-1796383800-1796407200@luxfordtheatretrips.co.uk
SUMMARY:Christmas Shopping Trip London
DESCRIPTION:Join us for a day out in Londons West End for a spot of Christmas shopping\, see the famous London lights\, eat drink and soak up the festive atmosphere. \nWe aim to arrive late morning and leave at 6pm \n  \nPlease note that this ticket does not include and shows or attractions \nTiptree – Outside St Lukes Church\, Church Road Tiptree CO5 0HF – 0845hrs\nFeering – Feering Hill bus stop\, Nr John Raven Court CO5 9PX – 0855hrs\nKelvedon – Bus stop opposite the post office\, High Street Kelvedon CO5 9AG – 0900hrs\nWitham – Bus stop Collingwood Road\, Junction Newlands Drive\, CM8 2AP – 0915hrs\nGreat Notley\, Entrance to White Courts Estate\, Windermere Drive\, CM77 7UB – 0935hrs\nDunmow\, Opposite Casa\, High Street\, CM6 1AE – 0950hrs\nTakeley\, Opposite The Four Ashes\, Dunmow Road\, CM22 6SB – 0955hrs
URL:https://luxfordtheatretrips.co.uk/event/christmas-shopping-trip-london/
LOCATION:Piccadilly circus\, W1J 9LL\, United Kingdom
CATEGORIES:Christmas Trip,Great Notley Route,Tiptree Route,Witham Pick-up
ATTACH;FMTTYPE=image/jpeg:https://luxfordtheatretrips.co.uk/wp-content/uploads/2025/06/Christmas-shopping.jpg
ORGANIZER;CN="Luxford Theatre Trips":MAILTO:info@luxfordtheatretrips.co.uk
END:VEVENT
BEGIN:VEVENT
DTSTART;TZID=Europe/London:20261220T150000
DTEND;TZID=Europe/London:20261220T173000
DTSTAMP:20260422T163641
CREATED:20260101T161707Z
LAST-MODIFIED:20260221T190153Z
UID:118179-1797778800-1797787800@luxfordtheatretrips.co.uk
SUMMARY:Carols at The Royal Albert Hall
DESCRIPTION:Join us in the spectacular surroundings of the Royal Albert Hall for our annual trip to London’s finest sing-along carol concerts of the season.\nOur trip to this event over previous years did not disappoint and we can’t wait to do it all again in 2026. \nWe have two price bands of seats. Please note\, the rausing circle offers a fantastic view but not suitable for anyone suffering with vertigo. \nWe aim to arrive at The Albert Hall with around 2 -3 hours spare for lunch. \nCoach pick up: \nBroomfield\, The Angel bus stop OPPOSITE The Angel Main Road CM1 7AH – 0915hrs\nGreat Leighs\, Opposite The Castle\, Main Road\, CM3 1NE – 0930hrs\nGreat Notley\, Entrance to White Courts Estate\, Windermere Drive\, CM77 7UB – 0935hrs\nDunmow\, Opposite The Flitch House\, High Street\, CM6 1AE – 0955hrs\nTakeley\, Opposite The Four Ashes\, Dunmow Road\, CM22 6SB – 1000hrs \n 
URL:https://luxfordtheatretrips.co.uk/event/carols-at-the-royal-albert-hall/
LOCATION:Royal Albert Hall
CATEGORIES:Christmas Trip,Great Notley Route
ATTACH;FMTTYPE=image/png:https://luxfordtheatretrips.co.uk/wp-content/uploads/2023/12/Carols-for-website.png
ORGANIZER;CN="Luxford Theatre Trips":MAILTO:info@luxfordtheatretrips.co.uk
END:VEVENT
BEGIN:VEVENT
DTSTART;TZID=Europe/London:20261220T150000
DTEND;TZID=Europe/London:20261220T173000
DTSTAMP:20260422T163641
CREATED:20260221T185032Z
LAST-MODIFIED:20260221T185032Z
UID:119565-1797778800-1797787800@luxfordtheatretrips.co.uk
SUMMARY:Carols at Royal Albert Hall - Tiptree route - Matinee
DESCRIPTION:Join us in the spectacular surroundings of the Royal Albert Hall for our annual trip to London’s finest sing-along carol concerts of the season.\nOur trip to this event over previous years did not disappoint and we can’t wait to do it all again in 2026. \nWe have two price bands of seats. Please note\, the rausing circle offers a fantastic view but not suitable for anyone suffering with vertigo. \nWe aim to arrive at The Albert Hall with around 2 hours spare for lunch. \nCoach pick up: \nTiptree – Outside St Lukes Church\, Church Road Tiptree CO5 0HF – 0930hrs\nFeering – Feering Hill bus stop\, Nr John Raven Court CO5 9PX – 0940hrs\nKelvedon – Bus stop opposite the post office\, High Street Kelvedon CO5 9AG – 0945hrs\nWitham – Bus stop opposite Paddy Power Newland Street Witham CM8 1AH – 1000hrs
URL:https://luxfordtheatretrips.co.uk/event/carols-at-royal-albert-hall-tiptree-route-matinee/
LOCATION:Royal Albert Hall
CATEGORIES:Christmas Trip,Tiptree Route,Witham Pick-up
ATTACH;FMTTYPE=image/png:https://luxfordtheatretrips.co.uk/wp-content/uploads/2023/12/Carols-for-website.png
ORGANIZER;CN="Luxford Theatre Trips":MAILTO:info@luxfordtheatretrips.co.uk
END:VEVENT
END:VCALENDAR