BEGIN:VCALENDAR
VERSION:2.0
PRODID:-//Luxford Theatre Trips - ECPv6.15.20//NONSGML v1.0//EN
CALSCALE:GREGORIAN
METHOD:PUBLISH
X-WR-CALNAME:Luxford Theatre Trips
X-ORIGINAL-URL:https://luxfordtheatretrips.co.uk
X-WR-CALDESC:Events for Luxford Theatre Trips
REFRESH-INTERVAL;VALUE=DURATION:PT1H
X-Robots-Tag:noindex
X-PUBLISHED-TTL:PT1H
BEGIN:VTIMEZONE
TZID:Europe/London
BEGIN:DAYLIGHT
TZOFFSETFROM:+0000
TZOFFSETTO:+0100
TZNAME:BST
DTSTART:20250330T010000
END:DAYLIGHT
BEGIN:STANDARD
TZOFFSETFROM:+0100
TZOFFSETTO:+0000
TZNAME:GMT
DTSTART:20251026T010000
END:STANDARD
BEGIN:DAYLIGHT
TZOFFSETFROM:+0000
TZOFFSETTO:+0100
TZNAME:BST
DTSTART:20260329T010000
END:DAYLIGHT
BEGIN:STANDARD
TZOFFSETFROM:+0100
TZOFFSETTO:+0000
TZNAME:GMT
DTSTART:20261025T010000
END:STANDARD
BEGIN:DAYLIGHT
TZOFFSETFROM:+0000
TZOFFSETTO:+0100
TZNAME:BST
DTSTART:20270328T010000
END:DAYLIGHT
BEGIN:STANDARD
TZOFFSETFROM:+0100
TZOFFSETTO:+0000
TZNAME:GMT
DTSTART:20271031T010000
END:STANDARD
END:VTIMEZONE
BEGIN:VEVENT
DTSTART;TZID=Europe/London:20261120T140000
DTEND;TZID=Europe/London:20261120T170000
DTSTAMP:20260422T150053
CREATED:20260115T175928Z
LAST-MODIFIED:20260115T180256Z
UID:118604-1795183200-1795194000@luxfordtheatretrips.co.uk
SUMMARY:Thursford - Matinee Tiptree route
DESCRIPTION:Our Christmas Spectacular is an extravaganza of non-stop singing\, dancing\, music\, humour and variety. It’s a fast moving celebration of the festive season featuring an eclectic mix of both seasonal and year round favourites. With a cast of 130 this is the biggest Christmas show of its kind in Europe! \nThis ticket includes executive coach travel and a seat for the 3 hour show. \nEntry to The Journey Of Light is not included but offered at a discounted rate on arrival.\nWeather permitting\, we will stop for 45 minutes after the show for those that have purchased entry to the light show to return to see it after dark\, grab a drink and enjoy the shops. \nEntertainment doesn’t get much bigger than this!\n8 +Advisory age. No entry to under 5s \nCoach collection \nWitham – Bus stop outside Paddy Power Newland Street Witham CM8 1AH – 0830hrs\nKelvedon – Bus stop outside the post office\, High Street Kelvedon CO5 9AG – 0845hrs\nFeering – Feering Hill bus stop\, Near Sherwood Way CO5 9PX – 0850hrs\nTiptree – Outside St Lukes Church\, Church Road Tiptree CO5 0HF – 0900hrs
URL:https://luxfordtheatretrips.co.uk/event/thursford-matinee-tiptree-route/
LOCATION:Thursford Collection\, Thursford\, Fakenham\, NR21 0AS
CATEGORIES:Christmas Trip,Tiptree Route,Witham Pick-up
ATTACH;FMTTYPE=image/jpeg:https://luxfordtheatretrips.co.uk/wp-content/uploads/2024/12/Thursford-website.jpg
ORGANIZER;CN="Luxford Theatre Trips":MAILTO:info@luxfordtheatretrips.co.uk
END:VEVENT
END:VCALENDAR