BEGIN:VCALENDAR
VERSION:2.0
PRODID:-//Luxford Theatre Trips - ECPv6.15.20//NONSGML v1.0//EN
CALSCALE:GREGORIAN
METHOD:PUBLISH
X-ORIGINAL-URL:https://luxfordtheatretrips.co.uk
X-WR-CALDESC:Events for Luxford Theatre Trips
REFRESH-INTERVAL;VALUE=DURATION:PT1H
X-Robots-Tag:noindex
X-PUBLISHED-TTL:PT1H
BEGIN:VTIMEZONE
TZID:Europe/London
BEGIN:DAYLIGHT
TZOFFSETFROM:+0000
TZOFFSETTO:+0100
TZNAME:BST
DTSTART:20250330T010000
END:DAYLIGHT
BEGIN:STANDARD
TZOFFSETFROM:+0100
TZOFFSETTO:+0000
TZNAME:GMT
DTSTART:20251026T010000
END:STANDARD
BEGIN:DAYLIGHT
TZOFFSETFROM:+0000
TZOFFSETTO:+0100
TZNAME:BST
DTSTART:20260329T010000
END:DAYLIGHT
BEGIN:STANDARD
TZOFFSETFROM:+0100
TZOFFSETTO:+0000
TZNAME:GMT
DTSTART:20261025T010000
END:STANDARD
BEGIN:DAYLIGHT
TZOFFSETFROM:+0000
TZOFFSETTO:+0100
TZNAME:BST
DTSTART:20270328T010000
END:DAYLIGHT
BEGIN:STANDARD
TZOFFSETFROM:+0100
TZOFFSETTO:+0000
TZNAME:GMT
DTSTART:20271031T010000
END:STANDARD
END:VTIMEZONE
BEGIN:VEVENT
DTSTART;TZID=Europe/London:20260108T193000
DTEND;TZID=Europe/London:20260108T220000
DTSTAMP:20260422T200451
CREATED:20250414T215621Z
LAST-MODIFIED:20260106T120948Z
UID:112854-1767900600-1767909600@luxfordtheatretrips.co.uk
SUMMARY:Sleeping Beauty at The London Palladium
DESCRIPTION:WAKE UP\, LONDON! Sleeping Beauty will make all your dreams come true at The London Palladium this Christmas\, celebrating ten years since panto spectacularly returned to London’s home of variety. \nStarring Catherine Tate\, Palladium pantomime royalty Julian Clary and impressionist Jon Culshaw\, Sleeping Beauty also sees the return of Palladium panto favourites Paul Zerdin\, Nigel Havers and Rob Madge along with West End stars Emily Lane and Amonik Melaco. \nThe West End’s biggest Christmas Show\, now seen by over 1\,000\,000 people\, will celebrate the 10th anniversary in magnificent style\, with that age-old fairytale message: whilst one small prick can be deadly\, at The London Palladium you’re promised the happiest of endings. \nThe London Palladium panto is an essential part of the capital’s Christmas. \nWe have a selection of seats in the STALLS (Best for limited mobility) and ROYAL CIRCLE. Please choose your preference at checkout. The earlier you book\, the likely you are to get your choice. \nCoach pick ups \nHalstead\, Bus stop outside Greggs\, High Street CO9 2JG – 1430hrs\nGosfield\, Post Office bus stop\, CO9 1TP – 1440hrs\nBraintree\, Marks Farm roundabout\, Coggeshall Road CM77 8AA -1455hrs (Tesco side)\nGreat Notley\, Entrance to White Courts Estate\, Windermere Drive\, CM77 7UB – 1500hrs\nDunmow\, Opposite The Flitch House\, High Street\, CM6 1AE – 1520hrs\nTakeley\, Opposite The Four Ashes\, Dunmow Road\, CM22 6SB – 1530hrs
URL:https://luxfordtheatretrips.co.uk/event/sleeping-beauty-at-the-london-palladium/
LOCATION:The London Palladium\, 8 Argyll Street\, London\, W1F 7TF\, United Kingdom
CATEGORIES:Christmas Trip,Great Notley Route
ATTACH;FMTTYPE=image/jpeg:https://luxfordtheatretrips.co.uk/wp-content/uploads/2025/04/Palladium-Panto.jpg
ORGANIZER;CN="Luxford Theatre Trips":MAILTO:info@luxfordtheatretrips.co.uk
END:VEVENT
BEGIN:VEVENT
DTSTART;TZID=Europe/London:20260110T193000
DTEND;TZID=Europe/London:20260110T220000
DTSTAMP:20260422T200451
CREATED:20250413T103514Z
LAST-MODIFIED:20251217T133243Z
UID:112693-1768073400-1768082400@luxfordtheatretrips.co.uk
SUMMARY:Sleeping Beauty - Palladium Panto
DESCRIPTION:WAKE UP\, LONDON! Sleeping Beauty will make all your dreams come true at The London Palladium this Christmas\, celebrating ten years since panto spectacularly returned to London’s home of variety. \nStarring Catherine Tate\, Palladium pantomime royalty Julian Clary and impressionist Jon Culshaw\, Sleeping Beauty also sees the return of Palladium panto favourites Paul Zerdin\, Nigel Havers and Rob Madge along with West End stars Emily Lane and Amonik Melaco. \nThe West End’s biggest Christmas Show\, now seen by over 1\,000\,000 people\, will celebrate the 10th anniversary in magnificent style\, with that age-old fairytale message: whilst one small prick can be deadly\, at The London Palladium you’re promised the happiest of endings. \nThe London Palladium panto is an essential part of the capital’s Christmas. \nWe have a selection of seats in the STALLS (Best for limited mobility) and ROYAL CIRCLE. Please choose your preference at checkout. We are unable to guarantee your preferred seating area but we are going to allocate as you book so\, the earlier you book\, the likely you are to get your choice. \nCoach pick ups \nBroomfield\, The Angel bus stop OPPOSITE The Angel Main Road CM1 7AH – 1440hrs\nGreat Leighs\, Opposite The Castle\, Main Road\, CM3 1NE – 1450hrs\nGreat Notley\, Entrance to White Courts Estate\, Windermere Drive\, CM77 7UB – 1500hrs\nDunmow\, Opposite The Flitch House\, High Street\, CM6 1AE – 1520hrs\nTakeley\, Opposite The Four Ashes\, Dunmow Road\, CM22 6SB – 1530hrs
URL:https://luxfordtheatretrips.co.uk/event/sleeping-beauty-palladium-panto/
LOCATION:The London Palladium\, 8 Argyll Street\, London\, W1F 7TF\, United Kingdom
CATEGORIES:Christmas Trip,Great Notley Route
ATTACH;FMTTYPE=image/jpeg:https://luxfordtheatretrips.co.uk/wp-content/uploads/2025/04/Palladium-Panto.jpg
ORGANIZER;CN="Luxford Theatre Trips":MAILTO:info@luxfordtheatretrips.co.uk
END:VEVENT
BEGIN:VEVENT
DTSTART;TZID=Europe/London:20260110T193000
DTEND;TZID=Europe/London:20260110T220000
DTSTAMP:20260422T200451
CREATED:20250413T104453Z
LAST-MODIFIED:20260106T120619Z
UID:112698-1768073400-1768082400@luxfordtheatretrips.co.uk
SUMMARY:Sleeping Beauty at The London Palladium - Tiptree route
DESCRIPTION:WAKE UP\, LONDON! Sleeping Beauty will make all your dreams come true at The London Palladium this Christmas\, celebrating ten years since panto spectacularly returned to London’s home of variety. \nStarring Catherine Tate\, Palladium pantomime royalty Julian Clary and impressionist Jon Culshaw\, Sleeping Beauty also sees the return of Palladium panto favourites Paul Zerdin\, Nigel Havers and Rob Madge along with West End stars Emily Lane and Amonik Melaco. \nThe West End’s biggest Christmas Show\, now seen by over 1\,000\,000 people\, will celebrate the 10th anniversary in magnificent style\, with that age-old fairytale message: whilst one small prick can be deadly\, at The London Palladium you’re promised the happiest of endings. \nThe London Palladium panto is an essential part of the capital’s Christmas. \nWe have a selection of seats in the STALLS (Best for limited mobility) and ROYAL CIRCLE. Please choose your preference at checkout. The earlier you book\, the likely you are to get your choice. \nCoach pick ups \nTiptree – The Centre Bus stop\, Church Road Tiptree CO5 0HF – 1445hrs\nFeering – Feering Hill Bus stop\, Nr John Ravens Court\, CO5 9NL – 1450hrs\nKelvedon – Bus stop opposite the post office\, High Street Kelvedon CO5 9AG – 1500hrs\nWitham – Bus stop opposite Paddy Power Newland Street Witham CM8 1AH – 1515hrs
URL:https://luxfordtheatretrips.co.uk/event/sleeping-beauty-at-the-london-palladium-tiptree-route/
LOCATION:The London Palladium\, 8 Argyll Street\, London\, W1F 7TF\, United Kingdom
CATEGORIES:Christmas Trip,Tiptree Route,Witham Pick-up
ATTACH;FMTTYPE=image/jpeg:https://luxfordtheatretrips.co.uk/wp-content/uploads/2025/04/Palladium-Panto.jpg
ORGANIZER;CN="Luxford Theatre Trips":MAILTO:info@luxfordtheatretrips.co.uk
END:VEVENT
END:VCALENDAR