BEGIN:VCALENDAR
VERSION:2.0
PRODID:-//Luxford Theatre Trips - ECPv6.15.20//NONSGML v1.0//EN
CALSCALE:GREGORIAN
METHOD:PUBLISH
X-WR-CALNAME:Luxford Theatre Trips
X-ORIGINAL-URL:https://luxfordtheatretrips.co.uk
X-WR-CALDESC:Events for Luxford Theatre Trips
REFRESH-INTERVAL;VALUE=DURATION:PT1H
X-Robots-Tag:noindex
X-PUBLISHED-TTL:PT1H
BEGIN:VTIMEZONE
TZID:Europe/London
BEGIN:DAYLIGHT
TZOFFSETFROM:+0000
TZOFFSETTO:+0100
TZNAME:BST
DTSTART:20240331T010000
END:DAYLIGHT
BEGIN:STANDARD
TZOFFSETFROM:+0100
TZOFFSETTO:+0000
TZNAME:GMT
DTSTART:20241027T010000
END:STANDARD
BEGIN:DAYLIGHT
TZOFFSETFROM:+0000
TZOFFSETTO:+0100
TZNAME:BST
DTSTART:20250330T010000
END:DAYLIGHT
BEGIN:STANDARD
TZOFFSETFROM:+0100
TZOFFSETTO:+0000
TZNAME:GMT
DTSTART:20251026T010000
END:STANDARD
BEGIN:DAYLIGHT
TZOFFSETFROM:+0000
TZOFFSETTO:+0100
TZNAME:BST
DTSTART:20260329T010000
END:DAYLIGHT
BEGIN:STANDARD
TZOFFSETFROM:+0100
TZOFFSETTO:+0000
TZNAME:GMT
DTSTART:20261025T010000
END:STANDARD
END:VTIMEZONE
BEGIN:VEVENT
DTSTART;TZID=Europe/London:20250921T110000
DTEND;TZID=Europe/London:20250921T170000
DTSTAMP:20260420T202145
CREATED:20250309T151427Z
LAST-MODIFIED:20250916T092438Z
UID:112384-1758452400-1758474000@luxfordtheatretrips.co.uk
SUMMARY:Chatham Dockyards - A Salute to the 1940s
DESCRIPTION:Salute to the ’40s\nA CREATIVE VINTAGE FESTIVAL FOR ALL THE FAMILY\nGet ready for the most spectacular vintage festival of the year. This iconic weekend is brimming with nostalgia\, laughter\, and a whole lot of fun for the entire family. Experience dazzling entertainment that will transport you back to the vibrant 1940s\, and marvel at classic cars and military vehicles that showcase the era’s remarkable history. \nPrepare to be captivated by time-travelling performances\, and explore our bustling vintage market filled with unique treasures. Families can look forward to a variety of activities designed for all ages\, including thrilling circus acts\, an enchanting bubble wizard\, and captivating storytelling sessions. Don’t miss the immersive Air Raid Shelter experience that offers a glimpse into wartime life. \nMeet passionate reenactors and engage with fascinating wartime displays that bring history to life. To top it all off\, indulge in delicious food and drink options that reflect the flavours of the time. Join us for a weekend of unforgettable memories at The Historic Dockyard Chatham. \nCoach pick up: \nWitham – Outside Lian\, The George Bus stop\, Newland Street CM8 2AQ – 0900hrs\nGreat Notley\, Entrance to White Courts Estate\, Windermere Drive\, CM77 7UB – 0925hrs\nDunmow\, Opposite The Flitch House\, High Street\, CM6 1AE – 0945hrs\nTakeley\, Opposite The Four Ashes\, Dunmow Road\, CM22 6SB – 0955hrs
URL:https://luxfordtheatretrips.co.uk/event/chatham-dockyards-a-salute-to-the-1940s/
LOCATION:Chatham Historic Dockyard\, Main Gate Road\, Chatham\, ME4 4TZ\, United Kingdom
CATEGORIES:Day Trip,Great Notley Route,Tiptree Route,Witham Pick-up
ATTACH;FMTTYPE=image/png:https://luxfordtheatretrips.co.uk/wp-content/uploads/2025/03/Chatham-dockyards.png
ORGANIZER;CN="Luxford Theatre Trips":MAILTO:info@luxfordtheatretrips.co.uk
END:VEVENT
BEGIN:VEVENT
DTSTART;TZID=Europe/London:20250921T110000
DTEND;TZID=Europe/London:20250921T170000
DTSTAMP:20260420T202145
CREATED:20250309T153629Z
LAST-MODIFIED:20250802T172333Z
UID:112391-1758452400-1758474000@luxfordtheatretrips.co.uk
SUMMARY:Chatham Dockyards Salute to the 1940s - Tiptree route
DESCRIPTION:Salute to the ’40s\nA CREATIVE VINTAGE FESTIVAL FOR ALL THE FAMILY\nGet ready for the most spectacular vintage festival of the year. This iconic weekend is brimming with nostalgia\, laughter\, and a whole lot of fun for the entire family. Experience dazzling entertainment that will transport you back to the vibrant 1940s\, and marvel at classic cars and military vehicles that showcase the era’s remarkable history. \nPrepare to be captivated by time-travelling performances\, and explore our bustling vintage market filled with unique treasures. Families can look forward to a variety of activities designed for all ages\, including thrilling circus acts\, an enchanting bubble wizard\, and captivating storytelling sessions. Don’t miss the immersive Air Raid Shelter experience that offers a glimpse into wartime life. \nMeet passionate reenactors and engage with fascinating wartime displays that bring history to life. To top it all off\, indulge in delicious food and drink options that reflect the flavours of the time. Join us for a weekend of unforgettable memories at The Historic Dockyard Chatham. \nCoach pick up: \nTiptree – Outside St Lukes Church\, Church Road Tiptree CO5 0HF – 0845hrs\nKelvedon – Bus stop opposite the post office\, High Street Kelvedon CO5 9AG –  0855hrs\nWitham – Outside Lian\, The George Bus stop\, Newland Street CM8 2AQ – 0900hrs\nGreat Notley\, Entrance to White Courts Estate\, Windermere Drive\, CM77 7UB – 0925hrs\nDunmow\, Opposite The Flitch House\, High Street\, CM6 1AE – 0945hrs\nTakeley\, Opposite The Four Ashes\, Dunmow Road\, CM22 6SB – 0955hrs
URL:https://luxfordtheatretrips.co.uk/event/chatham-dockyards-salute-to-the-1940s-tiptree-route/
LOCATION:Chatham Historic Dockyard\, Main Gate Road\, Chatham\, ME4 4TZ\, United Kingdom
CATEGORIES:Day Trip,Tiptree Route,Witham Pick-up
ATTACH;FMTTYPE=image/png:https://luxfordtheatretrips.co.uk/wp-content/uploads/2025/03/Chatham-dockyards.png
ORGANIZER;CN="Luxford Theatre Trips":MAILTO:info@luxfordtheatretrips.co.uk
END:VEVENT
END:VCALENDAR