BEGIN:VCALENDAR
VERSION:2.0
PRODID:-//Luxford Theatre Trips - ECPv6.15.20//NONSGML v1.0//EN
CALSCALE:GREGORIAN
METHOD:PUBLISH
X-ORIGINAL-URL:https://luxfordtheatretrips.co.uk
X-WR-CALDESC:Events for Luxford Theatre Trips
REFRESH-INTERVAL;VALUE=DURATION:PT1H
X-Robots-Tag:noindex
X-PUBLISHED-TTL:PT1H
BEGIN:VTIMEZONE
TZID:Europe/London
BEGIN:DAYLIGHT
TZOFFSETFROM:+0000
TZOFFSETTO:+0100
TZNAME:BST
DTSTART:20240331T010000
END:DAYLIGHT
BEGIN:STANDARD
TZOFFSETFROM:+0100
TZOFFSETTO:+0000
TZNAME:GMT
DTSTART:20241027T010000
END:STANDARD
BEGIN:DAYLIGHT
TZOFFSETFROM:+0000
TZOFFSETTO:+0100
TZNAME:BST
DTSTART:20250330T010000
END:DAYLIGHT
BEGIN:STANDARD
TZOFFSETFROM:+0100
TZOFFSETTO:+0000
TZNAME:GMT
DTSTART:20251026T010000
END:STANDARD
BEGIN:DAYLIGHT
TZOFFSETFROM:+0000
TZOFFSETTO:+0100
TZNAME:BST
DTSTART:20260329T010000
END:DAYLIGHT
BEGIN:STANDARD
TZOFFSETFROM:+0100
TZOFFSETTO:+0000
TZNAME:GMT
DTSTART:20261025T010000
END:STANDARD
END:VTIMEZONE
BEGIN:VEVENT
DTSTART;TZID=Europe/London:20250831T110000
DTEND;TZID=Europe/London:20250831T170000
DTSTAMP:20260420T184202
CREATED:20250809T151028Z
LAST-MODIFIED:20250827T124800Z
UID:115048-1756638000-1756659600@luxfordtheatretrips.co.uk
SUMMARY:BBC Gardeners World Fair at Audley End
DESCRIPTION:This is an absolutely bumper day out with something for everyone\, not just gardeners but historians\, foodies\, shoppers and picnickers! Your entry ticket to the BBC Gardeners’ World Autumn Fair gives you access to: \nthe BBC Gardener’s World Magazine Stage where there will be talks from the editors\, plus special guests including Frances Tophill (scheduled for our visit day)\, plus more to be announced! You’ll get practical tips\, topical advice\, and the ultimate growing guide to get the best out of your garden this season.\nthe “In Conversation With…” stage to listen to gardening experts chat with stage host Marcus Bean about life\, gardening\, and everything in between. With additional sessions featuring expert tips and seasonal gardening advice throughout the day\, this stage is a hub of inspiration. (In Conversation With Timetable)\na host of other top experts on hand at the inspirational showcase gardens specially designed for the day\, ready to answer questions and help you get the most out of your spring garden\na wide range of plant nurseries and exhibitors of gardening kit and accessories.\nAudley End House: Step inside the mansion house and admire the interiors of one of the largest and most opulent houses in Jacobean England\nAudley End Gardens: Stroll through the Parterre\, walled Kitchen Gardens\, the Elysian Garden\, Pond Garden\, Lime Tree Avenue and acres of parkland.\nAudley End Stable Yard: say ‘hello’ to the friendly resident horses in the Victorian stable block.\nThe Good Food Market and street food stalls. Offering a tasty mix of artisan food and drink producers handpicked for their regional and seasonal prowess\, look out for treats that you simply won’t find on the high street.\nPLUS – Amidst all the garden shopping and inspiration at the Autumn Fair\, you’ll find toe-tapping entertainment from live performances at The Bandstand. \nCoach pick up\nGreat Notley\, Entrance to White Courts Estate\, Windermere Drive\, CM77 7UB – 0950hrs
URL:https://luxfordtheatretrips.co.uk/event/bbc-gardeners-world-fair-at-audley-end/
LOCATION:Audley End\, Saffron Walden\, United Kingdom
CATEGORIES:Day Trip,Great Notley Route,Witham Pick-up
ATTACH;FMTTYPE=image/png:https://luxfordtheatretrips.co.uk/wp-content/uploads/2025/08/bbcgw-autumn-fair-web-image500f.png
ORGANIZER;CN="Luxford Theatre Trips":MAILTO:info@luxfordtheatretrips.co.uk
END:VEVENT
END:VCALENDAR