BEGIN:VCALENDAR
VERSION:2.0
PRODID:-//Luxford Theatre Trips - ECPv6.15.20//NONSGML v1.0//EN
CALSCALE:GREGORIAN
METHOD:PUBLISH
X-WR-CALNAME:Luxford Theatre Trips
X-ORIGINAL-URL:https://luxfordtheatretrips.co.uk
X-WR-CALDESC:Events for Luxford Theatre Trips
REFRESH-INTERVAL;VALUE=DURATION:PT1H
X-Robots-Tag:noindex
X-PUBLISHED-TTL:PT1H
BEGIN:VTIMEZONE
TZID:Europe/London
BEGIN:DAYLIGHT
TZOFFSETFROM:+0000
TZOFFSETTO:+0100
TZNAME:BST
DTSTART:20240331T010000
END:DAYLIGHT
BEGIN:STANDARD
TZOFFSETFROM:+0100
TZOFFSETTO:+0000
TZNAME:GMT
DTSTART:20241027T010000
END:STANDARD
BEGIN:DAYLIGHT
TZOFFSETFROM:+0000
TZOFFSETTO:+0100
TZNAME:BST
DTSTART:20250330T010000
END:DAYLIGHT
BEGIN:STANDARD
TZOFFSETFROM:+0100
TZOFFSETTO:+0000
TZNAME:GMT
DTSTART:20251026T010000
END:STANDARD
BEGIN:DAYLIGHT
TZOFFSETFROM:+0000
TZOFFSETTO:+0100
TZNAME:BST
DTSTART:20260329T010000
END:DAYLIGHT
BEGIN:STANDARD
TZOFFSETFROM:+0100
TZOFFSETTO:+0000
TZNAME:GMT
DTSTART:20261025T010000
END:STANDARD
END:VTIMEZONE
BEGIN:VEVENT
DTSTART;TZID=Europe/London:20250810T180000
DTEND;TZID=Europe/London:20250810T193000
DTSTAMP:20260420T184107
CREATED:20250204T191000Z
LAST-MODIFIED:20250510T170337Z
UID:111480-1754848800-1754854200@luxfordtheatretrips.co.uk
SUMMARY:ABBA Voyage
DESCRIPTION:Agnetha\, Björn\, Benny and Anni-Frid have created the kind of concert they always wanted\, performing for their fans at their very best: as digital versions of themselves backed by today’s finest musicians. \nBlurring the lines between the physical and digital\, see the magic of ABBA brought to life using the latest in motion capture technology. \nIt’s the greatest ABBA performance the world has never seen. Until now. \nWe are offering 2 priced options: £90 for the dance floor/standing or £110 seated. \nThe venue should be open on our arrival and the foyer has a couple of bars and fast food counters but no tables very little seating (a few low benches)\nNext to the arena is ‘Snooze Box’ a bar with good music\, fair priced drinks and fast food available. \nCoach pick up\nHalstead\, Bus stop outside Greggs\, High Street CO9 2JG – 1420hrs\nGosfield\, The Post Office bus stop\, The Street\, CO9 1TP – 1435hrs\nBocking\, Polly’s Field Village\, Church Lane\, CM7 5XD – 1445hrs\nGreat Notley\, Entrance to White Courts Estate\, Windermere Drive\, CM77 7UB – 1500hrs\nDunmow\, Opposite The Flitch House\, Main Road\, CM6 1AE – 1520hrs\nTakeley\, Opposite Four Ashes\, Dunmow Road\, CM22 6SB – 1530hrs
URL:https://luxfordtheatretrips.co.uk/event/abba-voyage-5/
LOCATION:ABBA Arena\, 1 Pudding Mill Lane\, London\, E152PJ\, United Kingdom
CATEGORIES:Concert,Great Notley Route
ORGANIZER;CN="Luxford Theatre Trips":MAILTO:info@luxfordtheatretrips.co.uk
END:VEVENT
BEGIN:VEVENT
DTSTART;TZID=Europe/London:20250810T180000
DTEND;TZID=Europe/London:20250810T193000
DTSTAMP:20260420T184107
CREATED:20250210T180349Z
LAST-MODIFIED:20250210T180349Z
UID:111670-1754848800-1754854200@luxfordtheatretrips.co.uk
SUMMARY:ABBA VOYAGE - Ticket Only - August
DESCRIPTION:No Coach included. \nAgnetha\, Björn\, Benny and Anni-Frid have created the kind of concert they always wanted\, performing for their fans at their very best: as digital versions of themselves backed by today’s finest musicians. \nBlurring the lines between the physical and digital\, see the magic of ABBA brought to life using the latest in motion capture technology. \nIt’s the greatest ABBA performance the world has never seen. Until now. \nWe are offering 2 priced options: £65 for the dance floor/standing or £85 seated.
URL:https://luxfordtheatretrips.co.uk/event/abba-voyage-ticket-only-august/
LOCATION:ABBA Arena\, 1 Pudding Mill Lane\, London\, E152PJ\, United Kingdom
CATEGORIES:Concert,Tickets Only
ORGANIZER;CN="Luxford Theatre Trips":MAILTO:info@luxfordtheatretrips.co.uk
END:VEVENT
END:VCALENDAR