BEGIN:VCALENDAR
VERSION:2.0
PRODID:-//Luxford Theatre Trips - ECPv6.15.20//NONSGML v1.0//EN
CALSCALE:GREGORIAN
METHOD:PUBLISH
X-ORIGINAL-URL:https://luxfordtheatretrips.co.uk
X-WR-CALDESC:Events for Luxford Theatre Trips
REFRESH-INTERVAL;VALUE=DURATION:PT1H
X-Robots-Tag:noindex
X-PUBLISHED-TTL:PT1H
BEGIN:VTIMEZONE
TZID:Europe/London
BEGIN:DAYLIGHT
TZOFFSETFROM:+0000
TZOFFSETTO:+0100
TZNAME:BST
DTSTART:20240331T010000
END:DAYLIGHT
BEGIN:STANDARD
TZOFFSETFROM:+0100
TZOFFSETTO:+0000
TZNAME:GMT
DTSTART:20241027T010000
END:STANDARD
BEGIN:DAYLIGHT
TZOFFSETFROM:+0000
TZOFFSETTO:+0100
TZNAME:BST
DTSTART:20250330T010000
END:DAYLIGHT
BEGIN:STANDARD
TZOFFSETFROM:+0100
TZOFFSETTO:+0000
TZNAME:GMT
DTSTART:20251026T010000
END:STANDARD
BEGIN:DAYLIGHT
TZOFFSETFROM:+0000
TZOFFSETTO:+0100
TZNAME:BST
DTSTART:20260329T010000
END:DAYLIGHT
BEGIN:STANDARD
TZOFFSETFROM:+0100
TZOFFSETTO:+0000
TZNAME:GMT
DTSTART:20261025T010000
END:STANDARD
END:VTIMEZONE
BEGIN:VEVENT
DTSTART;TZID=Europe/London:20250807T143000
DTEND;TZID=Europe/London:20250807T213000
DTSTAMP:20260420T184024
CREATED:20250807T103444Z
LAST-MODIFIED:20250807T103444Z
UID:114986-1754577000-1754602200@luxfordtheatretrips.co.uk
SUMMARY:Book of Mormon and Matilda
DESCRIPTION:2 shows in one day \nWe hope to arrive around 1130am. After time for lunch\, head to The Prince of Wales Theatre for The Book of Mormon matinee at 2.30pm. \nNot for the easily offended!! \nThe Book of Mormon follows the story of two young Mormon missionaries\, Elder Price and Elder Cunningham\, working to spread the word of the Latter Day Saints to the locals in a small town in Uganda. The LDS church members realise how daunting their task is when they discover the villagers are more concerned with the AIDS epidemic\, oppression\, and starvation. \nAnyone familiar with South Park or the work of Trey Parker and Matt Stone would know that The Book of Mormon can get rather bawdy and crass at times! That being said\, despite Parker and Stone’s in-your-face subject matter\, the musical never received a backlash from members of the Church of Latter-Day Saints. In fact\, the Mormon Church even stated the musical may be “entertaining for a day”\, while also going on to add that “the book is always better” when it comes to theatrical adaptations. \nThe show finishes at 5pm so time to grab some dinner\, see the famous lights and soak up the festive atmosphere before\, heading over to The Cambridge Theatre for your 7pm show.\nMatilda The Musical is the multi-award winning musical from the Royal Shakespeare Company\, inspired by the beloved book by the incomparable Roald Dahl. \nWith book by Dennis Kelly and original songs by Tim Minchin\, Matilda The Musical is the story of an extraordinary little girl who\, armed with a vivid imagination and a sharp mind\, dares to take a stand and change her own destiny. \nWinner of over 100 international awards\, including 24 for Best Musical\, Matilda has been delighting audiences in London’s West End for over a decade. \nThe coach will leave London at 10pm \nCoach pick up \nWitham – Bus stop outside Paddy Power Newland Street Witham CM8 1AH – 0900hrs\nGreat Notley\, Entrance to White Courts Estate\, Windermere Drive\, CM77 7UB – 0925hrs\nDunmow\, Opposite The Flitch House\, Main Road\, CM6 1AE – 0945hrs\nTakeley\, Opposite Four Ashes Dunmow Road – 0955hrs
URL:https://luxfordtheatretrips.co.uk/event/book-of-mormon-and-matilda/
LOCATION:Prince of Wales Theatre\, Coventry Street\, London\, W1D 6AS\, United Kingdom
CATEGORIES:Great Notley Route,Musical,Witham Pick-up
ATTACH;FMTTYPE=image/jpeg:https://luxfordtheatretrips.co.uk/wp-content/uploads/2025/08/BOM-and-Matilda.jpg
ORGANIZER;CN="Luxford Theatre Trips":MAILTO:info@luxfordtheatretrips.co.uk
END:VEVENT
BEGIN:VEVENT
DTSTART;TZID=Europe/London:20250807T173000
DTEND;TZID=Europe/London:20250807T213000
DTSTAMP:20260420T184024
CREATED:20250510T155345Z
LAST-MODIFIED:20250725T102444Z
UID:113286-1754587800-1754602200@luxfordtheatretrips.co.uk
SUMMARY:Elvis Evolution
DESCRIPTION:ELVIS EVOLUTION is a brand new\, first of its kind experience from Layered Reality™\, the UK’s leading immersive specialists\, celebrating the life and work of Elvis Presley. Combining cutting-edge digital technology\, live actors and musicians\, mind-blowing multimedia and heart-pounding music\, ELVIS EVOLUTION lets you relive the King’s iconic moments. Taking place at Immerse LDN at London Excel Waterfront\, this is a high-energy\, high-tech homage that promises to be an unforgettable night\, where you will walk in Elvis’ blue suede shoes.\nThis walkthrough immersive experience has some seated scenes and themed bars\, giving you a multi-sensory journey through Elvis’ rags to riches story from country boy to musical icon. Featuring three themed bars\, including a 1960s diner where there’ll be themed cocktails and food and an interval Tiki bar. You’ll finish your experience in the ‘All Shook Up’ After Party bar where the celebration of the man and the music continues.\nWe have multiple shows per day for 180 people per performance. All ticket holders get to access to the ‘All Shook Up’ afterparty. A night for lifelong fans and newcomers alike\, Elvis Evolution lets you experience Elvis\, like never before. \nWe aim to arrive around 4.30pm and your entry time slot is 5.30pm giving time for a drink in one of the bars in and around Excel. You should reach the ‘All Shook Up’ after party around 7pm. As we are not yet sure what this entails\, our thoughts are for the coach to leave at 9.30pm allowing time to enjoy The After Party and get dinner\, this is subject to change once reviews are out. \nCoach pick up; \nBroomfield\, The Angel bus stop OPPOSITE The Angel Main Road CM1 7AH – 1410hrs\nGreat Leighs\, Opposite The Castle\, Main Road\, CM3 1NE – 1425hrs\nGreat Notley\, Entrance to White Courts Estate\, Windermere Drive\, CM77 7UB – 1430hrs\nDunmow\, Opposite The Flitch House\, High Street\, CM6 1AE – 1450hrs\nTakeley\, Opposite The Four Ashes\, Dunmow Road\, CM22 6SB – 1500hrs
URL:https://luxfordtheatretrips.co.uk/event/elvis-evolution-2/
LOCATION:Excel\, Royal Victoria Dock\, London\, E16 1XL\, United Kingdom
CATEGORIES:Great Notley Route,Immersive experience
ORGANIZER;CN="Luxford Theatre Trips":MAILTO:info@luxfordtheatretrips.co.uk
END:VEVENT
END:VCALENDAR