BEGIN:VCALENDAR
VERSION:2.0
PRODID:-//Luxford Theatre Trips - ECPv6.15.20//NONSGML v1.0//EN
CALSCALE:GREGORIAN
METHOD:PUBLISH
X-WR-CALNAME:Luxford Theatre Trips
X-ORIGINAL-URL:https://luxfordtheatretrips.co.uk
X-WR-CALDESC:Events for Luxford Theatre Trips
REFRESH-INTERVAL;VALUE=DURATION:PT1H
X-Robots-Tag:noindex
X-PUBLISHED-TTL:PT1H
BEGIN:VTIMEZONE
TZID:Europe/London
BEGIN:DAYLIGHT
TZOFFSETFROM:+0000
TZOFFSETTO:+0100
TZNAME:BST
DTSTART:20240331T010000
END:DAYLIGHT
BEGIN:STANDARD
TZOFFSETFROM:+0100
TZOFFSETTO:+0000
TZNAME:GMT
DTSTART:20241027T010000
END:STANDARD
BEGIN:DAYLIGHT
TZOFFSETFROM:+0000
TZOFFSETTO:+0100
TZNAME:BST
DTSTART:20250330T010000
END:DAYLIGHT
BEGIN:STANDARD
TZOFFSETFROM:+0100
TZOFFSETTO:+0000
TZNAME:GMT
DTSTART:20251026T010000
END:STANDARD
BEGIN:DAYLIGHT
TZOFFSETFROM:+0000
TZOFFSETTO:+0100
TZNAME:BST
DTSTART:20260329T010000
END:DAYLIGHT
BEGIN:STANDARD
TZOFFSETFROM:+0100
TZOFFSETTO:+0000
TZNAME:GMT
DTSTART:20261025T010000
END:STANDARD
END:VTIMEZONE
BEGIN:VEVENT
DTSTART;TZID=Europe/London:20250805T080000
DTEND;TZID=Europe/London:20250805T170000
DTSTAMP:20260420T184002
CREATED:20250805T144133Z
LAST-MODIFIED:20250805T144133Z
UID:114889-1754380800-1754413200@luxfordtheatretrips.co.uk
SUMMARY:Stranger Things matinee and free time
DESCRIPTION:Hawkins\, 1959: a regular town with regular worries. Young Jim Hopper’s car won’t start\, Bob Newby’s sister won’t take his radio show seriously and Joyce Maldonado just wants to graduate and get the hell out of town. When new student Henry Creel arrives\, his family finds that a fresh start isn’t so easy… and the shadows of the past have a very long reach. \nFrom Netflix and the multi-award-winning Broadway producer Sonia Friedman Productions comes Stranger Things: The First Shadow. Winner of two Olivier Awards including Best Entertainment\, this landmark production is brought to life by an award-winning creative team including director Stephen Daldry (The Crown\, Billy Elliot\, The Inheritance\, The Hours\, The Reader) and co-director Justin Martin (Prima Facie\, The Inheritance). With stunning special effects\, extraordinary performances\, and a storyline that will keep you on the edge of your seat\, this gripping\, stand-alone adventure will take you right back to the beginnings of the Stranger Things story. \nThis production contains gunfire audio\, loud noises and explosions\, haze and smoke\, flashing lights and strobe\, and strong language. There are depictions of various mental health conditions and disorders. \nThis is a matinee production with free time in the evening to see the famous Christmas lights\, eat\, drink and soak up the festive atmosphere.  – We hope to arrive around 1130am. The show is at 1pm and finishes at 4pm. The coach will depart London at 10pm \nCoach pick up \nWitham – Bus stop outside Paddy Power Newland Street Witham CM8 1AH – 0900hrs\nGreat Notley\, Entrance to White Courts Estate\, Windermere Drive\, CM77 7UB – 0925hrs\nDunmow\, Opposite The Flitch House\, Main Road\, CM6 1AE – 0945hrs\nTakeley\, Opposite Four Ashes Dunmow Road – 0955hrs
URL:https://luxfordtheatretrips.co.uk/event/stranger-things-matinee-and-free-time/
LOCATION:Phoenix theatre\, Charing Cross Road\, London\, WC2H 0JP\, United Kingdom
CATEGORIES:Great Notley Route,Play,Witham Pick-up
ATTACH;FMTTYPE=image/jpeg:https://luxfordtheatretrips.co.uk/wp-content/uploads/2025/08/Stranger-things-website.jpg
ORGANIZER;CN="Luxford Theatre Trips":MAILTO:info@luxfordtheatretrips.co.uk
END:VEVENT
END:VCALENDAR