BEGIN:VCALENDAR
VERSION:2.0
PRODID:-//Luxford Theatre Trips - ECPv6.15.20//NONSGML v1.0//EN
CALSCALE:GREGORIAN
METHOD:PUBLISH
X-ORIGINAL-URL:https://luxfordtheatretrips.co.uk
X-WR-CALDESC:Events for Luxford Theatre Trips
REFRESH-INTERVAL;VALUE=DURATION:PT1H
X-Robots-Tag:noindex
X-PUBLISHED-TTL:PT1H
BEGIN:VTIMEZONE
TZID:Europe/London
BEGIN:DAYLIGHT
TZOFFSETFROM:+0000
TZOFFSETTO:+0100
TZNAME:BST
DTSTART:20240331T010000
END:DAYLIGHT
BEGIN:STANDARD
TZOFFSETFROM:+0100
TZOFFSETTO:+0000
TZNAME:GMT
DTSTART:20241027T010000
END:STANDARD
BEGIN:DAYLIGHT
TZOFFSETFROM:+0000
TZOFFSETTO:+0100
TZNAME:BST
DTSTART:20250330T010000
END:DAYLIGHT
BEGIN:STANDARD
TZOFFSETFROM:+0100
TZOFFSETTO:+0000
TZNAME:GMT
DTSTART:20251026T010000
END:STANDARD
BEGIN:DAYLIGHT
TZOFFSETFROM:+0000
TZOFFSETTO:+0100
TZNAME:BST
DTSTART:20260329T010000
END:DAYLIGHT
BEGIN:STANDARD
TZOFFSETFROM:+0100
TZOFFSETTO:+0000
TZNAME:GMT
DTSTART:20261025T010000
END:STANDARD
END:VTIMEZONE
BEGIN:VEVENT
DTSTART;TZID=Europe/London:20250801T080000
DTEND;TZID=Europe/London:20250801T170000
DTSTAMP:20260420T184122
CREATED:20250801T160648Z
LAST-MODIFIED:20250805T151241Z
UID:114770-1754035200-1754067600@luxfordtheatretrips.co.uk
SUMMARY:Choir of Man and Shopping Time
DESCRIPTION:Welcome to THE CHOIR OF MAN\, the best pub in the world… Come ready to drink in the excitement! \nBrimming with hits from artists such as Queen\, Luther Vandross\, Sia\, Paul Simon\, Adele\, Guns & Roses\, Avicii and Katy Perry to name but a few\, this is a pub like no other! A wildly talented group of incredible instrumentalists\, world-class wordsmiths\, and sensational singers; this cast of nine (extra)ordinary guys serve it all… live! \nAn uplifting celebration of community and friendship where everyone is welcome. It’s 90 minutes of feel-good\, foot-stomping entertainment unlike anything else in the West End. \nProduced by Immersive Everywhere\, Nic Doodson\, Andrew Kay\, Wendy & Andy Barnes and AK Theatricals. \nThis performance contains alcohol consumption\, flashing lights and use of haze. \nThis is an evening production with free time before hand to do some shopping\, see the famous Christmas lights\, eat\, drink and soak up the festive atmosphere.  – We hope to arrive around 1130am. The show is at 7.30pm and finishes at 9pm. The coach will depart London at 10pm \nCoach pick up \nWitham – Bus stop outside Paddy Power Newland Street Witham CM8 1AH – 0900hrs\nGreat Notley\, Entrance to White Courts Estate\, Windermere Drive\, CM77 7UB – 0925hrs\nDunmow\, Opposite The Flitch House\, Main Road\, CM6 1AE – 0945hrs\nTakeley\, Opposite Four Ashes Dunmow Road – 0955hrs
URL:https://luxfordtheatretrips.co.uk/event/choir-of-man-and-shopping-time/
LOCATION:Arts Theatre\, 6-7 Great Newport Street\, London\, WC2B 7JB\, United Kingdom
CATEGORIES:Great Notley Route,Musical,Witham Pick-up
ATTACH;FMTTYPE=image/png:https://luxfordtheatretrips.co.uk/wp-content/uploads/2025/08/COM.png
ORGANIZER;CN="Luxford Theatre Trips":MAILTO:info@luxfordtheatretrips.co.uk
END:VEVENT
END:VCALENDAR