BEGIN:VCALENDAR
VERSION:2.0
PRODID:-//Luxford Theatre Trips - ECPv6.15.20//NONSGML v1.0//EN
CALSCALE:GREGORIAN
METHOD:PUBLISH
X-WR-CALNAME:Luxford Theatre Trips
X-ORIGINAL-URL:https://luxfordtheatretrips.co.uk
X-WR-CALDESC:Events for Luxford Theatre Trips
REFRESH-INTERVAL;VALUE=DURATION:PT1H
X-Robots-Tag:noindex
X-PUBLISHED-TTL:PT1H
BEGIN:VTIMEZONE
TZID:Europe/London
BEGIN:DAYLIGHT
TZOFFSETFROM:+0000
TZOFFSETTO:+0100
TZNAME:BST
DTSTART:20240331T010000
END:DAYLIGHT
BEGIN:STANDARD
TZOFFSETFROM:+0100
TZOFFSETTO:+0000
TZNAME:GMT
DTSTART:20241027T010000
END:STANDARD
BEGIN:DAYLIGHT
TZOFFSETFROM:+0000
TZOFFSETTO:+0100
TZNAME:BST
DTSTART:20250330T010000
END:DAYLIGHT
BEGIN:STANDARD
TZOFFSETFROM:+0100
TZOFFSETTO:+0000
TZNAME:GMT
DTSTART:20251026T010000
END:STANDARD
BEGIN:DAYLIGHT
TZOFFSETFROM:+0000
TZOFFSETTO:+0100
TZNAME:BST
DTSTART:20260329T010000
END:DAYLIGHT
BEGIN:STANDARD
TZOFFSETFROM:+0100
TZOFFSETTO:+0000
TZNAME:GMT
DTSTART:20261025T010000
END:STANDARD
END:VTIMEZONE
BEGIN:VEVENT
DTSTART;TZID=Europe/London:20250713T130000
DTEND;TZID=Europe/London:20250713T170000
DTSTAMP:20260420T201617
CREATED:20250216T180319Z
LAST-MODIFIED:20250303T122143Z
UID:111838-1752411600-1752426000@luxfordtheatretrips.co.uk
SUMMARY:Buckingham Palace\, A Royal Day Out
DESCRIPTION:Other than executive coach travel\, what’s included in your Royal Day Out ticket?\nA Royal Day Out ticket offers discount admission to all three venues at Buckingham Palace: the State Rooms\, The King’s Gallery and the Royal Mews. \nThe King’s Gallery\nThe Queen’s Gallery has now become The King’s Gallery. Your Royal Day Out will start with a visit to The King’s Gallery to see the exhibition The Edwardians: Age of Elegance. This new exhibition will explore the opulence and glamour of the Edwardian era – the period between the Victorian era and the First World War – through the lives and tastes of the monarchs of the age. \nNext you will visit the Royal Mews which is one of the finest working stables in existence and responsible for all road travel arrangements for The King and members of the Royal Family. You will see historic coaches and carriages\, including the Gold State Coach and the Diamond Jubilee State Coach\, the newest coach at the Mews. \nThe State Rooms\nYour Royal Day Out will finish with a tour through the magnificent State Rooms in Buckingham Palace which are used by The King for ceremonial occasions and official entertaining. Each room is furnished with many of the treasures from the Royal Collection\, including paintings by Rembrandt and Rubens; sculpture by Canova; and some of the finest English and French furniture in the world.   \nThe day ends with a walk through the garden\, with splendid views of the Palace and the famous lake. \nRead more about the State Rooms\, Buckingham Palace. \nEating and Drinking\nDrinks\, cakes and sandwiches are available in the Garden Café at the end of the State Rooms tour. Situated overlooking the Palace’s lawn and lake\, the Café is a great place to relax after your busy day out. \nFood and drink are not available at The King’s Gallery or the Royal Mews but there are many cafés and restaurants nearby. Eating and drinking are not permitted inside any of the venues. \nItinerary\nYour Royal Day Out visit will last approximately 4 hours.\nYou will begin your Royal Day Out at The King’s Gallery\, followed by the Royal Mews and then the State Rooms\, visiting all three venues on the same day. \nEnter The King’s Gallery 13:00\nEnter the Royal Mews 14:15\nEnter the State Rooms 15:15\nVisit ends around 17:00 \nCoach pick up\nBroomfield\, The Angel bus stop OPPOSITE The Angel Main Road CM1 7AH – 0910hrs\nGreat Leighs\, Opposite The Castle\, Main Road\, CM3 1NE – 0920hrs\nGreat Notley\, Entrance to White Courts Estate\, Windermere Drive\, CM77 7UB – 0925hrs\nDunmow\, Opposite The Flitch House\, High Street\, CM6 1AE – 0945hrs\nTakeley\, Opposite The Four Ashes\, Dunmow Road\, CM22 6SB – 0955hrs
URL:https://luxfordtheatretrips.co.uk/event/buckingham-palace-a-royal-day-ou/
LOCATION:Buckinham Palace\, London\, SW1A 1AA\, United Kingdom
CATEGORIES:Day Trip,Great Notley Route
ORGANIZER;CN="Luxford Theatre Trips":MAILTO:info@luxfordtheatretrips.co.uk
END:VEVENT
BEGIN:VEVENT
DTSTART;TZID=Europe/London:20250713T143000
DTEND;TZID=Europe/London:20250713T170000
DTSTAMP:20260420T201617
CREATED:20241218T195406Z
LAST-MODIFIED:20241218T195553Z
UID:110434-1752417000-1752426000@luxfordtheatretrips.co.uk
SUMMARY:Wicked
DESCRIPTION:When Dorothy famously triumphed over the Wicked Witch of the West\, we only ever heard one side of the story. Gregory Maguire‘s acclaimed 1995 novel\, ‘Wicked: The Life and Times of the Wicked Witch of the West’\, re-imagines the Land of Oz\, creating a parallel universe to the familiar story written by L. Frank Baum and first published as ‘The Wonderful Wizard of Oz’ in 1900. \nWe have 2 price bandings: \nPrice band A are stalls rows S to W (£89.50) \nPrice band B are stalls rows ZA and ZB (79.50) \nBroomfield\, The Angel bus stop OPPOSITE The Angel Main Road CM1 7AH – 0910hrs\nGreat Leighs\, Opposite The Castle\, Main Road\, CM3 1NE – 0920hrs\nGreat Notley\, Entrance to White Courts Estate\, Windermere Drive\, CM77 7UB – 0925hrs\nDunmow\, Opposite The Flitch House\, High Street\, CM6 1AE – 0945hrs\nTakeley\, Opposite The Four Ashes\, Dunmow Road\, CM22 6SB – 0955hrs
URL:https://luxfordtheatretrips.co.uk/event/wicked/
LOCATION:Apollo Victoria\, Wilton Road\, London\, SW1V 1LG\, United Kingdom
CATEGORIES:Great Notley Route,Musical
ORGANIZER;CN="Luxford Theatre Trips":MAILTO:info@luxfordtheatretrips.co.uk
END:VEVENT
END:VCALENDAR