BEGIN:VCALENDAR
VERSION:2.0
PRODID:-//Luxford Theatre Trips - ECPv6.15.20//NONSGML v1.0//EN
CALSCALE:GREGORIAN
METHOD:PUBLISH
X-WR-CALNAME:Luxford Theatre Trips
X-ORIGINAL-URL:https://luxfordtheatretrips.co.uk
X-WR-CALDESC:Events for Luxford Theatre Trips
REFRESH-INTERVAL;VALUE=DURATION:PT1H
X-Robots-Tag:noindex
X-PUBLISHED-TTL:PT1H
BEGIN:VTIMEZONE
TZID:Europe/London
BEGIN:DAYLIGHT
TZOFFSETFROM:+0000
TZOFFSETTO:+0100
TZNAME:BST
DTSTART:20240331T010000
END:DAYLIGHT
BEGIN:STANDARD
TZOFFSETFROM:+0100
TZOFFSETTO:+0000
TZNAME:GMT
DTSTART:20241027T010000
END:STANDARD
BEGIN:DAYLIGHT
TZOFFSETFROM:+0000
TZOFFSETTO:+0100
TZNAME:BST
DTSTART:20250330T010000
END:DAYLIGHT
BEGIN:STANDARD
TZOFFSETFROM:+0100
TZOFFSETTO:+0000
TZNAME:GMT
DTSTART:20251026T010000
END:STANDARD
BEGIN:DAYLIGHT
TZOFFSETFROM:+0000
TZOFFSETTO:+0100
TZNAME:BST
DTSTART:20260329T010000
END:DAYLIGHT
BEGIN:STANDARD
TZOFFSETFROM:+0100
TZOFFSETTO:+0000
TZNAME:GMT
DTSTART:20261025T010000
END:STANDARD
END:VTIMEZONE
BEGIN:VEVENT
DTSTART;TZID=Europe/London:20250612T193000
DTEND;TZID=Europe/London:20250612T220000
DTSTAMP:20260420T215633
CREATED:20240917T105103Z
LAST-MODIFIED:20250523T084039Z
UID:108965-1749756600-1749765600@luxfordtheatretrips.co.uk
SUMMARY:Just For One Day - Tiptree route
DESCRIPTION:JUST FOR ONE DAY – The Live Aid Musical \nIt’s the encore you’ve been waiting for! Following a critically acclaimed\, sold-out run at The Old Vic\, JUST FOR ONE DAY – The Live Aid Musical is back for another day! Playing at the Shaftesbury Theatre from 15 May 2025\, get ready to relive the day that music brought the world together. \nWhat is JUST FOR ONE DAY – The Live Aid Musical about? \n‘We can be us\, just for one day’. \nOn 13 July 1985\, music united the world. \n40 years on\, discover the story of Live Aid in a whole new way — in London’s West End at JUST FOR ONE DAY – The Live Aid Musical. \nThe show’s World Premiere production “blew the roof off the Old Vic” (Baz Bamigboye) in early 2024\, where it became the theatre’s fastest-selling musical ever. \nThis exhilarating night out “rocks in all the right ways” (WhatsOnStage)\, with hit songs by Bob Dylan\, David Bowie\, The Who\, U2\, Queen\, Madonna\, The Police\, Elton John\, Paul McCartney\, Diana Ross and more of the iconic artists who made history at simultaneous charitable concerts in London and Philadelphia. \nLive Aid was an unprecedented global music event that brought 1.5 billion people together\, and they all have a story to tell about ‘the day rock ‘n’ roll changed the world’. Whether you saw it live\, watched it from home or weren’t even born yet\, you won’t want to miss this “rip-roaring” (The Telegraph) and “remarkable” (Daily Mail) new musical written by John O’Farrell (Mrs. Doubtfire\, Something Rotten!) and directed by Luke Sheppard (& Juliet\, The Little Big Things). \nCoach pick up \nTiptree – Outside St Lukes Church\, Church Road Tiptree CO5 0HF – 1440hrs\nKelvedon – Bus stop opposite the post office\, High Street Kelvedon CO5 9AG –  1500hrs\nWitham – Bus stop opposite Paddy Power Newland Street Witham CM8 1AH – 1520hrs
URL:https://luxfordtheatretrips.co.uk/event/just-for-one-day-tiptree-route/
LOCATION:Shaftesbury Theatre\, 210 Shaftesbury Avenue\, London\, WC2H 8DP\, United Kingdom
CATEGORIES:Musical,Tiptree Route,Witham Pick-up
ATTACH;FMTTYPE=image/png:https://luxfordtheatretrips.co.uk/wp-content/uploads/2024/09/jfod-website.png
ORGANIZER;CN="Luxford Theatre Trips":MAILTO:info@luxfordtheatretrips.co.uk
END:VEVENT
BEGIN:VEVENT
DTSTART;TZID=Europe/London:20250612T193000
DTEND;TZID=Europe/London:20250612T220000
DTSTAMP:20260420T215633
CREATED:20250110T200522Z
LAST-MODIFIED:20250110T200522Z
UID:110903-1749756600-1749765600@luxfordtheatretrips.co.uk
SUMMARY:MJ - The Michael Jackson Musical - Tiptree route
DESCRIPTION:He is one of the greatest entertainers of all time. Now\, Michael Jackson’s unique and unparalleled artistry has finally arrived on the West End stage direct from Broadway in the multiple Tony Award®-winning new musical MJ.\nCentred around the making of his 1992 Dangerous World Tour\, and created by Tony Award®-winning Director/Choreographer Christopher Wheeldon and two-time Pulitzer Prize winner Lynn Nottage\, MJ goes beyond the singular moves and signature sound of the star\, offering a rare look at the creative mind and collaborative spirit that catapulted Jackson into legendary status.\nMJ is now playing at London’s Prince Edward Theatre. \nWe have amazing seats in front half of the stalls. \nTiptree –  Bus stop outside St Lukes Church\, Church Road Tiptree CO5 0HF – 1440hrs\nKelvedon – Bus stop opposite the post office\, High Street Kelvedon CO5 9AG –  1500hrs\nWitham – Bus stop opposite Paddy Power Newland Street Witham CM8 1AH – 1520hrs
URL:https://luxfordtheatretrips.co.uk/event/mj-the-michael-jackson-musical-tiptree-route/
LOCATION:Prince Edward Theatre\, Old Compton Street\, London\, W1D 4HS\, United Kingdom
CATEGORIES:Musical,Tiptree Route,Witham Pick-up
ORGANIZER;CN="Luxford Theatre Trips":MAILTO:info@luxfordtheatretrips.co.uk
END:VEVENT
BEGIN:VEVENT
DTSTART;TZID=Europe/London:20250612T193000
DTEND;TZID=Europe/London:20250612T220000
DTSTAMP:20260420T215633
CREATED:20250115T192805Z
LAST-MODIFIED:20250115T192805Z
UID:111018-1749756600-1749765600@luxfordtheatretrips.co.uk
SUMMARY:Devil Wears Prada - Tiptree route
DESCRIPTION:Gird your loins! The Devil Wears Prada\, a new musical. \nThe Devil Wears Prada is a new musical based on the blockbuster film and bestselling novel and features an original score by music legend Elton John\, lyrics by Shaina Taub\, a book by Kate Wetherhead\, and direction and choreography by three-time Tony Award winner Jerry Mitchell (Kinky Boots\, Legally Blonde\, Pretty Woman\, Hairspray). \nFresh out of college\, aspiring journalist Andy scores a job at the prestigious Runway magazine working for fashion’s most powerful and terrifying icon — editor-in-chief Miranda Priestly. Sacrificing her personal life to meet Miranda’s impossible demands\, Andy finds herself seduced by the glamorous world she once despised. \nHow far will she go to succeed… and will it be worth selling her soul to get what she’s always wanted? \nHilariously fun and fabulously stylish\, The Devil Wears Prada tells an inspiring story about discovering what kind of person you truly want to be. \nChoose your outfit carefully\, and get ready for a new musical that’s hautter than hell! \nTiptree – Outside St Lukes Church\, Church Road Tiptree CO5 0HF – 1440hrs\nKelvedon – Bus stop opposite the post office\, High Street Kelvedon CO5 9AG –  1500hrs\nWitham – Bus stop opposite Paddy Power Newland Street Witham CM8 1AH – 1520hrs
URL:https://luxfordtheatretrips.co.uk/event/devil-wears-prada-tiptree-route/
LOCATION:Dominion Theatre\, 268-269 Tottenham Court Road\, London\, W1T 7AQ\, United Kingdom
CATEGORIES:Musical,Tiptree Route,Witham Pick-up
ATTACH;FMTTYPE=image/jpeg:https://luxfordtheatretrips.co.uk/wp-content/uploads/2024/10/devil-wears-prada.jpg
ORGANIZER;CN="Luxford Theatre Trips":MAILTO:info@luxfordtheatretrips.co.uk
END:VEVENT
BEGIN:VEVENT
DTSTART;TZID=Europe/London:20250612T193000
DTEND;TZID=Europe/London:20250612T220000
DTSTAMP:20260420T215633
CREATED:20250523T082711Z
LAST-MODIFIED:20250523T082711Z
UID:113554-1749756600-1749765600@luxfordtheatretrips.co.uk
SUMMARY:Just For One Day - Ticket Only
DESCRIPTION:JUST FOR ONE DAY – The Live Aid Musical \nIt’s the encore you’ve been waiting for! Following a critically acclaimed\, sold-out run at The Old Vic\, JUST FOR ONE DAY – The Live Aid Musical is back for another day! Playing at the Shaftesbury Theatre from 15 May 2025\, get ready to relive the day that music brought the world together. \nWhat is JUST FOR ONE DAY – The Live Aid Musical about? \n‘We can be us\, just for one day’. \nOn 13 July 1985\, music united the world. \n40 years on\, discover the story of Live Aid in a whole new way — in London’s West End at JUST FOR ONE DAY – The Live Aid Musical. \nThe show’s World Premiere production “blew the roof off the Old Vic” (Baz Bamigboye) in early 2024\, where it became the theatre’s fastest-selling musical ever. \nThis exhilarating night out “rocks in all the right ways” (WhatsOnStage)\, with hit songs by Bob Dylan\, David Bowie\, The Who\, U2\, Queen\, Madonna\, The Police\, Elton John\, Paul McCartney\, Diana Ross and more of the iconic artists who made history at simultaneous charitable concerts in London and Philadelphia. \nLive Aid was an unprecedented global music event that brought 1.5 billion people together\, and they all have a story to tell about ‘the day rock ‘n’ roll changed the world’. Whether you saw it live\, watched it from home or weren’t even born yet\, you won’t want to miss this “rip-roaring” (The Telegraph) and “remarkable” (Daily Mail) new musical written by John O’Farrell (Mrs. Doubtfire\, Something Rotten!) and directed by Luke Sheppard (& Juliet\, The Little Big Things). \nThis ticket does not include transport.\nYou will be seated in Stalls rows P or Q
URL:https://luxfordtheatretrips.co.uk/event/just-for-one-day-ticket-only-2/
LOCATION:Shaftesbury Theatre\, 210 Shaftesbury Avenue\, London\, WC2H 8DP\, United Kingdom
CATEGORIES:Tickets Only
ATTACH;FMTTYPE=image/png:https://luxfordtheatretrips.co.uk/wp-content/uploads/2024/09/jfod-website.png
ORGANIZER;CN="Luxford Theatre Trips":MAILTO:info@luxfordtheatretrips.co.uk
END:VEVENT
END:VCALENDAR