BEGIN:VCALENDAR
VERSION:2.0
PRODID:-//Luxford Theatre Trips - ECPv6.15.20//NONSGML v1.0//EN
CALSCALE:GREGORIAN
METHOD:PUBLISH
X-WR-CALNAME:Luxford Theatre Trips
X-ORIGINAL-URL:https://luxfordtheatretrips.co.uk
X-WR-CALDESC:Events for Luxford Theatre Trips
REFRESH-INTERVAL;VALUE=DURATION:PT1H
X-Robots-Tag:noindex
X-PUBLISHED-TTL:PT1H
BEGIN:VTIMEZONE
TZID:Europe/London
BEGIN:DAYLIGHT
TZOFFSETFROM:+0000
TZOFFSETTO:+0100
TZNAME:BST
DTSTART:20240331T010000
END:DAYLIGHT
BEGIN:STANDARD
TZOFFSETFROM:+0100
TZOFFSETTO:+0000
TZNAME:GMT
DTSTART:20241027T010000
END:STANDARD
BEGIN:DAYLIGHT
TZOFFSETFROM:+0000
TZOFFSETTO:+0100
TZNAME:BST
DTSTART:20250330T010000
END:DAYLIGHT
BEGIN:STANDARD
TZOFFSETFROM:+0100
TZOFFSETTO:+0000
TZNAME:GMT
DTSTART:20251026T010000
END:STANDARD
BEGIN:DAYLIGHT
TZOFFSETFROM:+0000
TZOFFSETTO:+0100
TZNAME:BST
DTSTART:20260329T010000
END:DAYLIGHT
BEGIN:STANDARD
TZOFFSETFROM:+0100
TZOFFSETTO:+0000
TZNAME:GMT
DTSTART:20261025T010000
END:STANDARD
END:VTIMEZONE
BEGIN:VEVENT
DTSTART;TZID=Europe/London:20250604T193000
DTEND;TZID=Europe/London:20250604T220000
DTSTAMP:20260420T215520
CREATED:20240829T140311Z
LAST-MODIFIED:20250122T193641Z
UID:108672-1749065400-1749074400@luxfordtheatretrips.co.uk
SUMMARY:Kinky Boots - Cliffs Pavillion
DESCRIPTION:The Broadway and West End sensation\, Kinky Boots The Musical\, is strutting back to Southend in a brand-new production starring Strictly Come Dancing’s Johannes Radebe and rising star Dan Partridge.  This joy-filled phenomenon\, based on a true story and hit movie\, features Tony® and Grammy® winning music and lyrics by pop icon Cyndi Lauper\, a hilarious and life-affirming book by Tony Award winner Harvey Fierstein and is directed by Nikolai Foster (The Wizard of Oz\, Grease and An Officer and a Gentleman). \nAfter inheriting his family’s failing shoe factory and with a relationship on the rocks\, life is proving to be very challenging for Charlie Price. That is until he meets Lola\, a drag queen whose sparkle and unsteady heels might just hold the answer to saving the struggling business. \nGuaranteed to RAISE YOU UP and celebrate everybody’s individuality\, don’t miss Kinky Boots the Musical. \nThe show starts at 7.30pm. we aim to arrive around 5.30pm allowing time for dinner. There are a few restaurants in the vicinity which we would recommend booking in advance. \nCoach pick up \nDunmow\, Opposite The Flitch House\, High Street\, CM6 1AE – 1600hrs\nGreat Notley\, Entrance to White Courts Estate\, Windermere Drive\, CM77 7UB –\n1620hrs\nGreat Leighs\, Opposite The Castle\, Main Road\, CM3 1NE – 1630hrs\nBroomfield\, Outside the Angel\, Main Road CM1 7AH – 1645hrs
URL:https://luxfordtheatretrips.co.uk/event/kinky-boots-cliffs-pavillion/
LOCATION:Cliffs Pavilion\, Station Road\, Southend on Sea\, SS0 7RA\, United Kingdom
CATEGORIES:Great Notley Route,Musical
ORGANIZER;CN="Luxford Theatre Trips":MAILTO:info@luxfordtheatretrips.co.uk
END:VEVENT
BEGIN:VEVENT
DTSTART;TZID=Europe/London:20250604T193000
DTEND;TZID=Europe/London:20250604T220000
DTSTAMP:20260420T215520
CREATED:20250527T101220Z
LAST-MODIFIED:20250527T101220Z
UID:113707-1749065400-1749074400@luxfordtheatretrips.co.uk
SUMMARY:Kinky Boots - Cliffs Pavilion - Ticket only
DESCRIPTION:The Broadway and West End sensation\, Kinky Boots The Musical\, is strutting back to Southend in a brand-new production starring Strictly Come Dancing’s Johannes Radebe and rising star Dan Partridge.  This joy-filled phenomenon\, based on a true story and hit movie\, features Tony® and Grammy® winning music and lyrics by pop icon Cyndi Lauper\, a hilarious and life-affirming book by Tony Award winner Harvey Fierstein and is directed by Nikolai Foster (The Wizard of Oz\, Grease and An Officer and a Gentleman). \nAfter inheriting his family’s failing shoe factory and with a relationship on the rocks\, life is proving to be very challenging for Charlie Price. That is until he meets Lola\, a drag queen whose sparkle and unsteady heels might just hold the answer to saving the struggling business. \nGuaranteed to RAISE YOU UP and celebrate everybody’s individuality\, don’t miss Kinky Boots the Musical.\nThere is no transport included with this ticket. Ticket will be emailed to you within 48 hours of purchase
URL:https://luxfordtheatretrips.co.uk/event/kinky-boots-cliffs-pavilion-ticket-only/
LOCATION:Cliffs Pavilion\, Station Road\, Southend on Sea\, SS0 7RA\, United Kingdom
CATEGORIES:Tickets Only
ORGANIZER;CN="Luxford Theatre Trips":MAILTO:info@luxfordtheatretrips.co.uk
END:VEVENT
END:VCALENDAR