BEGIN:VCALENDAR
VERSION:2.0
PRODID:-//Luxford Theatre Trips - ECPv6.15.20//NONSGML v1.0//EN
CALSCALE:GREGORIAN
METHOD:PUBLISH
X-ORIGINAL-URL:https://luxfordtheatretrips.co.uk
X-WR-CALDESC:Events for Luxford Theatre Trips
REFRESH-INTERVAL;VALUE=DURATION:PT1H
X-Robots-Tag:noindex
X-PUBLISHED-TTL:PT1H
BEGIN:VTIMEZONE
TZID:Europe/London
BEGIN:DAYLIGHT
TZOFFSETFROM:+0000
TZOFFSETTO:+0100
TZNAME:BST
DTSTART:20240331T010000
END:DAYLIGHT
BEGIN:STANDARD
TZOFFSETFROM:+0100
TZOFFSETTO:+0000
TZNAME:GMT
DTSTART:20241027T010000
END:STANDARD
BEGIN:DAYLIGHT
TZOFFSETFROM:+0000
TZOFFSETTO:+0100
TZNAME:BST
DTSTART:20250330T010000
END:DAYLIGHT
BEGIN:STANDARD
TZOFFSETFROM:+0100
TZOFFSETTO:+0000
TZNAME:GMT
DTSTART:20251026T010000
END:STANDARD
BEGIN:DAYLIGHT
TZOFFSETFROM:+0000
TZOFFSETTO:+0100
TZNAME:BST
DTSTART:20260329T010000
END:DAYLIGHT
BEGIN:STANDARD
TZOFFSETFROM:+0100
TZOFFSETTO:+0000
TZNAME:GMT
DTSTART:20261025T010000
END:STANDARD
END:VTIMEZONE
BEGIN:VEVENT
DTSTART;TZID=Europe/London:20250524T080000
DTEND;TZID=Europe/London:20250524T180000
DTSTAMP:20260420T234247
CREATED:20241121T150927Z
LAST-MODIFIED:20250304T105303Z
UID:110092-1748073600-1748109600@luxfordtheatretrips.co.uk
SUMMARY:Brighton - Day Trip
DESCRIPTION:What’s Brighton like in a nutshell?\nEver since royal party animal George IV fell in love with Brighton back in the 18th Century\, the city has been a magnet for visitors in search of fun\, frolics and fresh sea air. With its majestic Regency squares and crescents\, iconic Royal Pavilion and famous piers\, today Brighton is as well-known for being a welcoming and diverse city with a passion for culture\, creativity and sustainability as it is for its historic landmarks. \nWith art\, live music and entertainment on tap\, plus an ever-growing abundance of independent shops\, boutique hotels and award-winning restaurants\, what more could a city have to offer? Quite a lot\, it turns out! Apart from having eight miles of beach on its doorstep and being bang in the middle of a UNESCO World Biosphere Region. \nWe aim to arrive in Brighton in time for lunch and leave at 6pm. \nCoach pick up times; \nBroomfield\, The Angel bus stop OPPOSITE The Angel Main Road CM1 7AH – 0800hrs\nGreat Leighs\, Opposite The Castle\, Main Road\, CM3 1NE – 0815hrs\nGreat Notley\, Entrance to White Courts Estate\, Windermere Drive\, CM77 7UB – 0820hrs\nDunmow\, Opposite The Flitch House\, High Street\, CM6 1AE – 0840hrs\nTakeley\, Opposite The Four Ashes\, Dunmow Road\, CM22 6SB – 0845hrs
URL:https://luxfordtheatretrips.co.uk/event/brighton-day-trip/
LOCATION:Brighton\, Brighton\, BN1 1FN\, United Kingdom
CATEGORIES:Day Trip,Great Notley Route
ATTACH;FMTTYPE=image/png:https://luxfordtheatretrips.co.uk/wp-content/uploads/2024/11/Brighton-free-image.png
ORGANIZER;CN="Luxford Theatre Trips":MAILTO:info@luxfordtheatretrips.co.uk
END:VEVENT
BEGIN:VEVENT
DTSTART;TZID=Europe/London:20250524T080000
DTEND;TZID=Europe/London:20250524T180000
DTSTAMP:20260420T234247
CREATED:20241121T151625Z
LAST-MODIFIED:20250304T103928Z
UID:110098-1748073600-1748109600@luxfordtheatretrips.co.uk
SUMMARY:Brighton Day Trip
DESCRIPTION:What’s Brighton like in a nutshell?\nEver since royal party animal George IV fell in love with Brighton back in the 18th Century\, the city has been a magnet for visitors in search of fun\, frolics and fresh sea air. With its majestic Regency squares and crescents\, iconic Royal Pavilion and famous piers\, today Brighton is as well-known for being a welcoming and diverse city with a passion for culture\, creativity and sustainability as it is for its historic landmarks. \nWith art\, live music and entertainment on tap\, plus an ever-growing abundance of independent shops\, boutique hotels and award-winning restaurants\, what more could a city have to offer? Quite a lot\, it turns out! Apart from having eight miles of beach on its doorstep and being bang in the middle of a UNESCO World Biosphere Region. \nWe aim to arrive in Brighton in time for lunch and leave at 6pm. \nCoach pick up times; \nTiptree – Outside St Lukes Church\, Church Road Tiptree CO5 0HF – 0800hrs\nKelvedon – Bus stop opposite the post office\, High Street Kelvedon CO5 9AG –  0815hrs\nWitham – Bus stop opposite Paddy Power Newland Street Witham CM8 1AH – 0830hrs
URL:https://luxfordtheatretrips.co.uk/event/brighton-day-trip-2/
LOCATION:Brighton\, Brighton\, BN1 1FN\, United Kingdom
CATEGORIES:Day Trip,Tiptree Route,Witham Pick-up
ATTACH;FMTTYPE=image/png:https://luxfordtheatretrips.co.uk/wp-content/uploads/2024/11/Brighton-free-image.png
ORGANIZER;CN="Luxford Theatre Trips":MAILTO:info@luxfordtheatretrips.co.uk
END:VEVENT
END:VCALENDAR