BEGIN:VCALENDAR
VERSION:2.0
PRODID:-//Luxford Theatre Trips - ECPv6.15.20//NONSGML v1.0//EN
CALSCALE:GREGORIAN
METHOD:PUBLISH
X-ORIGINAL-URL:https://luxfordtheatretrips.co.uk
X-WR-CALDESC:Events for Luxford Theatre Trips
REFRESH-INTERVAL;VALUE=DURATION:PT1H
X-Robots-Tag:noindex
X-PUBLISHED-TTL:PT1H
BEGIN:VTIMEZONE
TZID:Europe/London
BEGIN:DAYLIGHT
TZOFFSETFROM:+0000
TZOFFSETTO:+0100
TZNAME:BST
DTSTART:20240331T010000
END:DAYLIGHT
BEGIN:STANDARD
TZOFFSETFROM:+0100
TZOFFSETTO:+0000
TZNAME:GMT
DTSTART:20241027T010000
END:STANDARD
BEGIN:DAYLIGHT
TZOFFSETFROM:+0000
TZOFFSETTO:+0100
TZNAME:BST
DTSTART:20250330T010000
END:DAYLIGHT
BEGIN:STANDARD
TZOFFSETFROM:+0100
TZOFFSETTO:+0000
TZNAME:GMT
DTSTART:20251026T010000
END:STANDARD
BEGIN:DAYLIGHT
TZOFFSETFROM:+0000
TZOFFSETTO:+0100
TZNAME:BST
DTSTART:20260329T010000
END:DAYLIGHT
BEGIN:STANDARD
TZOFFSETFROM:+0100
TZOFFSETTO:+0000
TZNAME:GMT
DTSTART:20261025T010000
END:STANDARD
END:VTIMEZONE
BEGIN:VEVENT
DTSTART;TZID=Europe/London:20250520T080000
DTEND;TZID=Europe/London:20250520T170000
DTSTAMP:20260420T234632
CREATED:20250520T090637Z
LAST-MODIFIED:20250520T090637Z
UID:113512-1747728000-1747760400@luxfordtheatretrips.co.uk
SUMMARY:Just For One Day - Ticket Only
DESCRIPTION:JUST FOR ONE DAY – The Live Aid Musical \nIt’s the encore you’ve been waiting for! Following a critically acclaimed\, sold-out run at The Old Vic\, JUST FOR ONE DAY – The Live Aid Musical is back for another day! Playing at the Shaftesbury Theatre from 15 May 2025\, get ready to relive the day that music brought the world together. \nWhat is JUST FOR ONE DAY – The Live Aid Musical about? \n‘We can be us\, just for one day’. \nOn 13 July 1985\, music united the world. \n40 years on\, discover the story of Live Aid in a whole new way — in London’s West End at JUST FOR ONE DAY – The Live Aid Musical.  \nThe show’s World Premiere production “blew the roof off the Old Vic” (Baz Bamigboye) in early 2024\, where it became the theatre’s fastest-selling musical ever. \nThis exhilarating night out “rocks in all the right ways” (WhatsOnStage)\, with hit songs by Bob Dylan\, David Bowie\, The Who\, U2\, Queen\, Madonna\, The Police\, Elton John\, Paul McCartney\, Diana Ross and more of the iconic artists who made history at simultaneous charitable concerts in London and Philadelphia. \nLive Aid was an unprecedented global music event that brought 1.5 billion people together\, and they all have a story to tell about ‘the day rock ‘n’ roll changed the world’. Whether you saw it live\, watched it from home or weren’t even born yet\, you won’t want to miss this “rip-roaring” (The Telegraph) and “remarkable” (Daily Mail) new musical written by John O’Farrell (Mrs. Doubtfire\, Something Rotten!) and directed by Luke Sheppard (& Juliet\, The Little Big Things). \nThere is no transport included with this ticket \nStalls row U
URL:https://luxfordtheatretrips.co.uk/event/just-for-one-day-ticket-only/
LOCATION:Shaftesbury Theatre\, 210 Shaftesbury Avenue\, London\, WC2H 8DP\, United Kingdom
CATEGORIES:Tickets Only
ATTACH;FMTTYPE=image/png:https://luxfordtheatretrips.co.uk/wp-content/uploads/2024/09/jfod-website.png
ORGANIZER;CN="Luxford Theatre Trips":MAILTO:info@luxfordtheatretrips.co.uk
END:VEVENT
END:VCALENDAR