BEGIN:VCALENDAR
VERSION:2.0
PRODID:-//Luxford Theatre Trips - ECPv6.15.20//NONSGML v1.0//EN
CALSCALE:GREGORIAN
METHOD:PUBLISH
X-WR-CALNAME:Luxford Theatre Trips
X-ORIGINAL-URL:https://luxfordtheatretrips.co.uk
X-WR-CALDESC:Events for Luxford Theatre Trips
REFRESH-INTERVAL;VALUE=DURATION:PT1H
X-Robots-Tag:noindex
X-PUBLISHED-TTL:PT1H
BEGIN:VTIMEZONE
TZID:Europe/London
BEGIN:DAYLIGHT
TZOFFSETFROM:+0000
TZOFFSETTO:+0100
TZNAME:BST
DTSTART:20240331T010000
END:DAYLIGHT
BEGIN:STANDARD
TZOFFSETFROM:+0100
TZOFFSETTO:+0000
TZNAME:GMT
DTSTART:20241027T010000
END:STANDARD
BEGIN:DAYLIGHT
TZOFFSETFROM:+0000
TZOFFSETTO:+0100
TZNAME:BST
DTSTART:20250330T010000
END:DAYLIGHT
BEGIN:STANDARD
TZOFFSETFROM:+0100
TZOFFSETTO:+0000
TZNAME:GMT
DTSTART:20251026T010000
END:STANDARD
BEGIN:DAYLIGHT
TZOFFSETFROM:+0000
TZOFFSETTO:+0100
TZNAME:BST
DTSTART:20260329T010000
END:DAYLIGHT
BEGIN:STANDARD
TZOFFSETFROM:+0100
TZOFFSETTO:+0000
TZNAME:GMT
DTSTART:20261025T010000
END:STANDARD
END:VTIMEZONE
BEGIN:VEVENT
DTSTART;TZID=Europe/London:20250511T183000
DTEND;TZID=Europe/London:20250511T223000
DTSTAMP:20260420T234032
CREATED:20240410T164138Z
LAST-MODIFIED:20250122T194258Z
UID:106232-1746988200-1747002600@luxfordtheatretrips.co.uk
SUMMARY:Mamma Mia The Party - Tiptree route
DESCRIPTION:A LOVE STORY\, SET IN A GREEK TAVERNA \nStep onto Skopelos and discover a blossoming new story\, with an English book by comedian Sandi Toksvig. Meet Nikos\, Kate\, Adam\, and Konstantina as they navigate family life in the taverna\, all as the sun sets over the Mediterranean. Find yourself lost in a fabulous world as a warm\, romantic and funny story is performed all around you. Explore the glorious decor\, which served as the backdrop to the iconic movies\, and now dazzles guests. \nIncludes executive coach transport\, welcome drink\, 4 course meal and a 3 hour show. \nThe venue advertise an after show disco 10pm to 11pm. From previous visits we have come to realise this is piped music rather than a disco with dancing mainly at your tables and the place starts to empty quite quickly. With this in mind we will stay for a couple of dances then the coach will leave at 1030pm. \nTiptree – The Centre Bus stop\, Church Road Tiptree CO5 0HF – 1440hrs\nKelvedon – Bus stop opposite the post office\, High Street Kelvedon CO5 9AG –  1500hrs\nWitham – Bus stop opposite Paddy Power Newland Street Witham CM8 1AH – 1520hrs
URL:https://luxfordtheatretrips.co.uk/event/mamma-mia-the-party-3/
LOCATION:The O2\, Peninsula Square\, London\, SE10 0DX\, United Kingdom
CATEGORIES:Musical,Tiptree Route,Witham Pick-up
ATTACH;FMTTYPE=image/png:https://luxfordtheatretrips.co.uk/wp-content/uploads/2023/04/MMTP-for-website.png
ORGANIZER;CN="Luxford Theatre Trips":MAILTO:info@luxfordtheatretrips.co.uk
END:VEVENT
END:VCALENDAR