BEGIN:VCALENDAR
VERSION:2.0
PRODID:-//Luxford Theatre Trips - ECPv6.15.20//NONSGML v1.0//EN
CALSCALE:GREGORIAN
METHOD:PUBLISH
X-ORIGINAL-URL:https://luxfordtheatretrips.co.uk
X-WR-CALDESC:Events for Luxford Theatre Trips
REFRESH-INTERVAL;VALUE=DURATION:PT1H
X-Robots-Tag:noindex
X-PUBLISHED-TTL:PT1H
BEGIN:VTIMEZONE
TZID:Europe/London
BEGIN:DAYLIGHT
TZOFFSETFROM:+0000
TZOFFSETTO:+0100
TZNAME:BST
DTSTART:20240331T010000
END:DAYLIGHT
BEGIN:STANDARD
TZOFFSETFROM:+0100
TZOFFSETTO:+0000
TZNAME:GMT
DTSTART:20241027T010000
END:STANDARD
BEGIN:DAYLIGHT
TZOFFSETFROM:+0000
TZOFFSETTO:+0100
TZNAME:BST
DTSTART:20250330T010000
END:DAYLIGHT
BEGIN:STANDARD
TZOFFSETFROM:+0100
TZOFFSETTO:+0000
TZNAME:GMT
DTSTART:20251026T010000
END:STANDARD
BEGIN:DAYLIGHT
TZOFFSETFROM:+0000
TZOFFSETTO:+0100
TZNAME:BST
DTSTART:20260329T010000
END:DAYLIGHT
BEGIN:STANDARD
TZOFFSETFROM:+0100
TZOFFSETTO:+0000
TZNAME:GMT
DTSTART:20261025T010000
END:STANDARD
END:VTIMEZONE
BEGIN:VEVENT
DTSTART;TZID=Europe/London:20250507T200000
DTEND;TZID=Europe/London:20250507T223000
DTSTAMP:20260420T234037
CREATED:20240829T143100Z
LAST-MODIFIED:20250502T124055Z
UID:108678-1746648000-1746657000@luxfordtheatretrips.co.uk
SUMMARY:& Juliet Cliffs Pavillion
DESCRIPTION:There is life after Romeo! \nGet whisked away on a fabulous journey as Juliet ditches her famous ending for a fresh beginning and a second chance at life and love—her way. Created by the Emmy-winning writer from “Schitt’s Creek\,” this hilarious new musical flips the script on the greatest love story ever told and asks\, what would happen next if Juliet didn’t end it all over Romeo?\nAfter a phenomenal run in London’s West End\, & JULIET is heading on a national tour. Picking up three Olivier Awards and six WhatsOnStage Awards\, & JULIET will have the audience up on its feet and ROARING for more.  \nJuliet’s new story bursts to life through a playlist of pop anthems as iconic as her name\, including Britney Spear’s …Baby One More Time\, Katy Perry’s Roar and chart toppers Since U Been Gone\, It’s My Life\, I Want It That Way\, and Can’t Stop the Feeling!— all from Max Martin\, the genius songwriter/producer behind more #1 hits than any other artist this century\, and his collaborators. Break free of the balcony scene and get into this romantic comedy that proves there’s life after Romeo. The only thing tragic would be missing it. \nThe show begins at 8pm\, we aim to arrive around 6pm to allow time for dinner. There are a few restaurants in the vicinity which we advise booking in advance. \nCoach pick up \nDunmow\, Opposite The Flitch House\, High Street\, CM6 1AE – 1630hrs\nGreat Notley\, Entrance to White Courts Estate\, Windermere Drive\, CM77 7UB –\n1650hrs\nGreat Leighs\, Opposite The Castle\, Main Road\, CM3 1NE – 1700hrs\nBroomfield\, Outside the Angel\, Main Road CM1 7AH – 1715hrs
URL:https://luxfordtheatretrips.co.uk/event/juliet-cliffs-pavillion/
LOCATION:Cliffs Pavilion\, Station Road\, Southend on Sea\, SS0 7RA\, United Kingdom
CATEGORIES:Great Notley Route,Musical
ORGANIZER;CN="Luxford Theatre Trips":MAILTO:info@luxfordtheatretrips.co.uk
END:VEVENT
BEGIN:VEVENT
DTSTART;TZID=Europe/London:20250507T200000
DTEND;TZID=Europe/London:20250507T223000
DTSTAMP:20260420T234037
CREATED:20250308T105810Z
LAST-MODIFIED:20250308T105810Z
UID:112346-1746648000-1746657000@luxfordtheatretrips.co.uk
SUMMARY:& Juliet - Ticket Only
DESCRIPTION:There is life after Romeo! \nGet whisked away on a fabulous journey as Juliet ditches her famous ending for a fresh beginning and a second chance at life and love—her way. Created by the Emmy-winning writer from “Schitt’s Creek\,” this hilarious new musical flips the script on the greatest love story ever told and asks\, what would happen next if Juliet didn’t end it all over Romeo?\nAfter a phenomenal run in London’s West End\, & JULIET is heading on a national tour. Picking up three Olivier Awards and six WhatsOnStage Awards\, & JULIET will have the audience up on its feet and ROARING for more.  \nJuliet’s new story bursts to life through a playlist of pop anthems as iconic as her name\, including Britney Spear’s …Baby One More Time\, Katy Perry’s Roar and chart toppers Since U Been Gone\, It’s My Life\, I Want It That Way\, and Can’t Stop the Feeling!— all from Max Martin\, the genius songwriter/producer behind more #1 hits than any other artist this century\, and his collaborators. Break free of the balcony scene and get into this romantic comedy that proves there’s life after Romeo. The only thing tragic would be missing it.
URL:https://luxfordtheatretrips.co.uk/event/juliet-ticket-only/
LOCATION:Cliffs Pavilion\, Station Road\, Southend on Sea\, SS0 7RA\, United Kingdom
CATEGORIES:Musical,Tickets Only
ORGANIZER;CN="Luxford Theatre Trips":MAILTO:info@luxfordtheatretrips.co.uk
END:VEVENT
END:VCALENDAR