BEGIN:VCALENDAR
VERSION:2.0
PRODID:-//Luxford Theatre Trips - ECPv6.15.20//NONSGML v1.0//EN
CALSCALE:GREGORIAN
METHOD:PUBLISH
X-WR-CALNAME:Luxford Theatre Trips
X-ORIGINAL-URL:https://luxfordtheatretrips.co.uk
X-WR-CALDESC:Events for Luxford Theatre Trips
REFRESH-INTERVAL;VALUE=DURATION:PT1H
X-Robots-Tag:noindex
X-PUBLISHED-TTL:PT1H
BEGIN:VTIMEZONE
TZID:Europe/London
BEGIN:DAYLIGHT
TZOFFSETFROM:+0000
TZOFFSETTO:+0100
TZNAME:BST
DTSTART:20240331T010000
END:DAYLIGHT
BEGIN:STANDARD
TZOFFSETFROM:+0100
TZOFFSETTO:+0000
TZNAME:GMT
DTSTART:20241027T010000
END:STANDARD
BEGIN:DAYLIGHT
TZOFFSETFROM:+0000
TZOFFSETTO:+0100
TZNAME:BST
DTSTART:20250330T010000
END:DAYLIGHT
BEGIN:STANDARD
TZOFFSETFROM:+0100
TZOFFSETTO:+0000
TZNAME:GMT
DTSTART:20251026T010000
END:STANDARD
BEGIN:DAYLIGHT
TZOFFSETFROM:+0000
TZOFFSETTO:+0100
TZNAME:BST
DTSTART:20260329T010000
END:DAYLIGHT
BEGIN:STANDARD
TZOFFSETFROM:+0100
TZOFFSETTO:+0000
TZNAME:GMT
DTSTART:20261025T010000
END:STANDARD
END:VTIMEZONE
BEGIN:VEVENT
DTSTART;TZID=Europe/London:20250501T193000
DTEND;TZID=Europe/London:20250501T220000
DTSTAMP:20260420T233930
CREATED:20240917T113903Z
LAST-MODIFIED:20250122T192646Z
UID:108975-1746127800-1746136800@luxfordtheatretrips.co.uk
SUMMARY:Clueless
DESCRIPTION:CLUELESS is a new musical comedy based on the Paramount Pictures classic film. The modern spin on Jane Austen’s Emma gets another timeless makeover from the original film’s writer-director alongside a majorly acclaimed creative team. \nCher Horowitz is the most popular student at Beverly Hills High\, renowned for her unique talent at finding love for others. She’s about to embark on her biggest project yet – making over her awkward new friend\, Tai\, and setting her up with the most handsome boy in school. But what happens to Cher when\, for the first time\, everything is not perfect? This fresh musical comedy is fun\, fashionable\, and\, like\, so way cool. \nFeaturing a book by the iconic voice of a generation Amy Heckerling (writer-director of Clueless\, director of Fast Times at Ridgemont High)\, an original score by the multi-platinum singer-songwriter KT Tunstall (writer and performer of such celebrated hits as “Suddenly I See” and “Black Horse and The Cherry Tree”)\, and lyrics by Grammy® winner and three-time Tony® nominee Glenn Slater (Sister Act The Musical\, Tangled)\, CLUELESS is directed by the acclaimed Rachel Kavanaugh (Chichester Festival Theatre\, Regent’s Park Open Air Theatre) with choreography by Olivier Award® winner Kelly Devine (Come From Away). \nAge restriction to be confirmed. \nCoach pick up \nBroomfield\, The Angel bus stop OPPOSITE The Angel Main Road CM1 7AH – 1440hrs\nGreat Leighs\, Opposite The Castle\, Main Road\, CM3 1NE – 1450hrs\nGreat Notley\, Entrance to White Courts Estate\, Windermere Drive\, CM77 7UB – 1500hrs\nDunmow\, Opposite The Flitch House\, High Street\, CM6 1AE – 1520hrs\nTakeley\, Opposite The Four Ashes\, Dunmow Road\, CM22 6SB – 1530hrs
URL:https://luxfordtheatretrips.co.uk/event/clueless/
LOCATION:Trafalgar Theatre\, 14 Whitehall\, London\, SW1A 2DY\, United Kingdom
CATEGORIES:Great Notley Route,Musical
ORGANIZER;CN="Luxford Theatre Trips":MAILTO:info@luxfordtheatretrips.co.uk
END:VEVENT
END:VCALENDAR