BEGIN:VCALENDAR
VERSION:2.0
PRODID:-//Luxford Theatre Trips - ECPv6.15.20//NONSGML v1.0//EN
CALSCALE:GREGORIAN
METHOD:PUBLISH
X-WR-CALNAME:Luxford Theatre Trips
X-ORIGINAL-URL:https://luxfordtheatretrips.co.uk
X-WR-CALDESC:Events for Luxford Theatre Trips
REFRESH-INTERVAL;VALUE=DURATION:PT1H
X-Robots-Tag:noindex
X-PUBLISHED-TTL:PT1H
BEGIN:VTIMEZONE
TZID:Europe/London
BEGIN:DAYLIGHT
TZOFFSETFROM:+0000
TZOFFSETTO:+0100
TZNAME:BST
DTSTART:20240331T010000
END:DAYLIGHT
BEGIN:STANDARD
TZOFFSETFROM:+0100
TZOFFSETTO:+0000
TZNAME:GMT
DTSTART:20241027T010000
END:STANDARD
BEGIN:DAYLIGHT
TZOFFSETFROM:+0000
TZOFFSETTO:+0100
TZNAME:BST
DTSTART:20250330T010000
END:DAYLIGHT
BEGIN:STANDARD
TZOFFSETFROM:+0100
TZOFFSETTO:+0000
TZNAME:GMT
DTSTART:20251026T010000
END:STANDARD
BEGIN:DAYLIGHT
TZOFFSETFROM:+0000
TZOFFSETTO:+0100
TZNAME:BST
DTSTART:20260329T010000
END:DAYLIGHT
BEGIN:STANDARD
TZOFFSETFROM:+0100
TZOFFSETTO:+0000
TZNAME:GMT
DTSTART:20261025T010000
END:STANDARD
END:VTIMEZONE
BEGIN:VEVENT
DTSTART;TZID=Europe/London:20250305T193000
DTEND;TZID=Europe/London:20250305T220000
DTSTAMP:20260421T031824
CREATED:20240810T174939Z
LAST-MODIFIED:20241103T172519Z
UID:108274-1741203000-1741212000@luxfordtheatretrips.co.uk
SUMMARY:Come Alive - Greatest Showman - Evening
DESCRIPTION:Come Alive! The Greatest Showman Circus Spectacular is a brand new entertainment show that is based on and inspired by the movie musical The Greatest Showman. \nPromising to be an eye-popping theatrical spectacle\, Come Alive! will mix circus\, entertainment and musical into one thrilling show. \nThe show is inspired by the 2017 movie that starred Hugh Jackman\, Michelle Williams\, Zac Efron and Zendaya\, and is fully approved by the makers of the movie\, including 20th Century Studios and Disney. \nCome Alive! will be a fully-staged theatrical show and an immersive circus landscape\, with an experienced creative team and a huge cast of talented performers. \nCoach pick up \nWitham – Bus stop outside Paddy Power Newland Street Witham CM8 1AH – 1440hrs\nGreat Notley\, Entrance to White Courts Estate\, Windermere Drive\, CM77 7UB – 1500hrs\nDunmow\, Opposite The Flitch House\, High Street\, CM6 1AE – 1520hrs\nTakeley\, Opposite The Four Ashes\, Dunmow Road\, CM22 6SB – 1530hrs
URL:https://luxfordtheatretrips.co.uk/event/come-alive-greatest-showman-evening/
LOCATION:Empress Place\, London\, SW6 1TT\, United Kingdom
CATEGORIES:Great Notley Route,Musical,Witham Pick-up
ATTACH;FMTTYPE=image/png:https://luxfordtheatretrips.co.uk/wp-content/uploads/2024/08/Come-alive.png
ORGANIZER;CN="Luxford Theatre Trips":MAILTO:info@luxfordtheatretrips.co.uk
END:VEVENT
END:VCALENDAR